Workbook

Sheet Zoznam príloh ŠZÚ za rok 2021
B2: Zoznam príloh Návrhu štátneho zaverečného účtu Slovenskej republiky za rok 2021
B4: Tab. č. 1 | C4: Bilancia príjmov a výdavkov štátneho rozpočtu za rok 2021
B5: Tab. č. 2 | C5: Daňové príjmy štátneho rozpočtu za rok 2021
B6: Tab. č. 3 | C6: Nedaňové príjmy štátneho rozpočtu, granty a transfery za rok 2021
B7: Tab. č. 4 | C7: Príjmy kapitol ŠR za rok 2020 – záväzné ukazovatele
B8: Tab. č. 5 | C8: Nedaňové príjmy štátneho rozpočtu podľa kapitol ŠR za rok 2021
B9: Tab. č. 6 | C9: Príjmy štátneho rozpočtu podľa zdrojov v roku 2021
B10: Tab. č. 7 | C10: Výdavky štátneho rozpočtu podľa kategórií a kapitol ŠR za rok 2021
B11: Tab. č. 8 | C11: Bežné transfery za rok 2021
B12: Tab. č. 9 | C12: Kapitálové výdavky za rok 2021
B13: Tab. č. 10 | C13: Finančné operácie na samostatných účtoch štátnych rozpočtových organizácií za rok 2021
B14: Tab. č. 11 | C14: Výdavky štátneho rozpočtu podľa funkčnej klasifikácie za rok 2021
B15: Tab. č. 12 | C15: Výdavky štátneho rozpočtu podľa kapitol ŠR a zdrojov v roku 2021
... B35: Tab. č. 32 | C35: Finančné operácie štátnych príspevkových organizácií za rok 2021

Sheet Tab. č. 1
F1: Tabuľka: 1
F2: Strana: 1
A3: Bilancia príjmov a výdavkov štátneho rozpočtu za rok 2021
A4: (v tis. eur)
B6: Ukazovateľ | C6: Schválený rozpočet | D6: Upravený rozpočet | E6: Skutočnosť | F6: % k upravenému rozpočtu
A8: I. | B8: PRÍJMY spolu | C8: 15806153 | D8: 15329006 | E8: 17197298 | F8: 112.18795
A9: A. | B9: Daňové príjmy | C9: 11798851 | D9: 11798851 | E9: 13546039 | F9: 114.80812
A10: 1. | B10: Dane z príjmov a kapitálového majetku | C10: 2089143 | D10: 2089143 | E10: 3167002 | F10: 151.59336
B11: v tom: - daň z príjmov fyzickej osoby | C11: 36310 | D11: 36310 | E11: 17876 | F11: 49.231617
B12: v tom: - zo závislej činnosti | C12: 36269 | D12: 36269 | E12: 3304281 | F12: 9110.4828
B13: - z podnikania, z inej samostatnej zárobkovej činnosti a z prenájmu | C13: 41 | D13: 41 | E13: 41410 | F13: 101000
B14: - výnos dane z príjmov poukázaný územnej samospráve | C14: 0 | D14: 0 | E14: -3277965 | F14: 0
B15: - prevod podielu dane z príjmov fyzických osôb na osobitný účel | C15: 0 | D15: 0 | E15: -49850 | F15: 0
B16: - daň z príjmov právnickej osoby | C16: 1813344 | D16: 1813344 | E16: 2859372 | F16: 157.68503
B17: - daň z príjmov vyberaná zrážkou | C17: 239489 | D17: 239489 | E17: 289754 | F17: 120.98844
A18: 2. | B18: Dane z majetku | C18: 0 | D18: 0 | E18: 11 | F18: 0
A19: 3. | B19: Dane za tovary a služby | C19: 9670170 | D19: 9670170 | E19: 10327344 | F19: 106.79589
B20: v tom: - daň z pridanej hodnoty | C20: 7038792 | D20: 7038792 | E20: 7760691 | F20: 110.25601
B21: - spotrebné dane | C21: 2438989 | D21: 2438989 | E21: 2369823 | F21: 97.164153
B22: - dane z používania tovarov a z povolenia na výkon činnosti | C22: 113194 | D22: 113194 | E22: 117265 | F22: 103.59648
B23: - iné dane za tovary a služby | C23: 79195 | D23: 79195 | E23: 79565 | F23: 100.4672
A24: 4. | B24: Dane z medzinárodného obchodu a transakcií | C24: 23960 | D24: 23960 | E24: 28735 | F24: 119.92905
B25: z toho: - podiel na vybraných finančných prostriedkoch | C25: 23960 | D25: 23960 | E25: 28724 | F25: 119.88314
A26: 5. | B26: Sankcie uložené v daňovom konaní a sankcie súvis.s úhrad.za služby verej.poskytov.Rozhlasom a tel. | C26: 15578 | D26: 15578 | E26: 22947 | F26: 147.30389
A27: 6. | B27: Iné dane (dane z emisných kvót) | C27: 0 | D27: 0 | E27: 0 | F27: 0
A28: B. | B28: Nedaňové príjmy | C28: 1183849 | D28: 1183455 | E28: 1338320 | F28: 113.08584
A29: 1. | B29: Príjmy z podnikania a z vlastníctva majetku | C29: 429278 | D29: 428307 | E29: 486010 | F29: 113.47235
A30: 2. | B30: Administratívne poplatky a iné poplatky a platby | C30: 351319 | D30: 332928 | E30: 354592 | F30: 106.50711
A31: 3. | B31: Kapitálové príjmy | C31: 23707 | D31: 29366 | E31: 13703 | F31: 46.662807
A32: 4. | B32: Úroky z tuzemských a zahraničných úverov, pôžičiek, návrat.finan.výpomocí, vkladov a ážio | C32: 6490 | D32: 6490 | E32: 7055 | F32: 108.7057
A33: 5. | B33: Iné nedaňové príjmy | C33: 373055 | D33: 386364 | E33: 476960 | F33: 123.44835
A34: C. | B34: Granty a transfery | C34: 2823453 | D34: 2346700 | E34: 2312939 | F34: 98.561341
B35: v tom: - tuzemské granty a transfery | C35: 40921 | D35: 40888 | E35: 38946 | F35: 95.25044
B36: - zahraničné granty a transfery | C36: 2782532 | D36: 2305812 | E36: 2273993 | F36: 98.620052
B37: z toho: - prostriedky z rozpočtu EÚ | C37: 2782532 | D37: 2305812 | E37: 2273990 | F37: 98.619922
A38: II. | B38: VÝDAVKY spolu | C38: 27603808 | D38: 25736061 | E38: 24211424 | F38: 94.075873
A39: A. | B39: Bežné výdavky | C39: 24697596 | D39: 23293537 | E39: 21771263 | F39: 93.464822
A40: 1. | B40: Mzdy, platy, služobné príjmy a ostatné osobné vyrovnania | C40: 2499334 | D40: 2667022 | E40: 2624189 | F40: 98.393977
A41: 2. | B41: Poistné a príspevok do poisťovní | C41: 887037 | D41: 966433 | E41: 953727 | F41: 98.685268
A42: 3. | B42: Tovary a služby | C42: 8052253 | D42: 2652298 | E42: 2358052 | F42: 88.905998
...

Sheet Tab. č. 2
A1: Štátna pokladnica | G1: Tabuľka: 2
A2: 44644 | G2: Strana: 1
A3: Daňové príjmy štátneho rozpočtu za rok 2021
B4: (v tis. eur)
A6: Kód EK | B6: Ukazovateľ | C6: Skutočnosť 2020 | D6: Schválený rozpočet 2021 | E6: Upravený rozpočet 2021 | F6: Skutočnosť 2021 | G6: % k upravenému rozpočtu
D7: Schválený rozpočet 2010
A9: 110 | B9: Dane z príjmov a kapitálového majetku | C9: 2558573 | D9: 2089143 | E9: 2089143 | F9: 3167002 | G9: 151.59336
A10: 111 | B10: Daň z príjmov fyzickej osoby | C10: -26068 | D10: 36310 | E10: 36310 | F10: 17876 | G10: 49.231617
A11: v tom: 111001 | B11: Zo závislej činnosti | C11: 3090068 | D11: 36269 | E11: 36269 | F11: 3304281 | G11: 9110.4828
A12: 111002 | B12: Z podnikania, z inej samostatnej zárobkovej činnosti a z prenájmu | C12: 52631 | D12: 41 | E12: 41 | F12: 41410 | G12: 101000
A13: 111003 | B13: Výnos dane z príjmov poukázaný územnej samospráve | C13: -3146223 | D13: 0 | E13: 0 | F13: -3277965 | G13: 0
A14: 111004 | B14: Prevod podielu dane z príjmov fyzických osôb na osobitný účel | C14: -22544 | D14: 0 | E14: 0 | F14: -49850 | G14: 0
A15: 112 | B15: Daň z príjmov právnickej osoby | C15: 2349560 | D15: 1813344 | E15: 1813344 | F15: 2859372 | G15: 157.68503
A16: z toho: 112001 | B16: Prevod podielu dane z príjmov právnických osôb na osobitný účel | C16: -30847 | D16: 1813344 | E16: 1813344 | F16: -37341 | G16: -2.0592342
A17: 113 | B17: Daň z príjmov vyberaná zrážkou | C17: 235081 | D17: 239489 | E17: 239489 | F17: 289754 | G17: 120.98844
A18: 120 | B18: Dane z majetku | C18: 5 | D18: 0 | E18: 0 | F18: 11 | G18: 0
A19: 122 | B19: Dane z dedičstva a darovania | C19: 0 | D19: 0 | E19: 0 | F19: 0 | G19: 0
A20: 123 | B20: Dane z finančných a kapitálových transakcií | C20: 5 | D20: 0 | E20: 0 | F20: 11 | G20: 0
A21: v tom: 123001 | B21: Z prevodu a prechodu nehnuteľností | C21: 5 | D21: 0 | E21: 0 | F21: 11 | G21: 0
A22: 130 | B22: Dane za tovary a služby | C22: 9268251 | D22: 9670170 | E22: 9670170 | F22: 10327344 | G22: 106.79589
A23: 131 | B23: Daň z pridanej hodnoty | C23: 6791757 | D23: 7038792 | E23: 7038792 | F23: 7760691 | G23: 110.25601
A24: 132 | B24: Spotrebné dane | C24: 2257738 | D24: 2438989 | E24: 2438989 | F24: 2369823 | G24: 97.164153
A25: 132001 | B25: Z minerálneho oleja | C25: 1199259 | D25: 1269234 | E25: 1269234 | F25: 1236780 | G25: 97.443025
A26: 132003 | B26: Z liehu | C26: 206554 | D26: 210227 | E26: 210227 | F26: 214776 | G26: 102.16385
A27: 132005 | B27: Z piva | C27: 56929 | D27: 58991 | E27: 58991 | F27: 55317 | G27: 93.771931
A28: 132007 | B28: Z vína | C28: 4814 | D28: 4741 | E28: 4741 | F28: 5146 | G28: 108.5425
A29: 132009 | B29: Z tabakových výrobkov | C29: 754285 | D29: 860266 | E29: 860266 | F29: 823106 | G29: 95.680406
A30: 132011 | B30: Z elektriny | C30: 11876 | D30: 11703 | E30: 11703 | F30: 10058 | G30: 85.943775
A31: 132012 | B31: Z uhlia | C31: 275 | D31: 212 | E31: 212 | F31: 271 | G31: 127.83019
A32: 132013 | B32: Zo zemného plynu | C32: 23746 | D32: 23615 | E32: 23615 | F32: 24369 | G32: 103.19289
A33: 134 | B33: Dane z používania tovarov a z povolenia na výkon činnosti | C33: 141232 | D33: 113194 | E33: 113194 | F33: 117265 | G33: 103.59648
A34: z toho: 134001 | B34: Z úhrad za dobývací priestor | C34: 85 | D34: 99 | E34: 99 | F34: 82 | G34: 82.828283
A35: 134002 | B35: Z motorových vozidiel | C35: 141147 | D35: 113095 | E35: 113095 | F35: 117183 | G35: 103.61466
A36: 139 | B36: Iné dane za tovary a služby | C36: 77524 | D36: 79195 | E36: 79195 | F36: 79565 | G36: 100.4672
A37: 140 | B37: Dane z medzinárodného obchodu a transakcií | C37: 19904 | D37: 23960 | E37: 23960 | F37: 28735 | G37: 119.92905
A38: 141 | B38: Dovozné clo | C38: 16 | D38: 0 | E38: 0 | F38: 10 | G38: 0
A39: 142 | B39: Dovozná prirážka | C39: 0 | D39: 0 | E39: 0 | F39: 1 | G39: 0
A40: 143 | B40: Podiel na vybraných finančných prostriedkoch | C40: 19888 | D40: 23960 | E40: 23960 | F40: 28724 | G40: 119.88314
A41: 149 | B41: Ostatné colné príjmy | C41: 0 | D41: 0 | E41: 0 | F41: 0 | G41: 0
A42: 160 | B42: Sankcie uložené v daň. konaní a sankcie súvisiace s úhrad. za služby verej. poskytov. Rozhlasom a televízou Slovenska | C42: 20007 | D42: 15578 | E42: 15578 | F42: 22947 | G42: 147.30389
...

Sheet Tab. č. 3
G1: Tabuľka: 3
G2: Strana: 1
A3: Nedaňové príjmy štátneho rozpočtu, granty a transfery za rok 2021
B4: (v tis. eur)
A6: Kód EK | B6: Ukazovateľ | C6: Skutočnosť 2020 | D6: Schválený rozpočet 2021 | E6: Upravený rozpočet 2021 | F6: Skutočnosť 2021 | G6: % k upravenému rozpočtu
D7: Schválený rozpočet 2010
A9: 210 | B9: Príjmy z podnikania a z vlastníctva majetku | C9: 434266 | D9: 429278 | E9: 428307 | F9: 486010 | G9: 113.47235
A10: 211 | B10: Príjmy z podnikania | C10: 428738 | D10: 423978 | E10: 423979 | F10: 480820 | G10: 113.40656
A11: v tom: 211003 | B11: Dividendy | C11: 428129 | D11: 423515 | E11: 423515 | F11: 480226 | G11: 113.39055
A12: 211004 | B12: Iné príjmy z podnikania | C12: 609 | D12: 463 | E12: 464 | F12: 594 | G12: 128.01724
A13: 212 | B13: Príjmy z vlastníctva | C13: 5528 | D13: 5300 | E13: 4328 | F13: 5190 | G13: 119.91682
A14: 220 | B14: Administratívne poplatky a iné poplatky a platby | C14: 387962 | D14: 351319 | E14: 332928 | F14: 354592 | G14: 106.50711
A15: 221 | B15: Administratívne poplatky | C15: 219408 | D15: 229386 | E15: 228792 | F15: 219202 | G15: 95.80842
A16: v tom: 221001 | B16: Súdne poplatky | C16: 26986 | D16: 5 | E16: 14 | F16: 29917 | G16: 213692.86
A17: 221002 | B17: Tržby z predaja kolkových známok | C17: 0 | D17: 0 | E17: 0 | F17: 0 | G17: 0
A18: 221003 | B18: Puncové poplatky | C18: 613 | D18: 1218 | E18: 693 | F18: 693 | G18: 100
A19: 221004 | B19: Ostatné poplatky | C19: 191809 | D19: 228063 | E19: 227985 | F19: 188592 | G19: 82.721232
A20: 221005 | B20: Licencie | C20: 0 | D20: 100 | E20: 100 | F20: 0 | G20: 0
A21: 222 | B21: Pokuty, penále a iné sankcie | C21: 56751 | D21: 65471 | E21: 53650 | F21: 56438 | G21: 105.19664
A22: 223 | B22: Poplatky a platby z nepriemyselného a náhodného predaja a služieb | C22: 111803 | D22: 56462 | E22: 50486 | F22: 78952 | G22: 156.38395
A23: 230 | B23: Kapitálové príjmy | C23: 12436 | D23: 23707 | E23: 29366 | F23: 13703 | G23: 46.662807
A24: 240 | B24: Úroky z tuzemských úverov, pôžičiek, návratných finančných výpomocí, vkladov a ážio | C24: 8883 | D24: 6486 | E24: 6486 | F24: 7054 | G24: 108.75732
A25: 250 | B25: Úroky zo zahraničných úverov, pôžičiek, návratných finančných výpomocí a vkladov | C25: 0 | D25: 4 | E25: 4 | F25: 1 | G25: 25
A26: 290 | B26: Iné nedaňové príjmy | C26: 453079 | D26: 373055 | E26: 386364 | F26: 476960 | G26: 123.44835
A27: 291 | B27: Vrátené neoprávnene použité alebo zadržané finančné prostriedky | C27: 20795 | D27: 324 | E27: 4301 | F27: 61341 | G27: 1426.2032
A28: 292 | B28: Ostatné príjmy | C28: 432284 | D28: 372731 | E28: 382063 | F28: 415619 | G28: 108.78284
A29: z toho: 292006 | B29: Z náhrad z poistného plnenia | C29: 1527 | D29: 1135 | E29: 1111 | F29: 1287 | G29: 115.84158
A30: 292008 | B30: Z odvodov z hazardných hier a iných podobných hier | C30: 212590 | D30: 250000 | E30: 250000 | F30: 220131 | G30: 88.0524
B31: Ostatné | C31: 218167 | D31: 121596 | E31: 130952 | F31: 194201 | G31: 148.29938
A32: 200 | B32: Nedaňové príjmy spolu | C32: 1296626 | D32: 1183849 | E32: 1183455 | F32: 1338320 | G32: 113.08584
A33: 300 | B33: Granty a tranfery | C33: 2588586 | D33: 2823453 | E33: 2346700 | F33: 2312939 | G33: 98.561341

Sheet Tab. č. 4
G1: Tabuľka: 4
G2: Strana: 1
A3: Príjmy kapitol ŠR za rok 2021 - záväzné ukazovatele
A4: (v tis. eur)
A7: Kapitola štátneho rozpočtu | B7: Príjmy - záväzný ukazovateľ | E7: Prostriedky z rozpočtu EÚ
B8: Rozpočet | C8: Skutočnosť | D8: % plnenia | E8: Rozpočet | F8: Skutočnosť | G8: % plnenia
A9: Kancelária Národnej rady SR | B9: 1400 | C9: 976 | D9: =SUM(C9*100/B9) -> 69.714286
A10: Kancelária prezidenta SR | B10: 10 | C10: 13 | D10: =SUM(C10*100/B10) -> 130
A11: Úrad vlády SR | B11: 700 | C11: 392 | D11: =SUM(C11*100/B11) -> 56 | E11: 24618 | F11: 0 | G11: x
A12: Ministerstvo investícií, reg.rozoja a informatizácie SR | C12: 197 | D12: x | E12: 0 | F12: 289038 | G12: x
A13: Kancelária Ústavného súdu SR | B13: 10 | C13: 8 | D13: =SUM(C13*100/B13) -> 80
A14: Kancelária Najvyššieho súdu SR | B14: 10 | C14: 14 | D14: =SUM(C14*100/B14) -> 140
A15: Generálna prokuratúra SR | B15: 500 | C15: 332 | D15: =SUM(C15*100/B15) -> 66.4
A16: Najvyšší kontrolný úrad SR | B16: 20 | C16: 11 | D16: =SUM(C16*100/B16) -> 55
A17: Slovenská informačná služba | B17: 200 | C17: 97 | D17: =SUM(C17*100/B17) -> 48.5
A18: Ministerstvo zahraničných vecí a európskych záležitostí SR | B18: 4300 | C18: 3678 | D18: =SUM(C18*100/B18) -> 85.534884
A19: Ministerstvo obrany SR | B19: 5000 | C19: 4779 | D19: =SUM(C19*100/B19) -> 95.58
A20: Ministerstvo vnútra SR | B20: 60000 | C20: 57330 | D20: =SUM(C20*100/B20) -> 95.55 | E20: 131398 | F20: 142671 | G20: =SUM(F20*100/E20) -> 108.57928
A21: Ministerstvo spravodlivosti SR | B21: 18248 | C21: 25599 | D21: =SUM(C21*100/B21) -> 140.28387
A22: Ministerstvo financií SR | B22: 38630 | C22: 41012 | D22: =SUM(C22*100/B22) -> 106.16619 | E22: 61874 | F22: 0 | G22: x
A23: Ministerstvo životného prostredia SR | B23: 350 | C23: 289 | D23: =SUM(C23*100/B23) -> 82.571429 | E23: 384829 | F23: 279474 | G23: =SUM(F23*100/E23) -> 72.622905
A24: Ministerstvo školstva, vedy, výskumu a športu SR | B24: 500 | C24: 514 | D24: =SUM(C24*100/B24) -> 102.8 | E24: 107005 | F24: 126407 | G24: =SUM(F24*100/E24) -> 118.13186
A25: Ministerstvo zdravotníctva SR | B25: 42235 | C25: 41611 | D25: =SUM(C25*100/B25) -> 98.522552
A26: Ministerstvo práce, sociálnych vecí a rodiny SR | B26: 15984 | C26: 18414 | D26: =SUM(C26*100/B26) -> 115.2027 | E26: 208169 | F26: 418831 | G26: =SUM(F26*100/E26) -> 201.19758
A27: Ministerstvo kultúry SR | B27: 1500 | C27: 623 | D27: =SUM(C27*100/B27) -> 41.533333
A28: Ministerstvo hospodárstva SR | B28: 84285 | C28: 83835 | D28: =SUM(C28*100/B28) -> 99.466097 | E28: 269094 | F28: 279588 | G28: =SUM(F28*100/E28) -> 103.89975
A29: Ministerstvo pôdohospodárstva a rozvoja vidieka SR | B29: 9800 | C29: 7798 | D29: =SUM(C29*100/B29) -> 79.571429 | E29: 968053 | F29: 497502 | G29: =SUM(F29*100/E29) -> 51.392021
A30: Ministerstvo dopravy,výstavby a regionálneho rozvoja SR | B30: 17343 | C30: 47081 | D30: =SUM(C30*100/B30) -> 271.46976 | E30: 297491 | F30: 236195 | G30: =SUM(F30*100/E30) -> 79.395679
A31: Úrad geodézie, kartografie a katastra SR | B31: 230 | C31: 1514 | D31: =SUM(C31*100/B31) -> 658.26087
A32: Štatistický úrad SR | B32: 14196 | C32: 82 | D32: =SUM(C32*100/B32) -> 0.5776275
A33: Úrad pre verejné obstarávanie | B33: 1000 | C33: 4870 | D33: =SUM(C33*100/B33) -> 487
A34: Úrad pre reguláciu sieťových odvetví | B34: 200 | C34: 222 | D34: =SUM(C34*100/B34) -> 111
A35: Úrad jadrového dozoru SR | B35: 9194 | C35: 9406 | D35: =SUM(C35*100/B35) -> 102.30585
A36: Úrad priemyselného vlastníctva SR | B36: 3200 | C36: 3876 | D36: =SUM(C36*100/B36) -> 121.125
A37: Úrad pre normalizáciu, metrológiu skúšobníctvo SR | B37: 1000 | C37: 896 | D37: =SUM(C37*100/B37) -> 89.6
A38: Protimonopolný úrad SR | B38: 1000 | C38: 237 | D38: =SUM(C38*100/B38) -> 23.7
A39: Národný bezpečnostný úrad | B39: 20 | C39: 21 | D39: =SUM(C39*100/B39) -> 105
A40: Správa štátnych hmotných rezerv SR | B40: 922 | C40: 510 | D40: =SUM(C40*100/B40) -> 55.314534
A41: Všeobecná pokladničná správa | D41: x | E41: 330000 | F41: 4283 | G41: =SUM(F41*100/E41) -> 1.2978788
A42: Slovenská akadémia vied | B42: 1000 | C42: 1871 | D42: =SUM(C42*100/B42) -> 187.1
...

Sheet Tab. č. 5
A1: Príjmy štátneho rozpočtu podľa kategórií a kapitol ŠR za rok 2021:
A2: 1, Dane
A3: 2, Úroky
A4: 3, Nedaňové príjmy
A5: 4, Úhrn
A7: Nedaňové príjmy štátneho rozpočtu podľa kapitol ŠR za rok 2021
A8: (v tis. eur)
A11: Kapitola štátneho rozpočtu | C11: 210 - PRÍJMY Z PODNIKANIA A Z VLASTNÍCTVA MAJETKU | F11: 220 - ADMINISTRATÍVNE POPLATKY A INÉ POPLATKY A PLATBY
B13: č.kap. | C13: Rozpočet | D13: Skutočnosť | E13: % plnenia | F13: Rozpočet | G13: Skutočnosť | H13: % plnenia
A14: Kancelária NR SR | B14: 2101 | C14: 438 | D14: 165 | E14: 37.671233 | F14: 920 | G14: 722 | H14: 78.478261
A15: Kancelária prezidenta SR | B15: 2102 | C15: 0 | D15: 0 | E15: 0 | F15: 0 | G15: 11 | H15: 0
A16: Úrad vlády SR | B16: 2103 | C16: 110 | D16: 156 | E16: 141.81818 | F16: 458 | G16: 217 | H16: 47.379913
A17: Ministerstvo investícií, reg. rozvoja a informatizácie SR | B17: 2104 | C17: 0 | D17: 0 | E17: 0 | F17: 0 | G17: 2 | H17: 0
A18: Kancelária Ústavného súdu SR | B18: 2105 | C18: 10 | D18: 5 | E18: 50 | F18: 0 | G18: 3 | H18: 0
A19: Kancelária Najvyššieho súdu SR | B19: 2106 | C19: 0 | D19: 1 | E19: 0 | F19: 1 | G19: 0 | H19: 0
A20: Generálna prokuratúra SR | B20: 2107 | C20: 40 | D20: 11 | E20: 27.5 | F20: 407 | G20: 120 | H20: 29.484029
A21: Najvyšší kontrolný úrad SR | B21: 2108 | C21: 4 | D21: 4 | E21: 100 | F21: 0 | G21: 1 | H21: 0
A22: Slovenská informačná služba | B22: 2109 | C22: 0 | D22: 0 | E22: 0 | F22: 0 | G22: 0 | H22: 0
A23: Ministerstvo zahraničných vecí a európskych záležitostí SR | B23: 2110 | C23: 500 | D23: 1144 | E23: 228.8 | F23: 100 | G23: 45 | H23: 45
A24: Ministerstvo obrany SR | B24: 2111 | C24: 222 | D24: 299 | E24: 134.68468 | F24: 2804 | G24: 1754 | H24: 62.553495
A25: Ministerstvo vnútra SR | B25: 2112 | C25: 1426 | D25: 966 | E25: 67.741935 | F25: 50265 | G25: 41073 | H25: 81.712922
... A48: Kancelária Súdnej rady SR | B48: 2155 | C48: 0 | D48: 0 | E48: 0 | F48: 0 | G48: 0 | H48: 0
A49: Kancelária Najvyššieho správneho súdu SR | B49: 2156 | C49: 0 | D49: 0 | F49: 0 | G49: 0
A50: S P O L U | C50: 429278 | D50: 486010 | E50: 113.21568 | F50: 351319 | G50: 354592 | H50: 100.93163
A54: Kapitola štátneho rozpočtu | C54: 230 - KAPITÁLOVÉ PRÍJMY | F54: 240 - ÚROKY Z TUZEMSKÝCH ÚVEROV,PÔŽIČIEK, NÁV. FIN. VÝPOMOCÍ, VKLADOV A ÁŽIO | I54: 250 - ÚROKY ZO ZAHRANIČNÝCH ÚVEROV,PÔŽIČIEK, NÁV. FIN. VÝPOMOCÍ A VKLADOV
B56: č.kap. | C56: Rozpočet | D56: Skutočnosť | E56: % plnenia | F56: Rozpočet | G56: Skutočnosť | H56: % plnenia | I56: Rozpočet | J56: Skutočnosť | K56: % plnenia
A57: Kancelária NR SR | B57: 2101 | C57: 0 | D57: 0 | E57: 0 | F57: 0 | G57: 0 | H57: 0 | I57: 0 | J57: 0 | K57: 0
A58: Kancelária prezidenta SR | B58: 2102 | C58: 0 | D58: 0 | E58: 0 | F58: 0 | G58: 0 | H58: 0 | I58: 0 | J58: 0 | K58: 0
A59: Úrad vlády SR | B59: 2103 | C59: 0 | D59: 0 | E59: 0 | F59: 0 | G59: 0 | H59: 0 | I59: 0 | J59: 0 | K59: 0
A60: Ministerstvo investícií, reg. rozvoja a informatizácie SR | B60: 2104 | C60: 0 | D60: 0 | E60: 0 | F60: 0 | G60: 0 | H60: 0 | I60: 0 | J60: 0 | K60: 0
A61: Kancelária Ústavného súdu SR | B61: 2105 | C61: 0 | D61: 0 | E61: 0 | F61: 0 | G61: 0 | H61: 0 | I61: 0 | J61: 0 | K61: 0
A62: Kancelária Najvyššieho súdu SR | B62: 2106 | C62: 0 | D62: 0 | E62: 0 | F62: 0 | G62: 0 | H62: 0 | I62: 0 | J62: 0 | K62: 0
A63: Generálna prokuratúra SR | B63: 2107 | C63: 0 | D63: 0 | E63: 0 | F63: 0 | G63: 0 | H63: 0 | I63: 0 | J63: 0 | K63: 0
A64: Najvyšší kontrolný úrad SR | B64: 2108 | C64: 0 | D64: 0 | E64: 0 | F64: 0 | G64: 0 | H64: 0 | I64: 0 | J64: 0 | K64: 0
A65: Slovenská informačná služba | B65: 2109 | C65: 0 | D65: 0 | E65: 0 | F65: 0 | G65: 0 | H65: 0 | I65: 0 | J65: 0 | K65: 0
A66: Ministerstvo zahraničných vecí a európskych záležitostí SR | B66: 2110 | C66: 2300 | D66: 1683 | E66: 73.173913 | F66: 0 | G66: 0 | H66: 0 | I66: 4 | J66: 1 | K66: 25
A67: Ministerstvo obrany SR | B67: 2111 | C67: 1494 | D67: 846 | E67: 56.626506 | F67: 0 | G67: 0 | H67: 0 | I67: 0 | J67: 0 | K67: 0
A68: Ministerstvo vnútra SR | B68: 2112 | C68: 3078 | D68: 9140 | E68: 296.94607 | F68: 0 | G68: 0 | H68: 0 | I68: 0 | J68: 0 | K68: 0
... A92: Kancelária Najvyššieho správneho súdu SR | B92: 2156 | C92: 0 | D92: 0 | E92: 0 | F92: 0 | G92: 0 | H92: 0 | I92: 0 | J92: 0 | K92: 0
A93: S P O L U | C93: 23707 | D93: 13703 | E93: 57.801493 | F93: 6486 | G93: 7054 | H93: 108.75732 | I93: 4 | J93: 1 | K93: 25
...

Sheet Tab. č. 6
A1: Príjmy štátneho rozpočtu podľa zdrojov v roku 2021
B2: (v tis. eur)
A4: Kód zdroja | B4: Názov zdroja | C4: Schválený rozpočet | D4: Upravený rozpočet | E4: Skutočnosť | F4: % k upravenému rozpočtu
A6: 111 | B6: Rozpočtové prostriedky kapitoly | C6: 12980313 | D6: 12980339 | E6: 14824181 | F6: 114.20488
A7: 1142 | B7: Rozvoj vidieka (Záručná sekcia EAGGF) | C7: 0 | D7: 0 | E7: 0 | F7: 0
A8: 1172 | B8: Európsky poľnohospodársky usmerňovací a záručný fond-us | C8: 0 | D8: 0 | E8: 0 | F8: 0
A9: 11H | B9: Transfer od ostatných subjektov verejnej správy | C9: 40811 | D9: 40811 | E9: 38862 | F9: 95.224327
A10: 11K1 | B10: Rozvoj vidieka | C10: 0 | D10: 0 | E10: 0 | F10: 0
A11: 11K2 | B11: Rozvoj vidieka | C11: 0 | D11: 0 | E11: 13 | F11: 0
A12: 11S1 | B12: Európsky fond regionálneho rozvoja (prostriedky EÚ, súčasťou týchto prostriedkov sú aj prostriedky EÚ na financovanie Programu cezhraničnej spolupráce SR - ČR, ako aj prostriedky EÚ na financovanie programu OP INTERACT) | C12: 0 | D12: 0 | E12: 4903 | F12: 0
A13: 11S2 | B13: Európsky fond regionálneho rozvoja (vrátane spolufinancovanie zo ŠR k Programu cezhraničnej spolupráce SR - ČR 2007-2013) | C13: 0 | D13: 0 | E13: 1443 | F13: 0
A14: 11T1 | B14: Európsky sociálny fond | C14: 0 | D14: 0 | E14: 3910 | F14: 0
A15: 11T2 | B15: Európsky sociálny fond - spolufinancovanie zo ŠR | C15: 0 | D15: 0 | E15: 4882 | F15: 0
A16: 11U2 | B16: Kohézny fond - spolufinancovanie zo ŠR | C16: 0 | D16: 0 | E16: 1527 | F16: 0
A17: 1302 | B17: 1. programové obdobie | C17: 0 | D17: 0 | E17: 27 | F17: 0
A18: 131H | B18: Zo štátneho rozpočtu z r.2017 (nevyčerpané prostriedky z r. 2017) | C18: 0 | D18: 0 | E18: 8 | F18: 0
A19: 131I | B19: Zo štátneho rozpočtu z r.2018 (nevyčerpané prostriedky z r. 2018) | C19: 0 | D19: 0 | E19: 3 | F19: 0
A20: 131J | B20: Zo štátneho rozpočtu z r.2019 (nevyčerpané prostriedky z r. 2019) | C20: 0 | D20: 0 | E20: 17 | F20: 0
A21: 131K | B21: Zo štátneho rozpočtu z r.2020 (nevyčerpané prostriedky z r. 2020) | C21: 0 | D21: 0 | E21: 1716 | F21: 0
A22: 13K2 | B22: Rozvoj vidieka | C22: 0 | D22: 0 | E22: 7 | F22: 0
A23: 13S2 | B23: Európsky fond regionálneho rozvoja (vrátane spolufinancovania zo ŠR k Programu cezhraničnej spolupráce SR - ČR 2007-2013) | C23: 0 | D23: 0 | E23: 3609 | F23: 0
A24: 13S3 | B24: Európsky fond regionálneho rozvoja - pro rata | C24: 0 | D24: 0 | E24: 460 | F24: 0
A25: 1AA1 | B25: Európsky fond regionálneho rozvoja | C25: 965463 | D25: 495618 | E25: 530385 | F25: 107.01488
A26: 1AA2 | B26: Európsky fond regionálneho rozvoja | C26: 0 | D26: 0 | E26: 8991 | F26: 0
A27: 1AA3 | B27: Európsky fond regionálneho rozvoja - pro rata | C27: 0 | D27: 0 | E27: 42 | F27: 0
A28: 1AB1 | B28: Kohézny fond | C28: 398262 | D28: 240346 | E28: 243416 | F28: 101.27733
A29: 1AB2 | B29: Kohézny fond | C29: 0 | D29: 0 | E29: 8189 | F29: 0
... A63: 3AM1 | B63: 3AM1 Európska územná spolupráca (Interreg V-A SK-AT, Interreg V-A SK-CZ) | C63: 0 | D63: 2425 | E63: 2425 | F63: 100
A64: 71 | B64: Iné zdroje - používa štátna RO na samostatnom účte | C64: 200 | D64: 175 | E64: 198 | F64: 113.14286
A65: 72 | B65: Prostriedky podľa §§ 17 ods. 4. a 22 ods. 4. zákona č. 523/2004 Z.z. | C65: 2297 | D65: 1869 | E65: 1955 | F65: 104.60139
B66: Spolu | C66: 15806153 | D66: 15329006 | E66: 17197298 | F66: 112.18795

Sheet Tab. č. 7
A1: Výdavky štátneho rozpočtu podľa kategórií a kapitol ŠR za rok 2021:
A2: 1, Mzdy
A3: 2, Bežné transfery
A4: 3, Kapitálové výdavky
A5: 4, Úhrn
A7: Výdavky štátneho rozpočtu podľa kategórií a
A8: kapitol ŠR za rok 2021
A9: (v tis. eur)
A11: Kapitola štátneho rozpočtu | C11: 610 - MZDY,PLATY,SLUŽOBNÉ PRÍJMY A OSTATNÉ OSOBNÉ VYROVNANIA | F11: 620 - POISTNÉ A PRÍSPEVOK DO POISŤOVNÍ | I11: 630 - TOVARY A SLUŽBY
B13: č.kap. | C13: Rozpočet | D13: Skutočnosť | E13: % plnenia | F13: Rozpočet | G13: Skutočnosť | H13: % plnenia | I13: Rozpočet | J13: Skutočnosť | K13: % plnenia
A14: Kancelária Národnej rady SR | B14: 2101 | C14: 18627 | D14: 19146 | E14: 102.78628 | F14: 5250 | G14: 5483 | H14: 104.4381 | I14: 10982 | J14: 10283 | K14: 93.635039
A15: Kancelária prezidenta SR | B15: 2102 | C15: 2394 | D15: 2757 | E15: 115.16291 | F15: 952 | G15: 1035 | H15: 108.71849 | I15: 1052 | J15: 2007 | K15: 190.77947
A16: Úrad vlády SR | B16: 2103 | C16: 11769 | D16: 14509 | E16: 123.2815 | F16: 4118 | G16: 5891 | H16: 143.05488 | I16: 40503 | J16: 11662 | K16: 28.792929
A17: Ministerstvo investícií, regionálneho rozvoja a informatizácie | B17: 2104 | C17: 9311 | D17: 21856 | E17: 234.73311 | F17: 3561 | G17: 8515 | H17: 239.11823 | I17: 18472 | J17: 34055 | K17: 184.36011
A18: Kancelária Ústavného súdu SR | B18: 2105 | C18: 3537 | D18: 3778 | E18: 106.81368 | F18: 1051 | G18: 1093 | H18: 103.99619 | I18: 1777 | J18: 1259 | K18: 70.849747
A19: Kancelária Najvyššieho súdu SR | B19: 2106 | C19: 10466 | D19: 9201 | E19: 87.913243 | F19: 3323 | G19: 3071 | H19: 92.416491 | I19: 1857 | J19: 2431 | K19: 130.91007
A20: Generálna prokuratúra SR | B20: 2107 | C20: 72791 | D20: 69336 | E20: 95.253534 | F20: 24051 | G20: 22746 | H20: 94.57403 | I20: 10977 | J20: 14094 | K20: 128.39574
A21: Najvyšší kontrolný úrad SR | B21: 2108 | C21: 6832 | D21: 7647 | E21: 111.92916 | F21: 2529 | G21: 2810 | H21: 111.11111 | I21: 1973 | J21: 2242 | K21: 113.63406
A22: Slovenská informačná služba | B22: 2109 | C22: 0 | D22: 0 | E22: 0 | F22: 0 | G22: 0 | H22: 0 | I22: 59965 | J22: 64754 | K22: 107.98633
A23: Ministerstvo zahraničných vecí a európskych záležitostí SR | B23: 2110 | C23: 55305 | D23: 57605 | E23: 104.15876 | F23: 19635 | G23: 20093 | H23: 102.33257 | I23: 41305 | J23: 41135 | K23: 99.588428
A24: Ministerstvo obrany SR | B24: 2111 | C24: 433590 | D24: 446030 | E24: 102.86907 | F24: 157077 | G24: 159442 | H24: 101.50563 | I24: 456124 | J24: 417250 | K24: 91.477318
A25: Ministerstvo vnútra SR | B25: 2112 | C25: 926431 | D25: 968842 | E25: 104.57789 | F25: 323746 | G25: 351677 | H25: 108.62744 | I25: 471878 | J25: 343379 | K25: 72.768597
... A49: Kancelária Najvyššieho správneho súdu SR | B49: 2156 | C49: 0 | D49: 1249 | E49: 0 | F49: 0 | G49: 414 | H49: 0 | I49: 0 | J49: 1182 | K49: 0
A50: S P O L U | C50: 2499334 | D50: 2624189 | E50: 104.99553 | F50: 887037 | G50: 953727 | H50: 107.51829 | I50: 8052253 | J50: 2358052 | K50: 29.284375
A54: Kapitola štátneho rozpočtu | C54: 640 - BEŽNÉ TRANSFERY | F54: 650 - SPLÁCANIE ÚROKOV A OSTATNÉ PLATBY SÚVISIACE S ÚVEROM, PÔŽIČKOU, NÁV. FIN. VÝPOMOCOU a FIN. PRENÁJMOM | I54: 600 - BEŽNÉ VÝDAVKY
B56: č.kap. | C56: Rozpočet | D56: Skutočnosť | E56: % plnenia | F56: Rozpočet | G56: Skutočnosť | H56: % plnenia | I56: Rozpočet | J56: Skutočnosť | K56: % plnenia
A57: Kancelária Národnej rady SR | B57: 2101 | C57: 179 | D57: 417 | E57: 232.96089 | F57: 0 | G57: 0 | H57: 0 | I57: 35038 | J57: 35329 | K57: 100.83053
A58: Kancelária prezidenta SR | B58: 2102 | C58: 213 | D58: 234 | E58: 109.85915 | F58: 0 | G58: 0 | H58: 0 | I58: 4611 | J58: 6033 | K58: 130.8393
A59: Úrad vlády SR | B59: 2103 | C59: 3225 | D59: 14044 | E59: 435.47287 | F59: 0 | G59: 0 | H59: 0 | I59: 59615 | J59: 46106 | K59: 77.339596
A60: Ministerstvo investícií, regionálneho rozvoja a informatizácie | B60: 2104 | C60: 45559 | D60: 78832 | E60: 173.03277 | F60: 0 | G60: 0 | H60: 0 | I60: 76903 | J60: 143258 | K60: 186.28402
A61: Kancelária Ústavného súdu SR | B61: 2105 | C61: 366 | D61: 423 | E61: 115.57377 | F61: 0 | G61: 0 | H61: 0 | I61: 6731 | J61: 6553 | K61: 97.355519
A62: Kancelária Najvyššieho súdu SR | B62: 2106 | C62: 199 | D62: 405 | E62: 203.51759 | F62: 0 | G62: 0 | H62: 0 | I62: 15845 | J62: 15108 | K62: 95.34869
A63: Generálna prokuratúra SR | B63: 2107 | C63: 5633 | D63: 5347 | E63: 94.922776 | F63: 0 | G63: 0 | H63: 0 | I63: 113452 | J63: 111523 | K63: 98.299721
A64: Najvyšší kontrolný úrad SR | B64: 2108 | C64: 114 | D64: 232 | E64: 203.50877 | F64: 0 | G64: 0 | H64: 0 | I64: 11448 | J64: 12931 | K64: 112.95423
A65: Slovenská informačná služba | B65: 2109 | C65: 0 | D65: 0 | E65: 0 | F65: 0 | G65: 0 | H65: 0 | I65: 59965 | J65: 64754 | K65: 107.98633
A66: Ministerstvo zahraničných vecí a európskych záležitostí SR | B66: 2110 | C66: 35046 | D66: 33516 | E66: 95.634309 | F66: 0 | G66: 0 | H66: 0 | I66: 151291 | J66: 152349 | K66: 100.69931
A67: Ministerstvo obrany SR | B67: 2111 | C67: 163943 | D67: 165601 | E67: 101.01133 | F67: 0 | G67: 0 | H67: 0 | I67: 1210734 | J67: 1188323 | K67: 98.148974
A68: Ministerstvo vnútra SR | B68: 2112 | C68: 1283476 | D68: 1681231 | E68: 130.99045 | F68: 0 | G68: 0 | H68: 0 | I68: 3005531 | J68: 3345129 | K68: 111.2991
... A92: Kancelária Najvyššieho správneho súdu SR | B92: 2156 | C92: 0 | D92: 27 | E92: 0 | F92: 0 | G92: 0 | H92: 0 | I92: 0 | J92: 2872 | K92: 0
A93: S P O L U | C93: 13258702 | D93: 15835025 | E93: 119.43119 | F93: 270 | G93: 270 | H93: 100 | I93: 24697596 | J93: 21771263 | K93: 88.151345
...

Sheet Tab. č. 8
A1: Bežné transfery za rok 2021 | L1: Bežné transfery za rok 2021 | W1: Bežné transfery za rok 2021 | AH1: Bežné transfery za rok 2021 | AS1: Bežné transfery za rok 2021 | BD1: Bežné transfery za rok 2021 | BO1: Bežné transfery za rok 2021
A2: (v tis. eur) | L2: (v tis. eur) | W2: (v tis. eur) | AH2: (v tis. eur) | AS2: (v tis. eur) | BD2: (v tis. eur) | BO2: (v tis. eur)
A4: Kapitola štátneho rozpočtu | C4: 640 - Bežné transfery | F4: 641 - Transfery v rámci verejnej správy | I4: 641001 - Príspevkovej organizácii | L4: Kapitola štátneho rozpočtu | N4: 641002 - Štátnemu účelovému fondu | Q4: 641003 - Sociálnej poisťovni a zdravotným poisťovniam | T4: 641006 - Rozpočtovej organizácii | W4: Kapitola štátneho rozpočtu | Y4: 641008 - Verejnej vysokej škole | AB4: 641009 - Obci | AE4: 641010 - Vyššiemu územnému celku | AH4: Kapitola štátneho rozpočtu | AJ4: 641012 - Ostatným subjektom verejnej správy | AM4: 642 - Transfery jednotlivcom a neziskovým právnickým osobám | AP4: 642001 - Obč. združeniu, nadácii a neinvest. fondu | AS4: Kapitola štátneho rozpočtu | AU4: 642031 - Na platené poistné za skupiny osôb ustanovené zákonom | AX4: 644 - Transfery nef. sub. a transf. PO nezaradeným vo verej.sektore v registri organizácií vedenom ŠÚ SR | BA4: 644001 - Právnickej osobe založenej štátom, obcou alebo VÚC | BD4: Kapitola štátneho rozpočtu | BF4: 644002 - Ostatnej právnickej osobe | BI4: 644003 - Fyzickej osobe - podnikateľovi | BL4: 647 - Transfery do tuzemských finančných inštitúcií | BO4: Kapitola štátneho rozpočtu | BQ4: 649 - Transfery do zahraničia | BT4: 649003 - Medzinárodnej organizácii | BW4: 649005 - Odvody do rozpočtu EÚ
B7: č.kap. | C7: Rozpočet | D7: Skutočnosť | E7: % plnenia | F7: Rozpočet | G7: Skutočnosť | H7: % plnenia | I7: Rozpočet | J7: Skutočnosť | K7: % plnenia | M7: č.kap. | N7: Rozpočet | O7: Skutočnosť | P7: % plnenia | Q7: Rozpočet | R7: Skutočnosť | S7: % plnenia | T7: Rozpočet | U7: Skutočnosť | V7: % plnenia | X7: č.kap. | Y7: Rozpočet | Z7: Skutočnosť | AA7: % plnenia | AB7: Rozpočet | AC7: Skutočnosť | AD7: % plnenia | AE7: Rozpočet | AF7: Skutočnosť | AG7: % plnenia | AI7: č.kap. | AJ7: Rozpočet | AK7: Skutočnosť | AL7: % plnenia | AM7: Rozpočet | AN7: Skutočnosť | AO7: % plnenia | AP7: Rozpočet | AQ7: Skutočnosť | AR7: % plnenia | AT7: č.kap. | AU7: Rozpočet | AV7: Skutočnosť | AW7: % plnenia | AX7: Rozpočet | AY7: Skutočnosť | AZ7: % plnenia | BA7: Rozpočet | BB7: Skutočnosť | BC7: % plnenia | BE7: č.kap. | BF7: Rozpočet | BG7: Skutočnosť | BH7: % plnenia | BI7: Rozpočet | BJ7: Skutočnosť | BK7: % plnenia | BL7: Rozpočet | BM7: Skutočnosť | BN7: % plnenia | BP7: č.kap. | BQ7: Rozpočet | BR7: Skutočnosť | BS7: % plnenia | BT7: Rozpočet | BU7: Skutočnosť | BV7: % plnenia | BW7: Rozpočet | BX7: Skutočnosť | BY7: % plnenia
A8: Kancelária Národnej rady SR | B8: 2101 | C8: 179 | D8: 417 | E8: 232.96089 | F8: 0 | G8: 0 | H8: 0 | I8: 0 | J8: 0 | K8: 0 | L8: Kancelária Národnej rady SR | M8: 2101 | N8: 0 | O8: 0 | P8: 0 | Q8: 0 | R8: 0 | S8: 0 | T8: 0 | U8: 0 | V8: 0 | W8: Kancelária Národnej rady SR | X8: 2101 | Y8: 0 | Z8: 0 | AA8: 0 | AB8: 0 | AC8: 0 | AD8: 0 | AE8: 0 | AF8: 0 | AG8: 0 | AH8: Kancelária Národnej rady SR | AI8: 2101 | AJ8: 0 | AK8: 0 | AL8: 0 | AM8: 113 | AN8: 350 | AO8: 309.73451 | AP8: 0 | AQ8: 0 | AR8: 0 | AS8: Kancelária Národnej rady SR | AT8: 2101 | AU8: 0 | AV8: 0 | AW8: 0 | AX8: 0 | AY8: 0 | AZ8: 0 | BA8: 0 | BB8: 0 | BC8: 0 | BD8: Kancelária Národnej rady SR | BE8: 2101 | BF8: 0 | BG8: 0 | BH8: 0 | BI8: 0 | BJ8: 0 | BK8: 0 | BL8: 0 | BM8: 0 | BN8: 0 | BO8: Kancelária Národnej rady SR | BP8: 2101 | BQ8: 66 | BR8: 67 | BS8: 101.51515 | BT8: 66 | BU8: 67 | BV8: 101.51515 | BW8: 0 | BX8: 0 | BY8: 0
A9: Kancelária prezidenta SR | B9: 2102 | C9: 213 | D9: 234 | E9: 109.85915 | F9: 0 | G9: 0 | H9: 0 | I9: 0 | J9: 0 | K9: 0 | L9: Kancelária prezidenta SR | M9: 2102 | N9: 0 | O9: 0 | P9: 0 | Q9: 0 | R9: 0 | S9: 0 | T9: 0 | U9: 0 | V9: 0 | W9: Kancelária prezidenta SR | X9: 2102 | Y9: 0 | Z9: 0 | AA9: 0 | AB9: 0 | AC9: 0 | AD9: 0 | AE9: 0 | AF9: 0 | AG9: 0 | AH9: Kancelária prezidenta SR | AI9: 2102 | AJ9: 0 | AK9: 0 | AL9: 0 | AM9: 213 | AN9: 234 | AO9: 109.85915 | AP9: 0 | AQ9: 0 | AR9: 0 | AS9: Kancelária prezidenta SR | AT9: 2102 | AU9: 0 | AV9: 0 | AW9: 0 | AX9: 0 | AY9: 0 | AZ9: 0 | BA9: 0 | BB9: 0 | BC9: 0 | BD9: Kancelária prezidenta SR | BE9: 2102 | BF9: 0 | BG9: 0 | BH9: 0 | BI9: 0 | BJ9: 0 | BK9: 0 | BL9: 0 | BM9: 0 | BN9: 0 | BO9: Kancelária prezidenta SR | BP9: 2102 | BQ9: 0 | BR9: 0 | BS9: 0 | BT9: 0 | BU9: 0 | BV9: 0 | BW9: 0 | BX9: 0 | BY9: 0
A10: Úrad vlády SR | B10: 2103 | C10: 3225 | D10: 14044 | E10: 435.47287 | F10: 1500 | G10: 11055 | H10: 737 | I10: 0 | J10: 20 | K10: 0 | L10: Úrad vlády SR | M10: 2103 | N10: 0 | O10: 0 | P10: 0 | Q10: 0 | R10: 0 | S10: 0 | T10: 0 | U10: 7 | V10: 0 | W10: Úrad vlády SR | X10: 2103 | Y10: 0 | Z10: 0 | AA10: 0 | AB10: 1500 | AC10: 10988 | AD10: 732.53333 | AE10: 0 | AF10: 40 | AG10: 0 | AH10: Úrad vlády SR | AI10: 2103 | AJ10: 0 | AK10: 0 | AL10: 0 | AM10: 1725 | AN10: 2949 | AO10: 170.95652 | AP10: 346 | AQ10: 1538 | AR10: 444.50867 | AS10: Úrad vlády SR | AT10: 2103 | AU10: 0 | AV10: 0 | AW10: 0 | AX10: 0 | AY10: 0 | AZ10: 0 | BA10: 0 | BB10: 0 | BC10: 0 | BD10: Úrad vlády SR | BE10: 2103 | BF10: 0 | BG10: 0 | BH10: 0 | BI10: 0 | BJ10: 0 | BK10: 0 | BL10: 0 | BM10: 0 | BN10: 0 | BO10: Úrad vlády SR | BP10: 2103 | BQ10: 0 | BR10: 40 | BS10: 0 | BT10: 0 | BU10: 40 | BV10: 0 | BW10: 0 | BX10: 0 | BY10: 0
A11: Ministerstvo investícií, regionálneho rozvoja a informatizácie SR | B11: 2104 | C11: 45559 | D11: 78832 | E11: 173.03277 | F11: 29463 | G11: 54877 | H11: 186.25734 | I11: 29463 | J11: 34751 | K11: 117.94793 | L11: Ministerstvo investícií, regionálneho rozvoja a informatizácie SR | M11: 2104 | N11: 0 | O11: 11950 | P11: 0 | Q11: 0 | R11: 0 | S11: 0 | T11: 0 | U11: 135 | V11: 0 | W11: Ministerstvo investícií, regionálneho rozvoja a informatizácie SR | X11: 2104 | Y11: 0 | Z11: 1198 | AA11: 0 | AB11: 0 | AC11: 3834 | AD11: 0 | AE11: 0 | AF11: 2894 | AG11: 0 | AH11: Ministerstvo investícií, regionálneho rozvoja a informatizácie SR | AI11: 2104 | AJ11: 0 | AK11: 108 | AL11: 0 | AM11: 691 | AN11: 9182 | AO11: 1328.7988 | AP11: 0 | AQ11: 7355 | AR11: 0 | AS11: Ministerstvo investícií, regionálneho rozvoja a informatizácie SR | AT11: 2104 | AU11: 0 | AV11: 0 | AW11: 0 | AX11: 14595 | AY11: 4070 | AZ11: 27.886262 | BA11: 300 | BB11: 127 | BC11: 42.333333 | BD11: Ministerstvo investícií, regionálneho rozvoja a informatizácie SR | BE11: 2104 | BF11: 14295 | BG11: 3476 | BH11: 24.316194 | BI11: 0 | BJ11: 467 | BK11: 0 | BL11: 0 | BM11: 0 | BN11: 0 | BO11: Ministerstvo investícií, regionálneho rozvoja a informatizácie SR | BP11: 2104 | BQ11: 810 | BR11: 10703 | BS11: 1321.358 | BT11: 10 | BU11: 15 | BV11: 150 | BW11: 0 | BX11: 0 | BY11: 0
A12: Kancelária Ústavného súdu SR | B12: 2105 | C12: 366 | D12: 423 | E12: 115.57377 | F12: 0 | G12: 0 | H12: 0 | I12: 0 | J12: 0 | K12: 0 | L12: Kancelária Ústavného súdu SR | M12: 2105 | N12: 0 | O12: 0 | P12: 0 | Q12: 0 | R12: 0 | S12: 0 | T12: 0 | U12: 0 | V12: 0 | W12: Kancelária Ústavného súdu SR | X12: 2105 | Y12: 0 | Z12: 0 | AA12: 0 | AB12: 0 | AC12: 0 | AD12: 0 | AE12: 0 | AF12: 0 | AG12: 0 | AH12: Kancelária Ústavného súdu SR | AI12: 2105 | AJ12: 0 | AK12: 0 | AL12: 0 | AM12: 366 | AN12: 423 | AO12: 115.57377 | AP12: 0 | AQ12: 0 | AR12: 0 | AS12: Kancelária Ústavného súdu SR | AT12: 2105 | AU12: 0 | AV12: 0 | AW12: 0 | AX12: 0 | AY12: 0 | AZ12: 0 | BA12: 0 | BB12: 0 | BC12: 0 | BD12: Kancelária Ústavného súdu SR | BE12: 2105 | BF12: 0 | BG12: 0 | BH12: 0 | BI12: 0 | BJ12: 0 | BK12: 0 | BL12: 0 | BM12: 0 | BN12: 0 | BO12: Kancelária Ústavného súdu SR | BP12: 2105 | BQ12: 0 | BR12: 0 | BS12: 0 | BT12: 0 | BU12: 0 | BV12: 0 | BW12: 0 | BX12: 0 | BY12: 0
A13: Kancelária Najvyššieho súdu SR | B13: 2106 | C13: 199 | D13: 405 | E13: 203.51759 | F13: 0 | G13: 0 | H13: 0 | I13: 0 | J13: 0 | K13: 0 | L13: Kancelária Najvyššieho súdu SR | M13: 2106 | N13: 0 | O13: 0 | P13: 0 | Q13: 0 | R13: 0 | S13: 0 | T13: 0 | U13: 0 | V13: 0 | W13: Kancelária Najvyššieho súdu SR | X13: 2106 | Y13: 0 | Z13: 0 | AA13: 0 | AB13: 0 | AC13: 0 | AD13: 0 | AE13: 0 | AF13: 0 | AG13: 0 | AH13: Kancelária Najvyššieho súdu SR | AI13: 2106 | AJ13: 0 | AK13: 0 | AL13: 0 | AM13: 193 | AN13: 403 | AO13: 208.80829 | AP13: 0 | AQ13: 0 | AR13: 0 | AS13: Kancelária Najvyššieho súdu SR | AT13: 2106 | AU13: 0 | AV13: 0 | AW13: 0 | AX13: 0 | AY13: 0 | AZ13: 0 | BA13: 0 | BB13: 0 | BC13: 0 | BD13: Kancelária Najvyššieho súdu SR | BE13: 2106 | BF13: 0 | BG13: 0 | BH13: 0 | BI13: 0 | BJ13: 0 | BK13: 0 | BL13: 0 | BM13: 0 | BN13: 0 | BO13: Kancelária Najvyššieho súdu SR | BP13: 2106 | BQ13: 6 | BR13: 2 | BS13: 33.333333 | BT13: 6 | BU13: 2 | BV13: 33.333333 | BW13: 0 | BX13: 0 | BY13: 0
A14: Generálna prokuratúra SR | B14: 2107 | C14: 5633 | D14: 5347 | E14: 94.922776 | F14: 0 | G14: 0 | H14: 0 | I14: 0 | J14: 0 | K14: 0 | L14: Generálna prokuratúra SR | M14: 2107 | N14: 0 | O14: 0 | P14: 0 | Q14: 0 | R14: 0 | S14: 0 | T14: 0 | U14: 0 | V14: 0 | W14: Generálna prokuratúra SR | X14: 2107 | Y14: 0 | Z14: 0 | AA14: 0 | AB14: 0 | AC14: 0 | AD14: 0 | AE14: 0 | AF14: 0 | AG14: 0 | AH14: Generálna prokuratúra SR | AI14: 2107 | AJ14: 0 | AK14: 0 | AL14: 0 | AM14: 5633 | AN14: 5347 | AO14: 94.922776 | AP14: 0 | AQ14: 0 | AR14: 0 | AS14: Generálna prokuratúra SR | AT14: 2107 | AU14: 0 | AV14: 0 | AW14: 0 | AX14: 0 | AY14: 0 | AZ14: 0 | BA14: 0 | BB14: 0 | BC14: 0 | BD14: Generálna prokuratúra SR | BE14: 2107 | BF14: 0 | BG14: 0 | BH14: 0 | BI14: 0 | BJ14: 0 | BK14: 0 | BL14: 0 | BM14: 0 | BN14: 0 | BO14: Generálna prokuratúra SR | BP14: 2107 | BQ14: 0 | BR14: 0 | BS14: 0 | BT14: 0 | BU14: 0 | BV14: 0 | BW14: 0 | BX14: 0 | BY14: 0
A15: Najvyšší kontrolný úrad SR | B15: 2108 | C15: 114 | D15: 232 | E15: 203.50877 | F15: 0 | G15: 0 | H15: 0 | I15: 0 | J15: 0 | K15: 0 | L15: Najvyšší kontrolný úrad SR | M15: 2108 | N15: 0 | O15: 0 | P15: 0 | Q15: 0 | R15: 0 | S15: 0 | T15: 0 | U15: 0 | V15: 0 | W15: Najvyšší kontrolný úrad SR | X15: 2108 | Y15: 0 | Z15: 0 | AA15: 0 | AB15: 0 | AC15: 0 | AD15: 0 | AE15: 0 | AF15: 0 | AG15: 0 | AH15: Najvyšší kontrolný úrad SR | AI15: 2108 | AJ15: 0 | AK15: 0 | AL15: 0 | AM15: 110 | AN15: 229 | AO15: 208.18182 | AP15: 0 | AQ15: 0 | AR15: 0 | AS15: Najvyšší kontrolný úrad SR | AT15: 2108 | AU15: 0 | AV15: 0 | AW15: 0 | AX15: 0 | AY15: 0 | AZ15: 0 | BA15: 0 | BB15: 0 | BC15: 0 | BD15: Najvyšší kontrolný úrad SR | BE15: 2108 | BF15: 0 | BG15: 0 | BH15: 0 | BI15: 0 | BJ15: 0 | BK15: 0 | BL15: 0 | BM15: 0 | BN15: 0 | BO15: Najvyšší kontrolný úrad SR | BP15: 2108 | BQ15: 4 | BR15: 3 | BS15: 75 | BT15: 4 | BU15: 3 | BV15: 75 | BW15: 0 | BX15: 0 | BY15: 0
A16: Slovenská informačná služba | B16: 2109 | C16: 0 | D16: 0 | E16: 0 | F16: 0 | G16: 0 | H16: 0 | I16: 0 | J16: 0 | K16: 0 | L16: Slovenská informačná služba | M16: 2109 | N16: 0 | O16: 0 | P16: 0 | Q16: 0 | R16: 0 | S16: 0 | T16: 0 | U16: 0 | V16: 0 | W16: Slovenská informačná služba | X16: 2109 | Y16: 0 | Z16: 0 | AA16: 0 | AB16: 0 | AC16: 0 | AD16: 0 | AE16: 0 | AF16: 0 | AG16: 0 | AH16: Slovenská informačná služba | AI16: 2109 | AJ16: 0 | AK16: 0 | AL16: 0 | AM16: 0 | AN16: 0 | AO16: 0 | AP16: 0 | AQ16: 0 | AR16: 0 | AS16: Slovenská informačná služba | AT16: 2109 | AU16: 0 | AV16: 0 | AW16: 0 | AX16: 0 | AY16: 0 | AZ16: 0 | BA16: 0 | BB16: 0 | BC16: 0 | BD16: Slovenská informačná služba | BE16: 2109 | BF16: 0 | BG16: 0 | BH16: 0 | BI16: 0 | BJ16: 0 | BK16: 0 | BL16: 0 | BM16: 0 | BN16: 0 | BO16: Slovenská informačná služba | BP16: 2109 | BQ16: 0 | BR16: 0 | BS16: 0 | BT16: 0 | BU16: 0 | BV16: 0 | BW16: 0 | BX16: 0 | BY16: 0
A17: Ministerstvo zahraničných vecí a európskych záležitostí SR | B17: 2110 | C17: 35046 | D17: 33516 | E17: 95.634309 | F17: 1952 | G17: 2635 | H17: 134.98975 | I17: 1952 | J17: 2568 | K17: 131.55738 | L17: Ministerstvo zahraničných vecí a európskych záležitostí SR | M17: 2110 | N17: 0 | O17: 0 | P17: 0 | Q17: 0 | R17: 0 | S17: 0 | T17: 0 | U17: 0 | V17: 0 | W17: Ministerstvo zahraničných vecí a európskych záležitostí SR | X17: 2110 | Y17: 0 | Z17: 67 | AA17: 0 | AB17: 0 | AC17: 0 | AD17: 0 | AE17: 0 | AF17: 0 | AG17: 0 | AH17: Ministerstvo zahraničných vecí a európskych záležitostí SR | AI17: 2110 | AJ17: 0 | AK17: 0 | AL17: 0 | AM17: 302 | AN17: 3200 | AO17: 1059.6026 | AP17: 0 | AQ17: 1617 | AR17: 0 | AS17: Ministerstvo zahraničných vecí a európskych záležitostí SR | AT17: 2110 | AU17: 0 | AV17: 0 | AW17: 0 | AX17: 0 | AY17: 402 | AZ17: 0 | BA17: 0 | BB17: 0 | BC17: 0 | BD17: Ministerstvo zahraničných vecí a európskych záležitostí SR | BE17: 2110 | BF17: 0 | BG17: 402 | BH17: 0 | BI17: 0 | BJ17: 0 | BK17: 0 | BL17: 0 | BM17: 0 | BN17: 0 | BO17: Ministerstvo zahraničných vecí a európskych záležitostí SR | BP17: 2110 | BQ17: 32792 | BR17: 27279 | BS17: 83.187973 | BT17: 21644 | BU17: 24778 | BV17: 114.47976 | BW17: 0 | BX17: 0 | BY17: 0
A18: Ministerstvo obrany SR | B18: 2111 | C18: 163943 | D18: 165601 | E18: 101.01133 | F18: 8582 | G18: 33946 | H18: 395.54882 | I18: 1800 | J18: 13002 | K18: 722.33333 | L18: Ministerstvo obrany SR | M18: 2111 | N18: 0 | O18: 0 | P18: 0 | Q18: 0 | R18: 0 | S18: 0 | T18: 6782 | U18: 20944 | V18: 308.81746 | W18: Ministerstvo obrany SR | X18: 2111 | Y18: 0 | Z18: 0 | AA18: 0 | AB18: 0 | AC18: 0 | AD18: 0 | AE18: 0 | AF18: 0 | AG18: 0 | AH18: Ministerstvo obrany SR | AI18: 2111 | AJ18: 0 | AK18: 0 | AL18: 0 | AM18: 141586 | AN18: 116692 | AO18: 82.417753 | AP18: 79 | AQ18: 275 | AR18: 348.10127 | AS18: Ministerstvo obrany SR | AT18: 2111 | AU18: 0 | AV18: 0 | AW18: 0 | AX18: 2212 | AY18: 1383 | AZ18: 62.522604 | BA18: 1162 | BB18: 1038 | BC18: 89.328744 | BD18: Ministerstvo obrany SR | BE18: 2111 | BF18: 1050 | BG18: 345 | BH18: 32.857143 | BI18: 0 | BJ18: 0 | BK18: 0 | BL18: 0 | BM18: 0 | BN18: 0 | BO18: Ministerstvo obrany SR | BP18: 2111 | BQ18: 11563 | BR18: 13580 | BS18: 117.44357 | BT18: 11563 | BU18: 13382 | BV18: 115.73121 | BW18: 0 | BX18: 0 | BY18: 0
A19: Ministerstvo vnútra SR | B19: 2112 | C19: 1283476 | D19: 1681231 | E19: 130.99045 | F19: 1029195 | G19: 1378435 | H19: 133.93332 | I19: 5307 | J19: 17813 | K19: 335.65103 | L19: Ministerstvo vnútra SR | M19: 2112 | N19: 0 | O19: 0 | P19: 0 | Q19: 0 | R19: 0 | S19: 0 | T19: 5827 | U19: 61151 | V19: 1049.4423 | W19: Ministerstvo vnútra SR | X19: 2112 | Y19: 0 | Z19: 0 | AA19: 0 | AB19: 567 | AC19: 113083 | AD19: 19944.092 | AE19: 0 | AF19: 3475 | AG19: 0 | AH19: Ministerstvo vnútra SR | AI19: 2112 | AJ19: 0 | AK19: 685 | AL19: 0 | AM19: 251970 | AN19: 293927 | AO19: 116.65159 | AP19: 5600 | AQ19: 9087 | AR19: 162.26786 | AS19: Ministerstvo vnútra SR | AT19: 2112 | AU19: 0 | AV19: 0 | AW19: 0 | AX19: 0 | AY19: 7897 | AZ19: 0 | BA19: 0 | BB19: 3393 | BC19: 0 | BD19: Ministerstvo vnútra SR | BE19: 2112 | BF19: 0 | BG19: 4504 | BH19: 0 | BI19: 0 | BJ19: 0 | BK19: 0 | BL19: 0 | BM19: 0 | BN19: 0 | BO19: Ministerstvo vnútra SR | BP19: 2112 | BQ19: 2311 | BR19: 972 | BS19: 42.059714 | BT19: 2261 | BU19: 922 | BV19: 40.778417 | BW19: 0 | BX19: 0 | BY19: 0
... A43: Kancelária Najvyššieho správneho súdu SR | B43: 2156 | C43: 0 | D43: 27 | E43: 0 | F43: 0 | G43: 0 | H43: 0 | I43: 0 | J43: 0 | K43: 0 | L43: Kancelária Najvyššieho správneho súdu SR | M43: 2156 | N43: 0 | O43: 0 | P43: 0 | Q43: 0 | R43: 0 | S43: 0 | T43: 0 | U43: 0 | V43: 0 | W43: Kancelária Najvyššieho správneho súdu SR | X43: 2156 | Y43: 0 | Z43: 0 | AA43: 0 | AB43: 0 | AC43: 0 | AD43: 0 | AE43: 0 | AF43: 0 | AG43: 0 | AH43: Kancelária Najvyššieho správneho súdu SR | AI43: 2156 | AJ43: 0 | AK43: 0 | AL43: 0 | AM43: 0 | AN43: 26 | AO43: 0 | AP43: 0 | AQ43: 0 | AR43: 0 | AS43: Kancelária Najvyššieho správneho súdu SR | AT43: 2156 | AU43: 0 | AV43: 0 | AW43: 0 | AX43: 0 | AY43: 0 | AZ43: 0 | BA43: 0 | BB43: 0 | BC43: 0 | BD43: Kancelária Najvyššieho správneho súdu SR | BE43: 2156 | BF43: 0 | BG43: 0 | BH43: 0 | BI43: 0 | BJ43: 0 | BK43: 0 | BL43: 0 | BM43: 0 | BN43: 0 | BO43: Kancelária Najvyššieho správneho súdu SR | BP43: 2156 | BQ43: 0 | BR43: 1 | BS43: 0 | BT43: 0 | BU43: 1 | BV43: 0 | BW43: 0 | BX43: 0 | BY43: 0
A44: S P O L U | C44: 13258702 | D44: 15835025 | E44: 119.43119 | F44: 5358676 | G44: 6415870 | H44: 119.72864 | I44: 290070 | J44: 774982 | K44: 267.17068 | L44: S P O L U | N44: 91237 | O44: 99326 | P44: 108.86592 | Q44: 839248 | R44: 842317 | S44: 100.36568 | T44: 1146152 | U44: 906440 | V44: 79.085497 | W44: S P O L U | Y44: 622391 | Z44: 683903 | AA44: 109.88318 | AB44: 107790 | AC44: 345618 | AD44: 320.64013 | AE44: 657 | AF44: 17185 | AG44: 2615.6773 | AH44: S P O L U | AJ44: 99466 | AK44: 153826 | AL44: 154.65184 | AM44: 5389356 | AN44: 7005173 | AO44: 129.98163 | AP44: 121661 | AQ44: 156355 | AR44: 128.51694 | AS44: S P O L U | AU44: 1804753 | AV44: 1708413 | AW44: 94.661873 | AX44: 1367904 | AY44: 1344028 | AZ44: 98.254556 | BA44: 20366 | BB44: 309313 | BC44: 1518.7715 | BD44: S P O L U | BF44: 1347413 | BG44: 903470 | BH44: 67.052196 | BI44: 125 | BJ44: 131245 | BK44: 104996 | BL44: 5847 | BM44: 3434 | BN44: 58.730973 | BO44: S P O L U | BQ44: 1136919 | BR44: 1066520 | BS44: 93.807914 | BT44: 85828 | BU44: 86092 | BV44: 100.30759 | BW44: 1038917 | BX44: 966750 | BY44: 93.053632

Sheet Tab. č. 9
A4: Kapitola štátneho rozpočtu | C4: 700 - Kapitálové výdavky | F4: 710 - Obstarávanie kapitálových aktív | I4: 720 - Kapitálové transfery | L4: Kapitola štátneho rozpočtu | N4: 721 - Transfery v rámci verejnej správy | Q4: 721001 - Príspevkovej organizácii | T4: 721002 - Rozpočtovej organizácii | W4: Kapitola štátneho rozpočtu | Y4: 721003 - Verejnej vysokej škole | AB4: 721006 - Obci | AE4: 721007 - Vyššiemu územnému celku | AH4: Kapitola štátneho rozpočtu | AJ4: 721009 - Ostatným subjektom verejnej správy | AM4: 722 - Transfery jednotlivcom a neziskovým právnickým osobám | AP4: 723 - Transfery nefinančným subjektom | AS4: Kapitola štátneho rozpočtu | AT4: 725 - Transfery do zahraničia | AX4: 726 - Transfery finančným inštitúciám
B7: č.kap. | C7: Rozpočet | D7: Skutočnosť | E7: % plnenia | F7: Rozpočet | G7: Skutočnosť | H7: % plnenia | I7: Rozpočet | J7: Skutočnosť | K7: % plnenia | M7: č.kap. | N7: Rozpočet | O7: Skutočnosť | P7: % plnenia | Q7: Rozpočet | R7: Skutočnosť | S7: % plnenia | T7: Rozpočet | U7: Skutočnosť | V7: % plnenia | X7: č.kap. | Y7: Rozpočet | Z7: Skutočnosť | AA7: % plnenia | AB7: Rozpočet | AC7: Skutočnosť | AD7: % plnenia | AE7: Rozpočet | AF7: Skutočnosť | AG7: % plnenia | AI7: č.kap. | AJ7: Rozpočet | AK7: Skutočnosť | AL7: % plnenia | AM7: Rozpočet | AN7: Skutočnosť | AO7: % plnenia | AP7: Rozpočet | AQ7: Skutočnosť | AR7: % plnenia | AT7: č.kap. | AU7: Rozpočet | AV7: Skutočnosť | AW7: % plnenia | AX7: Rozpočet | AY7: Skutočnosť | AZ7: % plnenia
A8: Kancelária NR SR | B8: 2101 | C8: 664 | D8: 5097 | E8: 767.62048 | F8: 664 | G8: 5097 | H8: 767.62048 | I8: 0 | J8: 0 | K8: 0 | L8: Kancelária NR SR | M8: 2101 | N8: 0 | O8: 0 | P8: 0 | Q8: 0 | R8: 0 | S8: 0 | T8: 0 | U8: 0 | V8: 0 | W8: Kancelária NR SR | X8: 2101 | Y8: 0 | Z8: 0 | AA8: 0 | AB8: 0 | AC8: 0 | AD8: 0 | AE8: 0 | AF8: 0 | AG8: 0 | AH8: Kancelária NR SR | AI8: 2101 | AJ8: 0 | AK8: 0 | AL8: 0 | AM8: 0 | AN8: 0 | AO8: 0 | AP8: 0 | AQ8: 0 | AR8: 0 | AS8: Kancelária NR SR | AT8: 2101 | AU8: 0 | AV8: 0 | AW8: 0 | AZ8: 0
A9: Kancelária prezidenta SR | B9: 2102 | C9: 8 | D9: 261 | E9: 3262.5 | F9: 8 | G9: 261 | H9: 3262.5 | I9: 0 | J9: 0 | K9: 0 | L9: Kancelária prezidenta SR | M9: 2102 | N9: 0 | O9: 0 | P9: 0 | Q9: 0 | R9: 0 | S9: 0 | T9: 0 | U9: 0 | V9: 0 | W9: Kancelária prezidenta SR | X9: 2102 | Y9: 0 | Z9: 0 | AA9: 0 | AB9: 0 | AC9: 0 | AD9: 0 | AE9: 0 | AF9: 0 | AG9: 0 | AH9: Kancelária prezidenta SR | AI9: 2102 | AJ9: 0 | AK9: 0 | AL9: 0 | AM9: 0 | AN9: 0 | AO9: 0 | AP9: 0 | AQ9: 0 | AR9: 0 | AS9: Kancelária prezidenta SR | AT9: 2102 | AU9: 0 | AV9: 0 | AW9: 0 | AZ9: 0
A10: Úrad vlády SR | B10: 2103 | C10: 9472 | D10: 1571 | E10: 16.585726 | F10: 9272 | G10: 804 | H10: 8.6712683 | I10: 200 | J10: 767 | K10: 383.5 | L10: Úrad vlády SR | M10: 2103 | N10: 0 | O10: 764 | P10: 0 | Q10: 0 | R10: 0 | S10: 0 | T10: 0 | U10: 0 | V10: 0 | W10: Úrad vlády SR | X10: 2103 | Y10: 0 | Z10: 0 | AA10: 0 | AB10: 0 | AC10: 764 | AD10: 0 | AE10: 0 | AF10: 0 | AG10: 0 | AH10: Úrad vlády SR | AI10: 2103 | AJ10: 0 | AK10: 0 | AL10: 0 | AM10: 200 | AN10: 3 | AO10: 1.5 | AP10: 0 | AQ10: 0 | AR10: 0 | AS10: Úrad vlády SR | AT10: 2103 | AU10: 0 | AV10: 0 | AW10: 0 | AZ10: 0
A11: Ministerstvo investícií, regionálneho rozvoja a informatizácie SR | B11: 2104 | C11: 1120 | D11: 252614 | E11: 22554.821 | F11: 149 | G11: 8789 | H11: 5898.6577 | I11: 971 | J11: 243825 | K11: 25110.711 | L11: Ministerstvo investícií, regionálneho rozvoja a informatizácie SR | M11: 2104 | N11: 871 | O11: 163527 | P11: 18774.627 | Q11: 871 | R11: 33825 | S11: 3883.4673 | T11: 0 | U11: 4843 | V11: 0 | W11: Ministerstvo investícií, regionálneho rozvoja a informatizácie SR | X11: 2104 | Y11: 0 | Z11: 899 | AA11: 0 | AB11: 0 | AC11: 91747 | AD11: 0 | AE11: 0 | AF11: 28727 | AG11: 0 | AH11: Ministerstvo investícií, regionálneho rozvoja a informatizácie SR | AI11: 2104 | AJ11: 0 | AK11: 296 | AL11: 0 | AM11: 100 | AN11: 19612 | AO11: 19612 | AP11: 0 | AQ11: 55657 | AR11: 0 | AS11: Ministerstvo investícií, regionálneho rozvoja a informatizácie SR | AT11: 2104 | AU11: 0 | AV11: 5029 | AW11: 0 | AZ11: 0
A12: Kancelária Ústavného súdu SR | B12: 2105 | C12: 616 | D12: 401 | E12: 65.097403 | F12: 616 | G12: 401 | H12: 65.097403 | I12: 0 | J12: 0 | K12: 0 | L12: Kancelária Ústavného súdu SR | M12: 2105 | N12: 0 | O12: 0 | P12: 0 | Q12: 0 | R12: 0 | S12: 0 | T12: 0 | U12: 0 | V12: 0 | W12: Kancelária Ústavného súdu SR | X12: 2105 | Y12: 0 | Z12: 0 | AA12: 0 | AB12: 0 | AC12: 0 | AD12: 0 | AE12: 0 | AF12: 0 | AG12: 0 | AH12: Kancelária Ústavného súdu SR | AI12: 2105 | AJ12: 0 | AK12: 0 | AL12: 0 | AM12: 0 | AN12: 0 | AO12: 0 | AP12: 0 | AQ12: 0 | AR12: 0 | AS12: Kancelária Ústavného súdu SR | AT12: 2105 | AU12: 0 | AV12: 0 | AW12: 0 | AZ12: 0
A13: Kancelária Najvyššieho súdu SR | B13: 2106 | C13: 350 | D13: 67 | E13: 19.142857 | F13: 350 | G13: 67 | H13: 19.142857 | I13: 0 | J13: 0 | K13: 0 | L13: Kancelária Najvyššieho súdu SR | M13: 2106 | N13: 0 | O13: 0 | P13: 0 | Q13: 0 | R13: 0 | S13: 0 | T13: 0 | U13: 0 | V13: 0 | W13: Kancelária Najvyššieho súdu SR | X13: 2106 | Y13: 0 | Z13: 0 | AA13: 0 | AB13: 0 | AC13: 0 | AD13: 0 | AE13: 0 | AF13: 0 | AG13: 0 | AH13: Kancelária Najvyššieho súdu SR | AI13: 2106 | AJ13: 0 | AK13: 0 | AL13: 0 | AM13: 0 | AN13: 0 | AO13: 0 | AP13: 0 | AQ13: 0 | AR13: 0 | AS13: Kancelária Najvyššieho súdu SR | AT13: 2106 | AU13: 0 | AV13: 0 | AW13: 0 | AZ13: 0
A14: Generálna prokuratúra SR | B14: 2107 | C14: 1971 | D14: 5711 | E14: 289.7514 | F14: 1971 | G14: 5711 | H14: 289.7514 | I14: 0 | J14: 0 | K14: 0 | L14: Generálna prokuratúra SR | M14: 2107 | N14: 0 | O14: 0 | P14: 0 | Q14: 0 | R14: 0 | S14: 0 | T14: 0 | U14: 0 | V14: 0 | W14: Generálna prokuratúra SR | X14: 2107 | Y14: 0 | Z14: 0 | AA14: 0 | AB14: 0 | AC14: 0 | AD14: 0 | AE14: 0 | AF14: 0 | AG14: 0 | AH14: Generálna prokuratúra SR | AI14: 2107 | AJ14: 0 | AK14: 0 | AL14: 0 | AM14: 0 | AN14: 0 | AO14: 0 | AP14: 0 | AQ14: 0 | AR14: 0 | AS14: Generálna prokuratúra SR | AT14: 2107 | AU14: 0 | AV14: 0 | AW14: 0 | AZ14: 0
A15: Najvyšší kontrolný úrad SR | B15: 2108 | C15: 85 | D15: 418 | E15: 491.76471 | F15: 85 | G15: 418 | H15: 491.76471 | I15: 0 | J15: 0 | K15: 0 | L15: Najvyšší kontrolný úrad SR | M15: 2108 | N15: 0 | O15: 0 | P15: 0 | Q15: 0 | R15: 0 | S15: 0 | T15: 0 | U15: 0 | V15: 0 | W15: Najvyšší kontrolný úrad SR | X15: 2108 | Y15: 0 | Z15: 0 | AA15: 0 | AB15: 0 | AC15: 0 | AD15: 0 | AE15: 0 | AF15: 0 | AG15: 0 | AH15: Najvyšší kontrolný úrad SR | AI15: 2108 | AJ15: 0 | AK15: 0 | AL15: 0 | AM15: 0 | AN15: 0 | AO15: 0 | AP15: 0 | AQ15: 0 | AR15: 0 | AS15: Najvyšší kontrolný úrad SR | AT15: 2108 | AU15: 0 | AV15: 0 | AW15: 0 | AZ15: 0
A16: Slovenská informačná služba | B16: 2109 | C16: 0 | D16: 3896 | E16: 0 | F16: 0 | G16: 3896 | H16: 0 | I16: 0 | J16: 0 | K16: 0 | L16: Slovenská informačná služba | M16: 2109 | N16: 0 | O16: 0 | P16: 0 | Q16: 0 | R16: 0 | S16: 0 | T16: 0 | U16: 0 | V16: 0 | W16: Slovenská informačná služba | X16: 2109 | Y16: 0 | Z16: 0 | AA16: 0 | AB16: 0 | AC16: 0 | AD16: 0 | AE16: 0 | AF16: 0 | AG16: 0 | AH16: Slovenská informačná služba | AI16: 2109 | AJ16: 0 | AK16: 0 | AL16: 0 | AM16: 0 | AN16: 0 | AO16: 0 | AP16: 0 | AQ16: 0 | AR16: 0 | AS16: Slovenská informačná služba | AT16: 2109 | AU16: 0 | AV16: 0 | AW16: 0 | AZ16: 0
A17: Ministerstvo zahraničných vecí a európskych záležitostí SR | B17: 2110 | C17: 3419 | D17: 7015 | E17: 205.17695 | F17: 3419 | G17: 2629 | H17: 76.893829 | I17: 0 | J17: 4386 | K17: 0 | L17: Ministerstvo zahraničných vecí a európskych záležitostí SR | M17: 2110 | N17: 0 | O17: 21 | P17: 0 | Q17: 0 | R17: 15 | S17: 0 | T17: 0 | U17: 0 | V17: 0 | W17: Ministerstvo zahraničných vecí a európskych záležitostí SR | X17: 2110 | Y17: 0 | Z17: 6 | AA17: 0 | AB17: 0 | AC17: 0 | AD17: 0 | AE17: 0 | AF17: 0 | AG17: 0 | AH17: Ministerstvo zahraničných vecí a európskych záležitostí SR | AI17: 2110 | AJ17: 0 | AK17: 0 | AL17: 0 | AM17: 0 | AN17: 1044 | AO17: 0 | AP17: 0 | AQ17: 0 | AR17: 0 | AS17: Ministerstvo zahraničných vecí a európskych záležitostí SR | AT17: 2110 | AU17: 0 | AV17: 3321 | AW17: 0 | AZ17: 0
A18: Ministerstvo obrany SR | B18: 2111 | C18: 15980 | D18: 539366 | E18: 3375.2566 | F18: 15980 | G18: 539261 | H18: 3374.5995 | I18: 0 | J18: 105 | K18: 0 | L18: Ministerstvo obrany SR | M18: 2111 | N18: 0 | O18: 105 | P18: 0 | Q18: 0 | R18: 105 | S18: 0 | T18: 0 | U18: 0 | V18: 0 | W18: Ministerstvo obrany SR | X18: 2111 | Y18: 0 | Z18: 0 | AA18: 0 | AB18: 0 | AC18: 0 | AD18: 0 | AE18: 0 | AF18: 0 | AG18: 0 | AH18: Ministerstvo obrany SR | AI18: 2111 | AJ18: 0 | AK18: 0 | AL18: 0 | AM18: 0 | AN18: 0 | AO18: 0 | AP18: 0 | AQ18: 0 | AR18: 0 | AS18: Ministerstvo obrany SR | AT18: 2111 | AU18: 0 | AV18: 0 | AW18: 0 | AZ18: 0
A19: Ministerstvo vnútra SR | B19: 2112 | C19: 0 | D19: 82089 | E19: 0 | F19: 0 | G19: 55603 | H19: 0 | I19: 0 | J19: 26486 | K19: 0 | L19: Ministerstvo vnútra SR | M19: 2112 | N19: 0 | O19: 26060 | P19: 0 | Q19: 0 | R19: 88 | S19: 0 | T19: 0 | U19: 49 | V19: 0 | W19: Ministerstvo vnútra SR | X19: 2112 | Y19: 0 | Z19: 0 | AA19: 0 | AB19: 0 | AC19: 25923 | AD19: 0 | AE19: 0 | AF19: 0 | AG19: 0 | AH19: Ministerstvo vnútra SR | AI19: 2112 | AJ19: 0 | AK19: 0 | AL19: 0 | AM19: 0 | AN19: 426 | AO19: 0 | AP19: 0 | AQ19: 0 | AR19: 0 | AS19: Ministerstvo vnútra SR | AT19: 2112 | AU19: 0 | AV19: 0 | AW19: 0 | AZ19: 0
... A43: Kancelária Najvyššieho správneho súdu SR | B43: 2156 | C43: 0 | D43: 73 | E43: 0 | F43: 0 | G43: 73 | H43: 0 | I43: 0 | J43: 0 | K43: 0 | L43: Kancelária Najvyššieho správneho súdu SR | M43: 2156 | N43: 0 | O43: 0 | P43: 0 | Q43: 0 | R43: 0 | S43: 0 | T43: 0 | U43: 0 | V43: 0 | W43: Kancelária Najvyššieho správneho súdu SR | X43: 2156 | Y43: 10165 | Z43: 35029 | AA43: 344.60403 | AB43: 0 | AC43: 0 | AD43: 0 | AE43: 0 | AF43: 0 | AG43: 0 | AH43: Kancelária Najvyššieho správneho súdu SR | AI43: 2156 | AJ43: 0 | AK43: 0 | AL43: 0 | AM43: 0 | AN43: 0 | AO43: 0 | AP43: 0 | AQ43: 0 | AR43: 0 | AS43: Kancelária Najvyššieho správneho súdu SR | AT43: 2156 | AU43: 0 | AV43: 0 | AW43: 0 | AZ43: 0
A44: S P O L U | C44: 2906212 | D44: 2440161 | E44: 83.963627 | F44: 1690997 | G44: 1025608 | H44: 60.651083 | I44: 1215215 | J44: 1414553 | K44: 116.40352 | L44: S P O L U | N44: 202053 | O44: 1141820 | P44: 565.10915 | Q44: 14226 | R44: 123504 | S44: 868.1569 | T44: 0 | U44: 5052 | V44: 0 | W44: S P O L U | Y44: 10165 | Z44: 35029 | AA44: 344.60403 | AB44: 9480 | AC44: 214362 | AD44: 2261.2025 | AE44: 18000 | AF44: 33967 | AG44: 188.70556 | AH44: S P O L U | AJ44: 755 | AK44: 37501 | AL44: 4967.0199 | AM44: 41254 | AN44: 41549 | AO44: 100.71508 | AP44: 971302 | AQ44: 222834 | AR44: 22.941783 | AS44: S P O L U | AU44: 606 | AV44: 8350 | AW44: 1377.8878 | AX44: 0 | AY44: 0 | AZ44: 0
N47: 0 | O47: 0 | Q47: 0 | R47: 0

Sheet Tab. č. 10
G1: Tabuľka: 10
G2: Strana: 1
C3: Finančné operácie na samostatných účtoch štátnych rozpočtových organizácií za rok 2021
C4: (v tis. EUR)
B8: Kód EK | C8: Ukazovateľ | D8: Schválený rozpočet | E8: Upravený rozpočet | F8: Skutočnosť | G8: % k upravenému rozpočtu
B9: I. | C9: PRÍJMY spolu | D9: 58403 | E9: 69885 | F9: 54606876 | G9: 78138.193
B11: 400 | C11: Príjmy z transakcií s finančnými aktívami a finančnými pasívami | D11: 58403 | E11: 69885 | F11: 30542072 | G11: 43703.33
C12: v tom:
B13: 410 | C13: zo splátok tuzemských úverov, pôžičiek a návratných finančných výpomocí (len istín) | D13: 57750 | E13: 57750 | F13: 1642901 | G13: 2844.8502
B14: 420 | C14: zo splátok zahraničných úverov, pôžičiek a návratných finančných výpomocí (len istín) | D14: 0 | E14: 0 | F14: 11437497 | G14: 0
B15: 430 | C15: z predaja majetkových účastí | D15: 0 | E15: 0 | F15: 0 | G15: 0
B16: 440 | C16: z predaja privatizovaného majetku a prevádzaného majetku | D16: 0 | E16: 0 | F16: 0 | G16: 0
B17: 450 | C17: z ostatných finančných operácií | D17: 653 | E17: 12135 | F17: 17461674 | G17: 143895.13
B18: 500 | C18: Prijaté úvery, pôžičky a návratné finančné výpomoci | D18: 0 | E18: 0 | F18: 24064804 | G18: 0
B19: 510 | C19: Tuzemské úvery, pôžičky a návratné finančné výpomoci | D19: 0 | E19: 0 | F19: 23454183 | G19: 0
B20: 520 | C20: Zahraničné úvery, pôžičky a návratné finančné výpomoci | D20: 0 | E20: 0 | F20: 610621 | G20: 0
B21: II. | C21: VÝDAVKY spolu | D21: 95205 | E21: 99456 | F21: 37613026 | G21: 37818.76
B23: 800 | C23: Výdavky z transakcií s finančnými aktívami a finančnými pasívami | D23: 95205 | E23: 99456 | F23: 37613026 | G23: 37818.76
B24: 810 | C24: Úvery, pôžičky, návratné finančné výpomoci, účasť na majetku a ostatné výdavkové operácie | D24: 95205 | E24: 99456 | F24: 23197625 | G24: 23324.51
B25: 820 | C25: Splácanie istín | D25: 0 | E25: 0 | F25: 14415401 | G25: 0
C26: v tom: | G26: 0
B27: 821 | C27: splácanie tuzemskej istiny | D27: 0 | E27: 0 | F27: 12726237 | G27: 0
