Workbook

Sheet Zoznam príloh ŠZÚ za rok 2021
B2: Zoznam príloh Návrhu štátneho zaverečného účtu Slovenskej republiky za rok 2021
B4: Tab. č. 1 | C4: Bilancia príjmov a výdavkov štátneho rozpočtu za rok 2021
B5: Tab. č. 2 | C5: Daňové príjmy štátneho rozpočtu za rok 2021
B6: Tab. č. 3 | C6: Nedaňové príjmy štátneho rozpočtu, granty a transfery za rok 2021
B7: Tab. č. 4 | C7: Príjmy kapitol ŠR za rok 2020 – záväzné ukazovatele
B8: Tab. č. 5 | C8: Nedaňové príjmy štátneho rozpočtu podľa kapitol ŠR za rok 2021
B9: Tab. č. 6 | C9: Príjmy štátneho rozpočtu podľa zdrojov v roku 2021
B10: Tab. č. 7 | C10: Výdavky štátneho rozpočtu podľa kategórií a kapitol ŠR za rok 2021
B11: Tab. č. 8 | C11: Bežné transfery za rok 2021
B12: Tab. č. 9 | C12: Kapitálové výdavky za rok 2021
B13: Tab. č. 10 | C13: Finančné operácie na samostatných účtoch štátnych rozpočtových organizácií za rok 2021
B14: Tab. č. 11 | C14: Výdavky štátneho rozpočtu podľa funkčnej klasifikácie za rok 2021
B15: Tab. č. 12 | C15: Výdavky štátneho rozpočtu podľa kapitol ŠR a zdrojov v roku 2021
... B35: Tab. č. 32 | C35: Finančné operácie štátnych príspevkových organizácií za rok 2021

Sheet Tab. č. 1
F1: Tabuľka: 1
F2: Strana: 1
A3: Bilancia príjmov a výdavkov štátneho rozpočtu za rok 2021
A4: (v tis. eur)
B6: Ukazovateľ | C6: Schválený rozpočet | D6: Upravený rozpočet | E6: Skutočnosť | F6: % k upravenému rozpočtu
A8: I. | B8: PRÍJMY spolu | C8: 15806153 | D8: 15329006 | E8: 17197298 | F8: 112.18795
A9: A. | B9: Daňové príjmy | C9: 11798851 | D9: 11798851 | E9: 13546039 | F9: 114.80812
A10: 1. | B10: Dane z príjmov a kapitálového majetku | C10: 2089143 | D10: 2089143 | E10: 3167002 | F10: 151.59336
B11: v tom: - daň z príjmov fyzickej osoby | C11: 36310 | D11: 36310 | E11: 17876 | F11: 49.231617
B12: v tom: - zo závislej činnosti | C12: 36269 | D12: 36269 | E12: 3304281 | F12: 9110.4828
B13: - z podnikania, z inej samostatnej zárobkovej činnosti a z prenájmu | C13: 41 | D13: 41 | E13: 41410 | F13: 101000
B14: - výnos dane z príjmov poukázaný územnej samospráve | C14: 0 | D14: 0 | E14: -3277965 | F14: 0
B15: - prevod podielu dane z príjmov fyzických osôb na osobitný účel | C15: 0 | D15: 0 | E15: -49850 | F15: 0
B16: - daň z príjmov právnickej osoby | C16: 1813344 | D16: 1813344 | E16: 2859372 | F16: 157.68503
B17: - daň z príjmov vyberaná zrážkou | C17: 239489 | D17: 239489 | E17: 289754 | F17: 120.98844
A18: 2. | B18: Dane z majetku | C18: 0 | D18: 0 | E18: 11 | F18: 0
A19: 3. | B19: Dane za tovary a služby | C19: 9670170 | D19: 9670170 | E19: 10327344 | F19: 106.79589
B20: v tom: - daň z pridanej hodnoty | C20: 7038792 | D20: 7038792 | E20: 7760691 | F20: 110.25601
B21: - spotrebné dane | C21: 2438989 | D21: 2438989 | E21: 2369823 | F21: 97.164153
B22: - dane z používania tovarov a z povolenia na výkon činnosti | C22: 113194 | D22: 113194 | E22: 117265 | F22: 103.59648
B23: - iné dane za tovary a služby | C23: 79195 | D23: 79195 | E23: 79565 | F23: 100.4672
A24: 4. | B24: Dane z medzinárodného obchodu a transakcií | C24: 23960 | D24: 23960 | E24: 28735 | F24: 119.92905
B25: z toho: - podiel na vybraných finančných prostriedkoch | C25: 23960 | D25: 23960 | E25: 28724 | F25: 119.88314
A26: 5. | B26: Sankcie uložené v daňovom konaní a sankcie súvis.s úhrad.za služby verej.poskytov.Rozhlasom a tel. | C26: 15578 | D26: 15578 | E26: 22947 | F26: 147.30389
A27: 6. | B27: Iné dane (dane z emisných kvót) | C27: 0 | D27: 0 | E27: 0 | F27: 0
A28: B. | B28: Nedaňové príjmy | C28: 1183849 | D28: 1183455 | E28: 1338320 | F28: 113.08584
A29: 1. | B29: Príjmy z podnikania a z vlastníctva majetku | C29: 429278 | D29: 428307 | E29: 486010 | F29: 113.47235
A30: 2. | B30: Administratívne poplatky a iné poplatky a platby | C30: 351319 | D30: 332928 | E30: 354592 | F30: 106.50711
A31: 3. | B31: Kapitálové príjmy | C31: 23707 | D31: 29366 | E31: 13703 | F31: 46.662807
A32: 4. | B32: Úroky z tuzemských a zahraničných úverov, pôžičiek, návrat.finan.výpomocí, vkladov a ážio | C32: 6490 | D32: 6490 | E32: 7055 | F32: 108.7057
A33: 5. | B33: Iné nedaňové príjmy | C33: 373055 | D33: 386364 | E33: 476960 | F33: 123.44835
A34: C. | B34: Granty a transfery | C34: 2823453 | D34: 2346700 | E34: 2312939 | F34: 98.561341
B35: v tom: - tuzemské granty a transfery | C35: 40921 | D35: 40888 | E35: 38946 | F35: 95.25044
B36: - zahraničné granty a transfery | C36: 2782532 | D36: 2305812 | E36: 2273993 | F36: 98.620052
B37: z toho: - prostriedky z rozpočtu EÚ | C37: 2782532 | D37: 2305812 | E37: 2273990 | F37: 98.619922
A38: II. | B38: VÝDAVKY spolu | C38: 27603808 | D38: 25736061 | E38: 24211424 | F38: 94.075873
A39: A. | B39: Bežné výdavky | C39: 24697596 | D39: 23293537 | E39: 21771263 | F39: 93.464822
A40: 1. | B40: Mzdy, platy, služobné príjmy a ostatné osobné vyrovnania | C40: 2499334 | D40: 2667022 | E40: 2624189 | F40: 98.393977
A41: 2. | B41: Poistné a príspevok do poisťovní | C41: 887037 | D41: 966433 | E41: 953727 | F41: 98.685268
A42: 3. | B42: Tovary a služby | C42: 8052253 | D42: 2652298 | E42: 2358052 | F42: 88.905998
A43: 4. | B43: Bežné transfery | C43: 13258702 | D43: 17007514 | E43: 15835025 | F43: 93.106053
B44: z toho: - na platené poistné za skupiny osôb ustanovené zákonom | C44: 1804753 | D44: 1713625 | E44: 1708413 | F44: 99.695849
B45: - sociálne dávky | C45: 2080826 | D45: 3553208 | E45: 3549707 | F45: 99.901469
B46: - transf.nefinanč.subjek.a transf.PO nezarad.vo verej.správe v registri org.ved. ŠÚ SR | C46: 1367904 | D46: 1352646 | E46: 1344028 | F46: 99.362878
B47: - transfery obciam a VÚC | C47: 108447 | D47: 366941 | E47: 362803 | F47: 98.872298
B48: - odvody do rozpočtu EÚ | C48: 1038917 | D48: 1063704 | E48: 966750 | F48: 90.885246
A49: 5. | B49: Splácanie úrokov a ostatné platby súvisiace s úverom, pôžičkou, návratnou finančnou výpomocou a finančným prenájmom | C49: 270 | D49: 270 | E49: 270 | F49: 100
A50: B. | B50: Kapitálové výdavky | C50: 2906212 | D50: 2442524 | E50: 2440161 | F50: 99.903256
A51: 1. | B51: Obstarávanie kapitálových aktív | C51: 1690997 | D51: 1027679 | E51: 1025608 | F51: 99.798478
A52: 2. | B52: Kapitálové transfery | C52: 1215215 | D52: 1414845 | E52: 1414553 | F52: 99.979362
B53: z toho: - transfery obciam a VÚC | C53: 27480 | D53: 248343 | E53: 248329 | F53: 99.994363
A54: I.-II. | B54: Prebytok (+), schodok (-) | C54: -11797655 | D54: -10407055 | E54: -7014126 | F54: 67.397799

Sheet Tab. č. 2
A1: Štátna pokladnica | G1: Tabuľka: 2
A2: 44644 | G2: Strana: 1
A3: Daňové príjmy štátneho rozpočtu za rok 2021
B4: (v tis. eur)
A6: Kód EK | B6: Ukazovateľ | C6: Skutočnosť 2020 | D6: Schválený rozpočet 2021 | E6: Upravený rozpočet 2021 | F6: Skutočnosť 2021 | G6: % k upravenému rozpočtu
D7: Schválený rozpočet 2010
A9: 110 | B9: Dane z príjmov a kapitálového majetku | C9: 2558573 | D9: 2089143 | E9: 2089143 | F9: 3167002 | G9: 151.59336
A10: 111 | B10: Daň z príjmov fyzickej osoby | C10: -26068 | D10: 36310 | E10: 36310 | F10: 17876 | G10: 49.231617
A11: v tom: 111001 | B11: Zo závislej činnosti | C11: 3090068 | D11: 36269 | E11: 36269 | F11: 3304281 | G11: 9110.4828
A12: 111002 | B12: Z podnikania, z inej samostatnej zárobkovej činnosti a z prenájmu | C12: 52631 | D12: 41 | E12: 41 | F12: 41410 | G12: 101000
A13: 111003 | B13: Výnos dane z príjmov poukázaný územnej samospráve | C13: -3146223 | D13: 0 | E13: 0 | F13: -3277965 | G13: 0
A14: 111004 | B14: Prevod podielu dane z príjmov fyzických osôb na osobitný účel | C14: -22544 | D14: 0 | E14: 0 | F14: -49850 | G14: 0
A15: 112 | B15: Daň z príjmov právnickej osoby | C15: 2349560 | D15: 1813344 | E15: 1813344 | F15: 2859372 | G15: 157.68503
A16: z toho: 112001 | B16: Prevod podielu dane z príjmov právnických osôb na osobitný účel | C16: -30847 | D16: 1813344 | E16: 1813344 | F16: -37341 | G16: -2.0592342
A17: 113 | B17: Daň z príjmov vyberaná zrážkou | C17: 235081 | D17: 239489 | E17: 239489 | F17: 289754 | G17: 120.98844
A18: 120 | B18: Dane z majetku | C18: 5 | D18: 0 | E18: 0 | F18: 11 | G18: 0
A19: 122 | B19: Dane z dedičstva a darovania | C19: 0 | D19: 0 | E19: 0 | F19: 0 | G19: 0
A20: 123 | B20: Dane z finančných a kapitálových transakcií | C20: 5 | D20: 0 | E20: 0 | F20: 11 | G20: 0
A21: v tom: 123001 | B21: Z prevodu a prechodu nehnuteľností | C21: 5 | D21: 0 | E21: 0 | F21: 11 | G21: 0
A22: 130 | B22: Dane za tovary a služby | C22: 9268251 | D22: 9670170 | E22: 9670170 | F22: 10327344 | G22: 106.79589
A23: 131 | B23: Daň z pridanej hodnoty | C23: 6791757 | D23: 7038792 | E23: 7038792 | F23: 7760691 | G23: 110.25601
A24: 132 | B24: Spotrebné dane | C24: 2257738 | D24: 2438989 | E24: 2438989 | F24: 2369823 | G24: 97.164153
A25: 132001 | B25: Z minerálneho oleja | C25: 1199259 | D25: 1269234 | E25: 1269234 | F25: 1236780 | G25: 97.443025
A26: 132003 | B26: Z liehu | C26: 206554 | D26: 210227 | E26: 210227 | F26: 214776 | G26: 102.16385
A27: 132005 | B27: Z piva | C27: 56929 | D27: 58991 | E27: 58991 | F27: 55317 | G27: 93.771931
A28: 132007 | B28: Z vína | C28: 4814 | D28: 4741 | E28: 4741 | F28: 5146 | G28: 108.5425
A29: 132009 | B29: Z tabakových výrobkov | C29: 754285 | D29: 860266 | E29: 860266 | F29: 823106 | G29: 95.680406
A30: 132011 | B30: Z elektriny | C30: 11876 | D30: 11703 | E30: 11703 | F30: 10058 | G30: 85.943775
A31: 132012 | B31: Z uhlia | C31: 275 | D31: 212 | E31: 212 | F31: 271 | G31: 127.83019
A32: 132013 | B32: Zo zemného plynu | C32: 23746 | D32: 23615 | E32: 23615 | F32: 24369 | G32: 103.19289
A33: 134 | B33: Dane z používania tovarov a z povolenia na výkon činnosti | C33: 141232 | D33: 113194 | E33: 113194 | F33: 117265 | G33: 103.59648
A34: z toho: 134001 | B34: Z úhrad za dobývací priestor | C34: 85 | D34: 99 | E34: 99 | F34: 82 | G34: 82.828283
A35: 134002 | B35: Z motorových vozidiel | C35: 141147 | D35: 113095 | E35: 113095 | F35: 117183 | G35: 103.61466
A36: 139 | B36: Iné dane za tovary a služby | C36: 77524 | D36: 79195 | E36: 79195 | F36: 79565 | G36: 100.4672
A37: 140 | B37: Dane z medzinárodného obchodu a transakcií | C37: 19904 | D37: 23960 | E37: 23960 | F37: 28735 | G37: 119.92905
A38: 141 | B38: Dovozné clo | C38: 16 | D38: 0 | E38: 0 | F38: 10 | G38: 0
A39: 142 | B39: Dovozná prirážka | C39: 0 | D39: 0 | E39: 0 | F39: 1 | G39: 0
A40: 143 | B40: Podiel na vybraných finančných prostriedkoch | C40: 19888 | D40: 23960 | E40: 23960 | F40: 28724 | G40: 119.88314
A41: 149 | B41: Ostatné colné príjmy | C41: 0 | D41: 0 | E41: 0 | F41: 0 | G41: 0
A42: 160 | B42: Sankcie uložené v daň. konaní a sankcie súvisiace s úhrad. za služby verej. poskytov. Rozhlasom a televízou Slovenska | C42: 20007 | D42: 15578 | E42: 15578 | F42: 22947 | G42: 147.30389
A43: 190 | B43: Iné dane (dane z emisných kvót) | C43: -1318 | D43: 0 | E43: 0 | F43: 0 | G43: 0
A44: 100 | B44: Daňové príjmy spolu | C44: 11865422 | D44: 11798851 | E44: 11798851 | F44: 13546039 | G44: 114.80812

Sheet Tab. č. 3
G1: Tabuľka: 3
G2: Strana: 1
A3: Nedaňové príjmy štátneho rozpočtu, granty a transfery za rok 2021
B4: (v tis. eur)
A6: Kód EK | B6: Ukazovateľ | C6: Skutočnosť 2020 | D6: Schválený rozpočet 2021 | E6: Upravený rozpočet 2021 | F6: Skutočnosť 2021 | G6: % k upravenému rozpočtu
D7: Schválený rozpočet 2010
A9: 210 | B9: Príjmy z podnikania a z vlastníctva majetku | C9: 434266 | D9: 429278 | E9: 428307 | F9: 486010 | G9: 113.47235
A10: 211 | B10: Príjmy z podnikania | C10: 428738 | D10: 423978 | E10: 423979 | F10: 480820 | G10: 113.40656
A11: v tom: 211003 | B11: Dividendy | C11: 428129 | D11: 423515 | E11: 423515 | F11: 480226 | G11: 113.39055
A12: 211004 | B12: Iné príjmy z podnikania | C12: 609 | D12: 463 | E12: 464 | F12: 594 | G12: 128.01724
A13: 212 | B13: Príjmy z vlastníctva | C13: 5528 | D13: 5300 | E13: 4328 | F13: 5190 | G13: 119.91682
A14: 220 | B14: Administratívne poplatky a iné poplatky a platby | C14: 387962 | D14: 351319 | E14: 332928 | F14: 354592 | G14: 106.50711
A15: 221 | B15: Administratívne poplatky | C15: 219408 | D15: 229386 | E15: 228792 | F15: 219202 | G15: 95.80842
A16: v tom: 221001 | B16: Súdne poplatky | C16: 26986 | D16: 5 | E16: 14 | F16: 29917 | G16: 213692.86
A17: 221002 | B17: Tržby z predaja kolkových známok | C17: 0 | D17: 0 | E17: 0 | F17: 0 | G17: 0
A18: 221003 | B18: Puncové poplatky | C18: 613 | D18: 1218 | E18: 693 | F18: 693 | G18: 100
A19: 221004 | B19: Ostatné poplatky | C19: 191809 | D19: 228063 | E19: 227985 | F19: 188592 | G19: 82.721232
A20: 221005 | B20: Licencie | C20: 0 | D20: 100 | E20: 100 | F20: 0 | G20: 0
A21: 222 | B21: Pokuty, penále a iné sankcie | C21: 56751 | D21: 65471 | E21: 53650 | F21: 56438 | G21: 105.19664
A22: 223 | B22: Poplatky a platby z nepriemyselného a náhodného predaja a služieb | C22: 111803 | D22: 56462 | E22: 50486 | F22: 78952 | G22: 156.38395
A23: 230 | B23: Kapitálové príjmy | C23: 12436 | D23: 23707 | E23: 29366 | F23: 13703 | G23: 46.662807
A24: 240 | B24: Úroky z tuzemských úverov, pôžičiek, návratných finančných výpomocí, vkladov a ážio | C24: 8883 | D24: 6486 | E24: 6486 | F24: 7054 | G24: 108.75732
A25: 250 | B25: Úroky zo zahraničných úverov, pôžičiek, návratných finančných výpomocí a vkladov | C25: 0 | D25: 4 | E25: 4 | F25: 1 | G25: 25
A26: 290 | B26: Iné nedaňové príjmy | C26: 453079 | D26: 373055 | E26: 386364 | F26: 476960 | G26: 123.44835
A27: 291 | B27: Vrátené neoprávnene použité alebo zadržané finančné prostriedky | C27: 20795 | D27: 324 | E27: 4301 | F27: 61341 | G27: 1426.2032
A28: 292 | B28: Ostatné príjmy | C28: 432284 | D28: 372731 | E28: 382063 | F28: 415619 | G28: 108.78284
A29: z toho: 292006 | B29: Z náhrad z poistného plnenia | C29: 1527 | D29: 1135 | E29: 1111 | F29: 1287 | G29: 115.84158
A30: 292008 | B30: Z odvodov z hazardných hier a iných podobných hier | C30: 212590 | D30: 250000 | E30: 250000 | F30: 220131 | G30: 88.0524
B31: Ostatné | C31: 218167 | D31: 121596 | E31: 130952 | F31: 194201 | G31: 148.29938
A32: 200 | B32: Nedaňové príjmy spolu | C32: 1296626 | D32: 1183849 | E32: 1183455 | F32: 1338320 | G32: 113.08584
A33: 300 | B33: Granty a tranfery | C33: 2588586 | D33: 2823453 | E33: 2346700 | F33: 2312939 | G33: 98.561341

Sheet Tab. č. 4
G1: Tabuľka: 4
G2: Strana: 1
A3: Príjmy kapitol ŠR za rok 2021 - záväzné ukazovatele
A4: (v tis. eur)
A7: Kapitola štátneho rozpočtu | B7: Príjmy - záväzný ukazovateľ | E7: Prostriedky z rozpočtu EÚ
B8: Rozpočet | C8: Skutočnosť | D8: % plnenia | E8: Rozpočet | F8: Skutočnosť | G8: % plnenia
A9: Kancelária Národnej rady SR | B9: 1400 | C9: 976 | D9: =SUM(C9*100/B9) -> 69.714286
A10: Kancelária prezidenta SR | B10: 10 | C10: 13 | D10: =SUM(C10*100/B10) -> 130
A11: Úrad vlády SR | B11: 700 | C11: 392 | D11: =SUM(C11*100/B11) -> 56 | E11: 24618 | F11: 0 | G11: x
A12: Ministerstvo investícií, reg.rozoja a informatizácie SR | C12: 197 | D12: x | E12: 0 | F12: 289038 | G12: x
A13: Kancelária Ústavného súdu SR | B13: 10 | C13: 8 | D13: =SUM(C13*100/B13) -> 80
A14: Kancelária Najvyššieho súdu SR | B14: 10 | C14: 14 | D14: =SUM(C14*100/B14) -> 140
A15: Generálna prokuratúra SR | B15: 500 | C15: 332 | D15: =SUM(C15*100/B15) -> 66.4
A16: Najvyšší kontrolný úrad SR | B16: 20 | C16: 11 | D16: =SUM(C16*100/B16) -> 55
A17: Slovenská informačná služba | B17: 200 | C17: 97 | D17: =SUM(C17*100/B17) -> 48.5
A18: Ministerstvo zahraničných vecí a európskych záležitostí SR | B18: 4300 | C18: 3678 | D18: =SUM(C18*100/B18) -> 85.534884
A19: Ministerstvo obrany SR | B19: 5000 | C19: 4779 | D19: =SUM(C19*100/B19) -> 95.58
A20: Ministerstvo vnútra SR | B20: 60000 | C20: 57330 | D20: =SUM(C20*100/B20) -> 95.55 | E20: 131398 | F20: 142671 | G20: =SUM(F20*100/E20) -> 108.57928
A21: Ministerstvo spravodlivosti SR | B21: 18248 | C21: 25599 | D21: =SUM(C21*100/B21) -> 140.28387
A22: Ministerstvo financií SR | B22: 38630 | C22: 41012 | D22: =SUM(C22*100/B22) -> 106.16619 | E22: 61874 | F22: 0 | G22: x
A23: Ministerstvo životného prostredia SR | B23: 350 | C23: 289 | D23: =SUM(C23*100/B23) -> 82.571429 | E23: 384829 | F23: 279474 | G23: =SUM(F23*100/E23) -> 72.622905
A24: Ministerstvo školstva, vedy, výskumu a športu SR | B24: 500 | C24: 514 | D24: =SUM(C24*100/B24) -> 102.8 | E24: 107005 | F24: 126407 | G24: =SUM(F24*100/E24) -> 118.13186
A25: Ministerstvo zdravotníctva SR | B25: 42235 | C25: 41611 | D25: =SUM(C25*100/B25) -> 98.522552
A26: Ministerstvo práce, sociálnych vecí a rodiny SR | B26: 15984 | C26: 18414 | D26: =SUM(C26*100/B26) -> 115.2027 | E26: 208169 | F26: 418831 | G26: =SUM(F26*100/E26) -> 201.19758
A27: Ministerstvo kultúry SR | B27: 1500 | C27: 623 | D27: =SUM(C27*100/B27) -> 41.533333
A28: Ministerstvo hospodárstva SR | B28: 84285 | C28: 83835 | D28: =SUM(C28*100/B28) -> 99.466097 | E28: 269094 | F28: 279588 | G28: =SUM(F28*100/E28) -> 103.89975
A29: Ministerstvo pôdohospodárstva a rozvoja vidieka SR | B29: 9800 | C29: 7798 | D29: =SUM(C29*100/B29) -> 79.571429 | E29: 968053 | F29: 497502 | G29: =SUM(F29*100/E29) -> 51.392021
A30: Ministerstvo dopravy,výstavby a regionálneho rozvoja SR | B30: 17343 | C30: 47081 | D30: =SUM(C30*100/B30) -> 271.46976 | E30: 297491 | F30: 236195 | G30: =SUM(F30*100/E30) -> 79.395679
A31: Úrad geodézie, kartografie a katastra SR | B31: 230 | C31: 1514 | D31: =SUM(C31*100/B31) -> 658.26087
A32: Štatistický úrad SR | B32: 14196 | C32: 82 | D32: =SUM(C32*100/B32) -> 0.5776275
A33: Úrad pre verejné obstarávanie | B33: 1000 | C33: 4870 | D33: =SUM(C33*100/B33) -> 487
A34: Úrad pre reguláciu sieťových odvetví | B34: 200 | C34: 222 | D34: =SUM(C34*100/B34) -> 111
A35: Úrad jadrového dozoru SR | B35: 9194 | C35: 9406 | D35: =SUM(C35*100/B35) -> 102.30585
A36: Úrad priemyselného vlastníctva SR | B36: 3200 | C36: 3876 | D36: =SUM(C36*100/B36) -> 121.125
A37: Úrad pre normalizáciu, metrológiu skúšobníctvo SR | B37: 1000 | C37: 896 | D37: =SUM(C37*100/B37) -> 89.6
A38: Protimonopolný úrad SR | B38: 1000 | C38: 237 | D38: =SUM(C38*100/B38) -> 23.7
A39: Národný bezpečnostný úrad | B39: 20 | C39: 21 | D39: =SUM(C39*100/B39) -> 105
A40: Správa štátnych hmotných rezerv SR | B40: 922 | C40: 510 | D40: =SUM(C40*100/B40) -> 55.314534
A41: Všeobecná pokladničná správa | D41: x | E41: 330000 | F41: 4283 | G41: =SUM(F41*100/E41) -> 1.2978788
A42: Slovenská akadémia vied | B42: 1000 | C42: 1871 | D42: =SUM(C42*100/B42) -> 187.1
A43: Kancelária Súdnej rady SR | D43: x
A44: S P O L U | B44: =SUM(B9:B43) -> 332987 | C44: =SUM(C9:C43) -> 358108 | D44: =SUM(C44*100/B44) -> 107.54414 | E44: =SUM(E9:E43) -> 2782531 | F44: =SUM(F9:F43) -> 2273989 | G44: =SUM(F44*100/E44) -> 81.723762

Sheet Tab. č. 5
A1: Príjmy štátneho rozpočtu podľa kategórií a kapitol ŠR za rok 2021:
A2: 1, Dane
A3: 2, Úroky
A4: 3, Nedaňové príjmy
A5: 4, Úhrn
A7: Nedaňové príjmy štátneho rozpočtu podľa kapitol ŠR za rok 2021
A8: (v tis. eur)
A11: Kapitola štátneho rozpočtu | C11: 210 - PRÍJMY Z PODNIKANIA A Z VLASTNÍCTVA MAJETKU | F11: 220 - ADMINISTRATÍVNE POPLATKY A INÉ POPLATKY A PLATBY
B13: č.kap. | C13: Rozpočet | D13: Skutočnosť | E13: % plnenia | F13: Rozpočet | G13: Skutočnosť | H13: % plnenia
A14: Kancelária NR SR | B14: 2101 | C14: 438 | D14: 165 | E14: 37.671233 | F14: 920 | G14: 722 | H14: 78.478261
A15: Kancelária prezidenta SR | B15: 2102 | C15: 0 | D15: 0 | E15: 0 | F15: 0 | G15: 11 | H15: 0
A16: Úrad vlády SR | B16: 2103 | C16: 110 | D16: 156 | E16: 141.81818 | F16: 458 | G16: 217 | H16: 47.379913
A17: Ministerstvo investícií, reg. rozvoja a informatizácie SR | B17: 2104 | C17: 0 | D17: 0 | E17: 0 | F17: 0 | G17: 2 | H17: 0
A18: Kancelária Ústavného súdu SR | B18: 2105 | C18: 10 | D18: 5 | E18: 50 | F18: 0 | G18: 3 | H18: 0
A19: Kancelária Najvyššieho súdu SR | B19: 2106 | C19: 0 | D19: 1 | E19: 0 | F19: 1 | G19: 0 | H19: 0
A20: Generálna prokuratúra SR | B20: 2107 | C20: 40 | D20: 11 | E20: 27.5 | F20: 407 | G20: 120 | H20: 29.484029
A21: Najvyšší kontrolný úrad SR | B21: 2108 | C21: 4 | D21: 4 | E21: 100 | F21: 0 | G21: 1 | H21: 0
A22: Slovenská informačná služba | B22: 2109 | C22: 0 | D22: 0 | E22: 0 | F22: 0 | G22: 0 | H22: 0
A23: Ministerstvo zahraničných vecí a európskych záležitostí SR | B23: 2110 | C23: 500 | D23: 1144 | E23: 228.8 | F23: 100 | G23: 45 | H23: 45
A24: Ministerstvo obrany SR | B24: 2111 | C24: 222 | D24: 299 | E24: 134.68468 | F24: 2804 | G24: 1754 | H24: 62.553495
A25: Ministerstvo vnútra SR | B25: 2112 | C25: 1426 | D25: 966 | E25: 67.741935 | F25: 50265 | G25: 41073 | H25: 81.712922
... A48: Kancelária Súdnej rady SR | B48: 2155 | C48: 0 | D48: 0 | E48: 0 | F48: 0 | G48: 0 | H48: 0
A49: Kancelária Najvyššieho správneho súdu SR | B49: 2156 | C49: 0 | D49: 0 | F49: 0 | G49: 0
A50: S P O L U | C50: 429278 | D50: 486010 | E50: 113.21568 | F50: 351319 | G50: 354592 | H50: 100.93163
A54: Kapitola štátneho rozpočtu | C54: 230 - KAPITÁLOVÉ PRÍJMY | F54: 240 - ÚROKY Z TUZEMSKÝCH ÚVEROV,PÔŽIČIEK, NÁV. FIN. VÝPOMOCÍ, VKLADOV A ÁŽIO | I54: 250 - ÚROKY ZO ZAHRANIČNÝCH ÚVEROV,PÔŽIČIEK, NÁV. FIN. VÝPOMOCÍ A VKLADOV
B56: č.kap. | C56: Rozpočet | D56: Skutočnosť | E56: % plnenia | F56: Rozpočet | G56: Skutočnosť | H56: % plnenia | I56: Rozpočet | J56: Skutočnosť | K56: % plnenia
A57: Kancelária NR SR | B57: 2101 | C57: 0 | D57: 0 | E57: 0 | F57: 0 | G57: 0 | H57: 0 | I57: 0 | J57: 0 | K57: 0
A58: Kancelária prezidenta SR | B58: 2102 | C58: 0 | D58: 0 | E58: 0 | F58: 0 | G58: 0 | H58: 0 | I58: 0 | J58: 0 | K58: 0
A59: Úrad vlády SR | B59: 2103 | C59: 0 | D59: 0 | E59: 0 | F59: 0 | G59: 0 | H59: 0 | I59: 0 | J59: 0 | K59: 0
A60: Ministerstvo investícií, reg. rozvoja a informatizácie SR | B60: 2104 | C60: 0 | D60: 0 | E60: 0 | F60: 0 | G60: 0 | H60: 0 | I60: 0 | J60: 0 | K60: 0
A61: Kancelária Ústavného súdu SR | B61: 2105 | C61: 0 | D61: 0 | E61: 0 | F61: 0 | G61: 0 | H61: 0 | I61: 0 | J61: 0 | K61: 0
A62: Kancelária Najvyššieho súdu SR | B62: 2106 | C62: 0 | D62: 0 | E62: 0 | F62: 0 | G62: 0 | H62: 0 | I62: 0 | J62: 0 | K62: 0
A63: Generálna prokuratúra SR | B63: 2107 | C63: 0 | D63: 0 | E63: 0 | F63: 0 | G63: 0 | H63: 0 | I63: 0 | J63: 0 | K63: 0
A64: Najvyšší kontrolný úrad SR | B64: 2108 | C64: 0 | D64: 0 | E64: 0 | F64: 0 | G64: 0 | H64: 0 | I64: 0 | J64: 0 | K64: 0
A65: Slovenská informačná služba | B65: 2109 | C65: 0 | D65: 0 | E65: 0 | F65: 0 | G65: 0 | H65: 0 | I65: 0 | J65: 0 | K65: 0
A66: Ministerstvo zahraničných vecí a európskych záležitostí SR | B66: 2110 | C66: 2300 | D66: 1683 | E66: 73.173913 | F66: 0 | G66: 0 | H66: 0 | I66: 4 | J66: 1 | K66: 25
A67: Ministerstvo obrany SR | B67: 2111 | C67: 1494 | D67: 846 | E67: 56.626506 | F67: 0 | G67: 0 | H67: 0 | I67: 0 | J67: 0 | K67: 0
A68: Ministerstvo vnútra SR | B68: 2112 | C68: 3078 | D68: 9140 | E68: 296.94607 | F68: 0 | G68: 0 | H68: 0 | I68: 0 | J68: 0 | K68: 0
... A92: Kancelária Najvyššieho správneho súdu SR | B92: 2156 | C92: 0 | D92: 0 | E92: 0 | F92: 0 | G92: 0 | H92: 0 | I92: 0 | J92: 0 | K92: 0
A93: S P O L U | C93: 23707 | D93: 13703 | E93: 57.801493 | F93: 6486 | G93: 7054 | H93: 108.75732 | I93: 4 | J93: 1 | K93: 25
A97: Kapitola štátneho rozpočtu | C97: 290 - INÉ NEDAŇOVÉ PRÍJMY | F97: 200 - NEDAŇOVÉ PRÍJMY | I97: 300 - GRANTY A TRANSFERY
B99: č.kap. | C99: Rozpočet | D99: Skutočnosť | E99: % plnenia | F99: Rozpočet | G99: Skutočnosť | H99: % plnenia | I99: Rozpočet | J99: Skutočnosť | K99: % plnenia
A100: Kancelária NR SR | B100: 2101 | C100: 42 | D100: 149 | E100: 354.7619 | F100: 1400 | G100: 1036 | H100: 74 | I100: 0 | J100: 0 | K100: 0
A101: Kancelária prezidenta SR | B101: 2102 | C101: 15 | D101: 3 | E101: 20 | F101: 15 | G101: 14 | H101: 93.333333 | I101: 0 | J101: 0 | K101: 0
A102: Úrad vlády SR | B102: 2103 | C102: 132 | D102: 20 | E102: 15.151515 | F102: 700 | G102: 393 | H102: 56.142857 | I102: 24618 | J102: 0 | K102: 0
A103: Ministerstvo investícií, reg. rozvoja a informatizácie SR | B103: 2104 | C103: 0 | D103: 10755 | E103: 0 | F103: 0 | G103: 10757 | H103: 0 | I103: 0 | J103: 289038 | K103: 0
A104: Kancelária Ústavného súdu SR | B104: 2105 | C104: 0 | D104: 1 | E104: 0 | F104: 10 | G104: 9 | H104: 90 | I104: 0 | J104: 0 | K104: 0
A105: Kancelária Najvyššieho súdu SR | B105: 2106 | C105: 9 | D105: 13 | E105: 144.44444 | F105: 10 | G105: 14 | H105: 140 | I105: 0 | J105: 0 | K105: 0
A106: Generálna prokuratúra SR | B106: 2107 | C106: 53 | D106: 201 | E106: 379.24528 | F106: 500 | G106: 332 | H106: 66.4 | I106: 0 | J106: 0 | K106: 0
A107: Najvyšší kontrolný úrad SR | B107: 2108 | C107: 16 | D107: 342 | E107: 2137.5 | F107: 20 | G107: 347 | H107: 1735 | I107: 0 | J107: 0 | K107: 0
A108: Slovenská informačná služba | B108: 2109 | C108: 200 | D108: 124 | E108: 62 | F108: 200 | G108: 124 | H108: 62 | I108: 0 | J108: 0 | K108: 0
A109: Ministerstvo zahraničných vecí a európskych záležitostí SR | B109: 2110 | C109: 1396 | D109: 806 | E109: 57.73639 | F109: 4300 | G109: 3679 | H109: 85.55814 | I109: 0 | J109: 0 | K109: 0
A110: Ministerstvo obrany SR | B110: 2111 | C110: 526 | D110: 1920 | E110: 365.01901 | F110: 5046 | G110: 4819 | H110: 95.501387 | I110: 0 | J110: 0 | K110: 0
A111: Ministerstvo vnútra SR | B111: 2112 | C111: 7214 | D111: 9579 | E111: 132.78348 | F111: 61983 | G111: 60758 | H111: 98.023652 | I111: 131436 | J111: 142743 | K111: 108.60267
... A135: Kancelária Najvyššieho správneho súdu SR | B135: 2156 | C135: 0 | D135: 0 | E135: 0 | F135: 0 | G135: 0 | H135: 0 | I135: 0 | J135: 0 | K135: 0
A136: S P O L U | C136: 373055 | D136: 476960 | E136: 127.85246 | F136: 1183849 | G136: 1338320 | H136: 113.0482 | I136: 2823453 | J136: 2312939 | K136: 81.918807
A140: Kapitola štátneho rozpočtu | C140: 340 - ZAHRANIČNÉ TRANSFERY | F140: PRÍJMY ŠR spolu
B142: č.kap. | C142: Rozpočet | D142: Skutočnosť | E142: % plnenia | F142: Rozpočet | G142: Skutočnosť | H142: % plnenia
A143: Kancelária NR SR | B143: 2101 | C143: 0 | D143: 0 | E143: 0 | F143: 1400 | G143: 1036 | H143: 74
A144: Kancelária prezidenta SR | B144: 2102 | C144: 0 | D144: 0 | E144: 0 | F144: 15 | G144: 14 | H144: 93.333333
A145: Úrad vlády SR | B145: 2103 | C145: 24618 | D145: 0 | E145: 0 | F145: 25318 | G145: 393 | H145: 1.5522553
A146: Ministerstvo investícií, reg. rozvoja a informatizácie SR | B146: 2104 | C146: 0 | D146: 289038 | E146: 0 | F146: 0 | G146: 299795 | H146: 0
A147: Kancelária Ústavného súdu SR | B147: 2105 | C147: 0 | D147: 0 | E147: 0 | F147: 10 | G147: 9 | H147: 90
A148: Kancelária Najvyššieho súdu SR | B148: 2106 | C148: 0 | D148: 0 | E148: 0 | F148: 10 | G148: 14 | H148: 140
A149: Generálna prokuratúra SR | B149: 2107 | C149: 0 | D149: 0 | E149: 0 | F149: 500 | G149: 332 | H149: 66.4
A150: Najvyšší kontrolný úrad SR | B150: 2108 | C150: 0 | D150: 0 | E150: 0 | F150: 20 | G150: 347 | H150: 1735
A151: Slovenská informačná služba | B151: 2109 | C151: 0 | D151: 0 | E151: 0 | F151: 200 | G151: 124 | H151: 62
A152: Ministerstvo zahraničných vecí a európskych záležitostí SR | B152: 2110 | C152: 0 | D152: 0 | E152: 0 | F152: 4300 | G152: 3679 | H152: 85.55814
A153: Ministerstvo obrany SR | B153: 2111 | C153: 0 | D153: 0 | E153: 0 | F153: 5046 | G153: 4819 | H153: 95.501387
A154: Ministerstvo vnútra SR | B154: 2112 | C154: 131398 | D154: 142672 | E154: 108.58004 | F154: 193419 | G154: 203501 | H154: 105.21252
... A178: Kancelária Najvyššieho správneho súdu SR | B178: 2156 | C178: 0 | D178: 0 | E178: 0 | F178: 0 | G178: 0 | H178: 0
A179: S P O L U | C179: 2782532 | D179: 2273990 | E179: 81.723768 | F179: 15806153 | G179: 17197298 | H179: 108.80129

Sheet Tab. č. 6
A1: Príjmy štátneho rozpočtu podľa zdrojov v roku 2021
B2: (v tis. eur)
A4: Kód zdroja | B4: Názov zdroja | C4: Schválený rozpočet | D4: Upravený rozpočet | E4: Skutočnosť | F4: % k upravenému rozpočtu
A6: 111 | B6: Rozpočtové prostriedky kapitoly | C6: 12980313 | D6: 12980339 | E6: 14824181 | F6: 114.20488
A7: 1142 | B7: Rozvoj vidieka (Záručná sekcia EAGGF) | C7: 0 | D7: 0 | E7: 0 | F7: 0
A8: 1172 | B8: Európsky poľnohospodársky usmerňovací a záručný fond-us | C8: 0 | D8: 0 | E8: 0 | F8: 0
A9: 11H | B9: Transfer od ostatných subjektov verejnej správy | C9: 40811 | D9: 40811 | E9: 38862 | F9: 95.224327
A10: 11K1 | B10: Rozvoj vidieka | C10: 0 | D10: 0 | E10: 0 | F10: 0
A11: 11K2 | B11: Rozvoj vidieka | C11: 0 | D11: 0 | E11: 13 | F11: 0
A12: 11S1 | B12: Európsky fond regionálneho rozvoja (prostriedky EÚ, súčasťou týchto prostriedkov sú aj prostriedky EÚ na financovanie Programu cezhraničnej spolupráce SR - ČR, ako aj prostriedky EÚ na financovanie programu OP INTERACT) | C12: 0 | D12: 0 | E12: 4903 | F12: 0
A13: 11S2 | B13: Európsky fond regionálneho rozvoja (vrátane spolufinancovanie zo ŠR k Programu cezhraničnej spolupráce SR - ČR 2007-2013) | C13: 0 | D13: 0 | E13: 1443 | F13: 0
A14: 11T1 | B14: Európsky sociálny fond | C14: 0 | D14: 0 | E14: 3910 | F14: 0
A15: 11T2 | B15: Európsky sociálny fond - spolufinancovanie zo ŠR | C15: 0 | D15: 0 | E15: 4882 | F15: 0
A16: 11U2 | B16: Kohézny fond - spolufinancovanie zo ŠR | C16: 0 | D16: 0 | E16: 1527 | F16: 0
A17: 1302 | B17: 1. programové obdobie | C17: 0 | D17: 0 | E17: 27 | F17: 0
A18: 131H | B18: Zo štátneho rozpočtu z r.2017 (nevyčerpané prostriedky z r. 2017) | C18: 0 | D18: 0 | E18: 8 | F18: 0
A19: 131I | B19: Zo štátneho rozpočtu z r.2018 (nevyčerpané prostriedky z r. 2018) | C19: 0 | D19: 0 | E19: 3 | F19: 0
A20: 131J | B20: Zo štátneho rozpočtu z r.2019 (nevyčerpané prostriedky z r. 2019) | C20: 0 | D20: 0 | E20: 17 | F20: 0
A21: 131K | B21: Zo štátneho rozpočtu z r.2020 (nevyčerpané prostriedky z r. 2020) | C21: 0 | D21: 0 | E21: 1716 | F21: 0
A22: 13K2 | B22: Rozvoj vidieka | C22: 0 | D22: 0 | E22: 7 | F22: 0
A23: 13S2 | B23: Európsky fond regionálneho rozvoja (vrátane spolufinancovania zo ŠR k Programu cezhraničnej spolupráce SR - ČR 2007-2013) | C23: 0 | D23: 0 | E23: 3609 | F23: 0
A24: 13S3 | B24: Európsky fond regionálneho rozvoja - pro rata | C24: 0 | D24: 0 | E24: 460 | F24: 0
A25: 1AA1 | B25: Európsky fond regionálneho rozvoja | C25: 965463 | D25: 495618 | E25: 530385 | F25: 107.01488
A26: 1AA2 | B26: Európsky fond regionálneho rozvoja | C26: 0 | D26: 0 | E26: 8991 | F26: 0
A27: 1AA3 | B27: Európsky fond regionálneho rozvoja - pro rata | C27: 0 | D27: 0 | E27: 42 | F27: 0
A28: 1AB1 | B28: Kohézny fond | C28: 398262 | D28: 240346 | E28: 243416 | F28: 101.27733
A29: 1AB2 | B29: Kohézny fond | C29: 0 | D29: 0 | E29: 8189 | F29: 0
... A63: 3AM1 | B63: 3AM1 Európska územná spolupráca (Interreg V-A SK-AT, Interreg V-A SK-CZ) | C63: 0 | D63: 2425 | E63: 2425 | F63: 100
A64: 71 | B64: Iné zdroje - používa štátna RO na samostatnom účte | C64: 200 | D64: 175 | E64: 198 | F64: 113.14286
A65: 72 | B65: Prostriedky podľa §§ 17 ods. 4. a 22 ods. 4. zákona č. 523/2004 Z.z. | C65: 2297 | D65: 1869 | E65: 1955 | F65: 104.60139
B66: Spolu | C66: 15806153 | D66: 15329006 | E66: 17197298 | F66: 112.18795

Sheet Tab. č. 7
A1: Výdavky štátneho rozpočtu podľa kategórií a kapitol ŠR za rok 2021:
A2: 1, Mzdy
A3: 2, Bežné transfery
A4: 3, Kapitálové výdavky
A5: 4, Úhrn
A7: Výdavky štátneho rozpočtu podľa kategórií a
A8: kapitol ŠR za rok 2021
A9: (v tis. eur)
A11: Kapitola štátneho rozpočtu | C11: 610 - MZDY,PLATY,SLUŽOBNÉ PRÍJMY A OSTATNÉ OSOBNÉ VYROVNANIA | F11: 620 - POISTNÉ A PRÍSPEVOK DO POISŤOVNÍ | I11: 630 - TOVARY A SLUŽBY
B13: č.kap. | C13: Rozpočet | D13: Skutočnosť | E13: % plnenia | F13: Rozpočet | G13: Skutočnosť | H13: % plnenia | I13: Rozpočet | J13: Skutočnosť | K13: % plnenia
A14: Kancelária Národnej rady SR | B14: 2101 | C14: 18627 | D14: 19146 | E14: 102.78628 | F14: 5250 | G14: 5483 | H14: 104.4381 | I14: 10982 | J14: 10283 | K14: 93.635039
A15: Kancelária prezidenta SR | B15: 2102 | C15: 2394 | D15: 2757 | E15: 115.16291 | F15: 952 | G15: 1035 | H15: 108.71849 | I15: 1052 | J15: 2007 | K15: 190.77947
A16: Úrad vlády SR | B16: 2103 | C16: 11769 | D16: 14509 | E16: 123.2815 | F16: 4118 | G16: 5891 | H16: 143.05488 | I16: 40503 | J16: 11662 | K16: 28.792929
A17: Ministerstvo investícií, regionálneho rozvoja a informatizácie | B17: 2104 | C17: 9311 | D17: 21856 | E17: 234.73311 | F17: 3561 | G17: 8515 | H17: 239.11823 | I17: 18472 | J17: 34055 | K17: 184.36011
A18: Kancelária Ústavného súdu SR | B18: 2105 | C18: 3537 | D18: 3778 | E18: 106.81368 | F18: 1051 | G18: 1093 | H18: 103.99619 | I18: 1777 | J18: 1259 | K18: 70.849747
A19: Kancelária Najvyššieho súdu SR | B19: 2106 | C19: 10466 | D19: 9201 | E19: 87.913243 | F19: 3323 | G19: 3071 | H19: 92.416491 | I19: 1857 | J19: 2431 | K19: 130.91007
A20: Generálna prokuratúra SR | B20: 2107 | C20: 72791 | D20: 69336 | E20: 95.253534 | F20: 24051 | G20: 22746 | H20: 94.57403 | I20: 10977 | J20: 14094 | K20: 128.39574
A21: Najvyšší kontrolný úrad SR | B21: 2108 | C21: 6832 | D21: 7647 | E21: 111.92916 | F21: 2529 | G21: 2810 | H21: 111.11111 | I21: 1973 | J21: 2242 | K21: 113.63406
A22: Slovenská informačná služba | B22: 2109 | C22: 0 | D22: 0 | E22: 0 | F22: 0 | G22: 0 | H22: 0 | I22: 59965 | J22: 64754 | K22: 107.98633
A23: Ministerstvo zahraničných vecí a európskych záležitostí SR | B23: 2110 | C23: 55305 | D23: 57605 | E23: 104.15876 | F23: 19635 | G23: 20093 | H23: 102.33257 | I23: 41305 | J23: 41135 | K23: 99.588428
A24: Ministerstvo obrany SR | B24: 2111 | C24: 433590 | D24: 446030 | E24: 102.86907 | F24: 157077 | G24: 159442 | H24: 101.50563 | I24: 456124 | J24: 417250 | K24: 91.477318
A25: Ministerstvo vnútra SR | B25: 2112 | C25: 926431 | D25: 968842 | E25: 104.57789 | F25: 323746 | G25: 351677 | H25: 108.62744 | I25: 471878 | J25: 343379 | K25: 72.768597
... A49: Kancelária Najvyššieho správneho súdu SR | B49: 2156 | C49: 0 | D49: 1249 | E49: 0 | F49: 0 | G49: 414 | H49: 0 | I49: 0 | J49: 1182 | K49: 0
A50: S P O L U | C50: 2499334 | D50: 2624189 | E50: 104.99553 | F50: 887037 | G50: 953727 | H50: 107.51829 | I50: 8052253 | J50: 2358052 | K50: 29.284375
A54: Kapitola štátneho rozpočtu | C54: 640 - BEŽNÉ TRANSFERY | F54: 650 - SPLÁCANIE ÚROKOV A OSTATNÉ PLATBY SÚVISIACE S ÚVEROM, PÔŽIČKOU, NÁV. FIN. VÝPOMOCOU a FIN. PRENÁJMOM | I54: 600 - BEŽNÉ VÝDAVKY
B56: č.kap. | C56: Rozpočet | D56: Skutočnosť | E56: % plnenia | F56: Rozpočet | G56: Skutočnosť | H56: % plnenia | I56: Rozpočet | J56: Skutočnosť | K56: % plnenia
A57: Kancelária Národnej rady SR | B57: 2101 | C57: 179 | D57: 417 | E57: 232.96089 | F57: 0 | G57: 0 | H57: 0 | I57: 35038 | J57: 35329 | K57: 100.83053
A58: Kancelária prezidenta SR | B58: 2102 | C58: 213 | D58: 234 | E58: 109.85915 | F58: 0 | G58: 0 | H58: 0 | I58: 4611 | J58: 6033 | K58: 130.8393
A59: Úrad vlády SR | B59: 2103 | C59: 3225 | D59: 14044 | E59: 435.47287 | F59: 0 | G59: 0 | H59: 0 | I59: 59615 | J59: 46106 | K59: 77.339596
A60: Ministerstvo investícií, regionálneho rozvoja a informatizácie | B60: 2104 | C60: 45559 | D60: 78832 | E60: 173.03277 | F60: 0 | G60: 0 | H60: 0 | I60: 76903 | J60: 143258 | K60: 186.28402
A61: Kancelária Ústavného súdu SR | B61: 2105 | C61: 366 | D61: 423 | E61: 115.57377 | F61: 0 | G61: 0 | H61: 0 | I61: 6731 | J61: 6553 | K61: 97.355519
A62: Kancelária Najvyššieho súdu SR | B62: 2106 | C62: 199 | D62: 405 | E62: 203.51759 | F62: 0 | G62: 0 | H62: 0 | I62: 15845 | J62: 15108 | K62: 95.34869
A63: Generálna prokuratúra SR | B63: 2107 | C63: 5633 | D63: 5347 | E63: 94.922776 | F63: 0 | G63: 0 | H63: 0 | I63: 113452 | J63: 111523 | K63: 98.299721
A64: Najvyšší kontrolný úrad SR | B64: 2108 | C64: 114 | D64: 232 | E64: 203.50877 | F64: 0 | G64: 0 | H64: 0 | I64: 11448 | J64: 12931 | K64: 112.95423
A65: Slovenská informačná služba | B65: 2109 | C65: 0 | D65: 0 | E65: 0 | F65: 0 | G65: 0 | H65: 0 | I65: 59965 | J65: 64754 | K65: 107.98633
A66: Ministerstvo zahraničných vecí a európskych záležitostí SR | B66: 2110 | C66: 35046 | D66: 33516 | E66: 95.634309 | F66: 0 | G66: 0 | H66: 0 | I66: 151291 | J66: 152349 | K66: 100.69931
A67: Ministerstvo obrany SR | B67: 2111 | C67: 163943 | D67: 165601 | E67: 101.01133 | F67: 0 | G67: 0 | H67: 0 | I67: 1210734 | J67: 1188323 | K67: 98.148974
A68: Ministerstvo vnútra SR | B68: 2112 | C68: 1283476 | D68: 1681231 | E68: 130.99045 | F68: 0 | G68: 0 | H68: 0 | I68: 3005531 | J68: 3345129 | K68: 111.2991
... A92: Kancelária Najvyššieho správneho súdu SR | B92: 2156 | C92: 0 | D92: 27 | E92: 0 | F92: 0 | G92: 0 | H92: 0 | I92: 0 | J92: 2872 | K92: 0
A93: S P O L U | C93: 13258702 | D93: 15835025 | E93: 119.43119 | F93: 270 | G93: 270 | H93: 100 | I93: 24697596 | J93: 21771263 | K93: 88.151345
A97: Kapitola štátneho rozpočtu | C97: 710 - OBSTARÁVANIE KAPITÁLOVÝCH AKTÍV | F97: 720 - KAPITÁLOVÉ TRANSFERY | I97: 700 - KAPITÁLOVÉ VÝDAVKY
B99: č.kap. | C99: Rozpočet | D99: Skutočnosť | E99: % plnenia | F99: Rozpočet | G99: Skutočnosť | H99: % plnenia | I99: Rozpočet | J99: Skutočnosť | K99: % plnenia
A100: Kancelária Národnej rady SR | B100: 2101 | C100: 664 | D100: 5097 | E100: 767.62048 | F100: 0 | G100: 0 | H100: 0 | I100: 664 | J100: 5097 | K100: 767.62048
A101: Kancelária prezidenta SR | B101: 2102 | C101: 8 | D101: 261 | E101: 3262.5 | F101: 0 | G101: 0 | H101: 0 | I101: 8 | J101: 261 | K101: 3262.5
A102: Úrad vlády SR | B102: 2103 | C102: 9272 | D102: 804 | E102: 8.6712683 | F102: 200 | G102: 767 | H102: 383.5 | I102: 9472 | J102: 1571 | K102: 16.585726
A103: Ministerstvo investícií, regionálneho rozvoja a informatizácie | B103: 2104 | C103: 149 | D103: 8789 | E103: 5898.6577 | F103: 971 | G103: 243825 | H103: 25110.711 | I103: 1120 | J103: 252614 | K103: 22554.821
A104: Kancelária Ústavného súdu SR | B104: 2105 | C104: 616 | D104: 401 | E104: 65.097403 | F104: 0 | G104: 0 | H104: 0 | I104: 616 | J104: 401 | K104: 65.097403
A105: Kancelária Najvyššieho súdu SR | B105: 2106 | C105: 350 | D105: 67 | E105: 19.142857 | F105: 0 | G105: 0 | H105: 0 | I105: 350 | J105: 67 | K105: 19.142857
A106: Generálna prokuratúra SR | B106: 2107 | C106: 1971 | D106: 5711 | E106: 289.7514 | F106: 0 | G106: 0 | H106: 0 | I106: 1971 | J106: 5711 | K106: 289.7514
A107: Najvyšší kontrolný úrad SR | B107: 2108 | C107: 85 | D107: 418 | E107: 491.76471 | F107: 0 | G107: 0 | H107: 0 | I107: 85 | J107: 418 | K107: 491.76471
A108: Slovenská informačná služba | B108: 2109 | C108: 0 | D108: 3896 | E108: 0 | F108: 0 | G108: 0 | H108: 0 | I108: 0 | J108: 3896 | K108: 0
A109: Ministerstvo zahraničných vecí a európskych záležitostí SR | B109: 2110 | C109: 3419 | D109: 2629 | E109: 76.893829 | F109: 0 | G109: 4386 | H109: 0 | I109: 3419 | J109: 7015 | K109: 205.17695
A110: Ministerstvo obrany SR | B110: 2111 | C110: 15980 | D110: 539261 | E110: 3374.5995 | F110: 0 | G110: 105 | H110: 0 | I110: 15980 | J110: 539366 | K110: 3375.2566
A111: Ministerstvo vnútra SR | B111: 2112 | C111: 0 | D111: 55603 | E111: 0 | F111: 0 | G111: 26486 | H111: 0 | I111: 0 | J111: 82089 | K111: 0
... A135: Kancelária Najvyššieho správneho súdu SR | B135: 2156 | C135: 0 | D135: 73 | E135: 0 | F135: 0 | G135: 0 | H135: 0 | I135: 0 | J135: 73 | K135: 0
A136: S P O L U | C136: 1690997 | D136: 1025608 | E136: 60.651083 | F136: 1215215 | G136: 1414553 | H136: 116.40352 | I136: 2906212 | J136: 2440161 | K136: 83.963627
A140: Kapitola štátneho rozpočtu | B140: VÝDAVKY SR s p o l u
B142: č.kap. | C142: Rozpočet | D142: Skutočnosť | E142: % plnenia
A143: Kancelária Národnej rady SR | B143: 2101 | C143: 35702 | D143: 40426 | E143: 113.23175
A144: Kancelária prezidenta SR | B144: 2102 | C144: 4619 | D144: 6294 | E144: 136.26326
A145: Úrad vlády SR | B145: 2103 | C145: 69087 | D145: 47677 | E145: 69.010089
A146: Ministerstvo investícií, regionálneho rozvoja a informatizácie | B146: 2104 | C146: 78023 | D146: 395872 | E146: 507.37859
A147: Kancelária Ústavného súdu SR | B147: 2105 | C147: 7347 | D147: 6954 | E147: 94.650878
A148: Kancelária Najvyššieho súdu SR | B148: 2106 | C148: 16195 | D148: 15175 | E148: 93.70176
A149: Generálna prokuratúra SR | B149: 2107 | C149: 115423 | D149: 117234 | E149: 101.56901
A150: Najvyšší kontrolný úrad SR | B150: 2108 | C150: 11533 | D150: 13349 | E150: 115.74612
A151: Slovenská informačná služba | B151: 2109 | C151: 59965 | D151: 68650 | E151: 114.48345
A152: Ministerstvo zahraničných vecí a európskych záležitostí SR | B152: 2110 | C152: 154710 | D152: 159364 | E152: 103.00821
A153: Ministerstvo obrany SR | B153: 2111 | C153: 1226714 | D153: 1727689 | E153: 140.83878
A154: Ministerstvo vnútra SR | B154: 2112 | C154: 3005531 | D154: 3427218 | E154: 114.03037
... A178: Kancelária Najvyššieho správneho súdu SR | B178: 2156 | C178: 0 | D178: 2945 | E178: 0
A179: S P O L U | C179: 27603808 | D179: 24211424 | E179: 87.710449

Sheet Tab. č. 8
A1: Bežné transfery za rok 2021 | L1: Bežné transfery za rok 2021 | W1: Bežné transfery za rok 2021 | AH1: Bežné transfery za rok 2021 | AS1: Bežné transfery za rok 2021 | BD1: Bežné transfery za rok 2021 | BO1: Bežné transfery za rok 2021
A2: (v tis. eur) | L2: (v tis. eur) | W2: (v tis. eur) | AH2: (v tis. eur) | AS2: (v tis. eur) | BD2: (v tis. eur) | BO2: (v tis. eur)
A4: Kapitola štátneho rozpočtu | C4: 640 - Bežné transfery | F4: 641 - Transfery v rámci verejnej správy | I4: 641001 - Príspevkovej organizácii | L4: Kapitola štátneho rozpočtu | N4: 641002 - Štátnemu účelovému fondu | Q4: 641003 - Sociálnej poisťovni a zdravotným poisťovniam | T4: 641006 - Rozpočtovej organizácii | W4: Kapitola štátneho rozpočtu | Y4: 641008 - Verejnej vysokej škole | AB4: 641009 - Obci | AE4: 641010 - Vyššiemu územnému celku | AH4: Kapitola štátneho rozpočtu | AJ4: 641012 - Ostatným subjektom verejnej správy | AM4: 642 - Transfery jednotlivcom a neziskovým právnickým osobám | AP4: 642001 - Obč. združeniu, nadácii a neinvest. fondu | AS4: Kapitola štátneho rozpočtu | AU4: 642031 - Na platené poistné za skupiny osôb ustanovené zákonom | AX4: 644 - Transfery nef. sub. a transf. PO nezaradeným vo verej.sektore v registri organizácií vedenom ŠÚ SR | BA4: 644001 - Právnickej osobe založenej štátom, obcou alebo VÚC | BD4: Kapitola štátneho rozpočtu | BF4: 644002 - Ostatnej právnickej osobe | BI4: 644003 - Fyzickej osobe - podnikateľovi | BL4: 647 - Transfery do tuzemských finančných inštitúcií | BO4: Kapitola štátneho rozpočtu | BQ4: 649 - Transfery do zahraničia | BT4: 649003 - Medzinárodnej organizácii | BW4: 649005 - Odvody do rozpočtu EÚ
B7: č.kap. | C7: Rozpočet | D7: Skutočnosť | E7: % plnenia | F7: Rozpočet | G7: Skutočnosť | H7: % plnenia | I7: Rozpočet | J7: Skutočnosť | K7: % plnenia | M7: č.kap. | N7: Rozpočet | O7: Skutočnosť | P7: % plnenia | Q7: Rozpočet | R7: Skutočnosť | S7: % plnenia | T7: Rozpočet | U7: Skutočnosť | V7: % plnenia | X7: č.kap. | Y7: Rozpočet | Z7: Skutočnosť | AA7: % plnenia | AB7: Rozpočet | AC7: Skutočnosť | AD7: % plnenia | AE7: Rozpočet | AF7: Skutočnosť | AG7: % plnenia | AI7: č.kap. | AJ7: Rozpočet | AK7: Skutočnosť | AL7: % plnenia | AM7: Rozpočet | AN7: Skutočnosť | AO7: % plnenia | AP7: Rozpočet | AQ7: Skutočnosť | AR7: % plnenia | AT7: č.kap. | AU7: Rozpočet | AV7: Skutočnosť | AW7: % plnenia | AX7: Rozpočet | AY7: Skutočnosť | AZ7: % plnenia | BA7: Rozpočet | BB7: Skutočnosť | BC7: % plnenia | BE7: č.kap. | BF7: Rozpočet | BG7: Skutočnosť | BH7: % plnenia | BI7: Rozpočet | BJ7: Skutočnosť | BK7: % plnenia | BL7: Rozpočet | BM7: Skutočnosť | BN7: % plnenia | BP7: č.kap. | BQ7: Rozpočet | BR7: Skutočnosť | BS7: % plnenia | BT7: Rozpočet | BU7: Skutočnosť | BV7: % plnenia | BW7: Rozpočet | BX7: Skutočnosť | BY7: % plnenia
A8: Kancelária Národnej rady SR | B8: 2101 | C8: 179 | D8: 417 | E8: 232.96089 | F8: 0 | G8: 0 | H8: 0 | I8: 0 | J8: 0 | K8: 0 | L8: Kancelária Národnej rady SR | M8: 2101 | N8: 0 | O8: 0 | P8: 0 | Q8: 0 | R8: 0 | S8: 0 | T8: 0 | U8: 0 | V8: 0 | W8: Kancelária Národnej rady SR | X8: 2101 | Y8: 0 | Z8: 0 | AA8: 0 | AB8: 0 | AC8: 0 | AD8: 0 | AE8: 0 | AF8: 0 | AG8: 0 | AH8: Kancelária Národnej rady SR | AI8: 2101 | AJ8: 0 | AK8: 0 | AL8: 0 | AM8: 113 | AN8: 350 | AO8: 309.73451 | AP8: 0 | AQ8: 0 | AR8: 0 | AS8: Kancelária Národnej rady SR | AT8: 2101 | AU8: 0 | AV8: 0 | AW8: 0 | AX8: 0 | AY8: 0 | AZ8: 0 | BA8: 0 | BB8: 0 | BC8: 0 | BD8: Kancelária Národnej rady SR | BE8: 2101 | BF8: 0 | BG8: 0 | BH8: 0 | BI8: 0 | BJ8: 0 | BK8: 0 | BL8: 0 | BM8: 0 | BN8: 0 | BO8: Kancelária Národnej rady SR | BP8: 2101 | BQ8: 66 | BR8: 67 | BS8: 101.51515 | BT8: 66 | BU8: 67 | BV8: 101.51515 | BW8: 0 | BX8: 0 | BY8: 0
A9: Kancelária prezidenta SR | B9: 2102 | C9: 213 | D9: 234 | E9: 109.85915 | F9: 0 | G9: 0 | H9: 0 | I9: 0 | J9: 0 | K9: 0 | L9: Kancelária prezidenta SR | M9: 2102 | N9: 0 | O9: 0 | P9: 0 | Q9: 0 | R9: 0 | S9: 0 | T9: 0 | U9: 0 | V9: 0 | W9: Kancelária prezidenta SR | X9: 2102 | Y9: 0 | Z9: 0 | AA9: 0 | AB9: 0 | AC9: 0 | AD9: 0 | AE9: 0 | AF9: 0 | AG9: 0 | AH9: Kancelária prezidenta SR | AI9: 2102 | AJ9: 0 | AK9: 0 | AL9: 0 | AM9: 213 | AN9: 234 | AO9: 109.85915 | AP9: 0 | AQ9: 0 | AR9: 0 | AS9: Kancelária prezidenta SR | AT9: 2102 | AU9: 0 | AV9: 0 | AW9: 0 | AX9: 0 | AY9: 0 | AZ9: 0 | BA9: 0 | BB9: 0 | BC9: 0 | BD9: Kancelária prezidenta SR | BE9: 2102 | BF9: 0 | BG9: 0 | BH9: 0 | BI9: 0 | BJ9: 0 | BK9: 0 | BL9: 0 | BM9: 0 | BN9: 0 | BO9: Kancelária prezidenta SR | BP9: 2102 | BQ9: 0 | BR9: 0 | BS9: 0 | BT9: 0 | BU9: 0 | BV9: 0 | BW9: 0 | BX9: 0 | BY9: 0
A10: Úrad vlády SR | B10: 2103 | C10: 3225 | D10: 14044 | E10: 435.47287 | F10: 1500 | G10: 11055 | H10: 737 | I10: 0 | J10: 20 | K10: 0 | L10: Úrad vlády SR | M10: 2103 | N10: 0 | O10: 0 | P10: 0 | Q10: 0 | R10: 0 | S10: 0 | T10: 0 | U10: 7 | V10: 0 | W10: Úrad vlády SR | X10: 2103 | Y10: 0 | Z10: 0 | AA10: 0 | AB10: 1500 | AC10: 10988 | AD10: 732.53333 | AE10: 0 | AF10: 40 | AG10: 0 | AH10: Úrad vlády SR | AI10: 2103 | AJ10: 0 | AK10: 0 | AL10: 0 | AM10: 1725 | AN10: 2949 | AO10: 170.95652 | AP10: 346 | AQ10: 1538 | AR10: 444.50867 | AS10: Úrad vlády SR | AT10: 2103 | AU10: 0 | AV10: 0 | AW10: 0 | AX10: 0 | AY10: 0 | AZ10: 0 | BA10: 0 | BB10: 0 | BC10: 0 | BD10: Úrad vlády SR | BE10: 2103 | BF10: 0 | BG10: 0 | BH10: 0 | BI10: 0 | BJ10: 0 | BK10: 0 | BL10: 0 | BM10: 0 | BN10: 0 | BO10: Úrad vlády SR | BP10: 2103 | BQ10: 0 | BR10: 40 | BS10: 0 | BT10: 0 | BU10: 40 | BV10: 0 | BW10: 0 | BX10: 0 | BY10: 0
A11: Ministerstvo investícií, regionálneho rozvoja a informatizácie SR | B11: 2104 | C11: 45559 | D11: 78832 | E11: 173.03277 | F11: 29463 | G11: 54877 | H11: 186.25734 | I11: 29463 | J11: 34751 | K11: 117.94793 | L11: Ministerstvo investícií, regionálneho rozvoja a informatizácie SR | M11: 2104 | N11: 0 | O11: 11950 | P11: 0 | Q11: 0 | R11: 0 | S11: 0 | T11: 0 | U11: 135 | V11: 0 | W11: Ministerstvo investícií, regionálneho rozvoja a informatizácie SR | X11: 2104 | Y11: 0 | Z11: 1198 | AA11: 0 | AB11: 0 | AC11: 3834 | AD11: 0 | AE11: 0 | AF11: 2894 | AG11: 0 | AH11: Ministerstvo investícií, regionálneho rozvoja a informatizácie SR | AI11: 2104 | AJ11: 0 | AK11: 108 | AL11: 0 | AM11: 691 | AN11: 9182 | AO11: 1328.7988 | AP11: 0 | AQ11: 7355 | AR11: 0 | AS11: Ministerstvo investícií, regionálneho rozvoja a informatizácie SR | AT11: 2104 | AU11: 0 | AV11: 0 | AW11: 0 | AX11: 14595 | AY11: 4070 | AZ11: 27.886262 | BA11: 300 | BB11: 127 | BC11: 42.333333 | BD11: Ministerstvo investícií, regionálneho rozvoja a informatizácie SR | BE11: 2104 | BF11: 14295 | BG11: 3476 | BH11: 24.316194 | BI11: 0 | BJ11: 467 | BK11: 0 | BL11: 0 | BM11: 0 | BN11: 0 | BO11: Ministerstvo investícií, regionálneho rozvoja a informatizácie SR | BP11: 2104 | BQ11: 810 | BR11: 10703 | BS11: 1321.358 | BT11: 10 | BU11: 15 | BV11: 150 | BW11: 0 | BX11: 0 | BY11: 0
A12: Kancelária Ústavného súdu SR | B12: 2105 | C12: 366 | D12: 423 | E12: 115.57377 | F12: 0 | G12: 0 | H12: 0 | I12: 0 | J12: 0 | K12: 0 | L12: Kancelária Ústavného súdu SR | M12: 2105 | N12: 0 | O12: 0 | P12: 0 | Q12: 0 | R12: 0 | S12: 0 | T12: 0 | U12: 0 | V12: 0 | W12: Kancelária Ústavného súdu SR | X12: 2105 | Y12: 0 | Z12: 0 | AA12: 0 | AB12: 0 | AC12: 0 | AD12: 0 | AE12: 0 | AF12: 0 | AG12: 0 | AH12: Kancelária Ústavného súdu SR | AI12: 2105 | AJ12: 0 | AK12: 0 | AL12: 0 | AM12: 366 | AN12: 423 | AO12: 115.57377 | AP12: 0 | AQ12: 0 | AR12: 0 | AS12: Kancelária Ústavného súdu SR | AT12: 2105 | AU12: 0 | AV12: 0 | AW12: 0 | AX12: 0 | AY12: 0 | AZ12: 0 | BA12: 0 | BB12: 0 | BC12: 0 | BD12: Kancelária Ústavného súdu SR | BE12: 2105 | BF12: 0 | BG12: 0 | BH12: 0 | BI12: 0 | BJ12: 0 | BK12: 0 | BL12: 0 | BM12: 0 | BN12: 0 | BO12: Kancelária Ústavného súdu SR | BP12: 2105 | BQ12: 0 | BR12: 0 | BS12: 0 | BT12: 0 | BU12: 0 | BV12: 0 | BW12: 0 | BX12: 0 | BY12: 0
A13: Kancelária Najvyššieho súdu SR | B13: 2106 | C13: 199 | D13: 405 | E13: 203.51759 | F13: 0 | G13: 0 | H13: 0 | I13: 0 | J13: 0 | K13: 0 | L13: Kancelária Najvyššieho súdu SR | M13: 2106 | N13: 0 | O13: 0 | P13: 0 | Q13: 0 | R13: 0 | S13: 0 | T13: 0 | U13: 0 | V13: 0 | W13: Kancelária Najvyššieho súdu SR | X13: 2106 | Y13: 0 | Z13: 0 | AA13: 0 | AB13: 0 | AC13: 0 | AD13: 0 | AE13: 0 | AF13: 0 | AG13: 0 | AH13: Kancelária Najvyššieho súdu SR | AI13: 2106 | AJ13: 0 | AK13: 0 | AL13: 0 | AM13: 193 | AN13: 403 | AO13: 208.80829 | AP13: 0 | AQ13: 0 | AR13: 0 | AS13: Kancelária Najvyššieho súdu SR | AT13: 2106 | AU13: 0 | AV13: 0 | AW13: 0 | AX13: 0 | AY13: 0 | AZ13: 0 | BA13: 0 | BB13: 0 | BC13: 0 | BD13: Kancelária Najvyššieho súdu SR | BE13: 2106 | BF13: 0 | BG13: 0 | BH13: 0 | BI13: 0 | BJ13: 0 | BK13: 0 | BL13: 0 | BM13: 0 | BN13: 0 | BO13: Kancelária Najvyššieho súdu SR | BP13: 2106 | BQ13: 6 | BR13: 2 | BS13: 33.333333 | BT13: 6 | BU13: 2 | BV13: 33.333333 | BW13: 0 | BX13: 0 | BY13: 0
A14: Generálna prokuratúra SR | B14: 2107 | C14: 5633 | D14: 5347 | E14: 94.922776 | F14: 0 | G14: 0 | H14: 0 | I14: 0 | J14: 0 | K14: 0 | L14: Generálna prokuratúra SR | M14: 2107 | N14: 0 | O14: 0 | P14: 0 | Q14: 0 | R14: 0 | S14: 0 | T14: 0 | U14: 0 | V14: 0 | W14: Generálna prokuratúra SR | X14: 2107 | Y14: 0 | Z14: 0 | AA14: 0 | AB14: 0 | AC14: 0 | AD14: 0 | AE14: 0 | AF14: 0 | AG14: 0 | AH14: Generálna prokuratúra SR | AI14: 2107 | AJ14: 0 | AK14: 0 | AL14: 0 | AM14: 5633 | AN14: 5347 | AO14: 94.922776 | AP14: 0 | AQ14: 0 | AR14: 0 | AS14: Generálna prokuratúra SR | AT14: 2107 | AU14: 0 | AV14: 0 | AW14: 0 | AX14: 0 | AY14: 0 | AZ14: 0 | BA14: 0 | BB14: 0 | BC14: 0 | BD14: Generálna prokuratúra SR | BE14: 2107 | BF14: 0 | BG14: 0 | BH14: 0 | BI14: 0 | BJ14: 0 | BK14: 0 | BL14: 0 | BM14: 0 | BN14: 0 | BO14: Generálna prokuratúra SR | BP14: 2107 | BQ14: 0 | BR14: 0 | BS14: 0 | BT14: 0 | BU14: 0 | BV14: 0 | BW14: 0 | BX14: 0 | BY14: 0
A15: Najvyšší kontrolný úrad SR | B15: 2108 | C15: 114 | D15: 232 | E15: 203.50877 | F15: 0 | G15: 0 | H15: 0 | I15: 0 | J15: 0 | K15: 0 | L15: Najvyšší kontrolný úrad SR | M15: 2108 | N15: 0 | O15: 0 | P15: 0 | Q15: 0 | R15: 0 | S15: 0 | T15: 0 | U15: 0 | V15: 0 | W15: Najvyšší kontrolný úrad SR | X15: 2108 | Y15: 0 | Z15: 0 | AA15: 0 | AB15: 0 | AC15: 0 | AD15: 0 | AE15: 0 | AF15: 0 | AG15: 0 | AH15: Najvyšší kontrolný úrad SR | AI15: 2108 | AJ15: 0 | AK15: 0 | AL15: 0 | AM15: 110 | AN15: 229 | AO15: 208.18182 | AP15: 0 | AQ15: 0 | AR15: 0 | AS15: Najvyšší kontrolný úrad SR | AT15: 2108 | AU15: 0 | AV15: 0 | AW15: 0 | AX15: 0 | AY15: 0 | AZ15: 0 | BA15: 0 | BB15: 0 | BC15: 0 | BD15: Najvyšší kontrolný úrad SR | BE15: 2108 | BF15: 0 | BG15: 0 | BH15: 0 | BI15: 0 | BJ15: 0 | BK15: 0 | BL15: 0 | BM15: 0 | BN15: 0 | BO15: Najvyšší kontrolný úrad SR | BP15: 2108 | BQ15: 4 | BR15: 3 | BS15: 75 | BT15: 4 | BU15: 3 | BV15: 75 | BW15: 0 | BX15: 0 | BY15: 0
A16: Slovenská informačná služba | B16: 2109 | C16: 0 | D16: 0 | E16: 0 | F16: 0 | G16: 0 | H16: 0 | I16: 0 | J16: 0 | K16: 0 | L16: Slovenská informačná služba | M16: 2109 | N16: 0 | O16: 0 | P16: 0 | Q16: 0 | R16: 0 | S16: 0 | T16: 0 | U16: 0 | V16: 0 | W16: Slovenská informačná služba | X16: 2109 | Y16: 0 | Z16: 0 | AA16: 0 | AB16: 0 | AC16: 0 | AD16: 0 | AE16: 0 | AF16: 0 | AG16: 0 | AH16: Slovenská informačná služba | AI16: 2109 | AJ16: 0 | AK16: 0 | AL16: 0 | AM16: 0 | AN16: 0 | AO16: 0 | AP16: 0 | AQ16: 0 | AR16: 0 | AS16: Slovenská informačná služba | AT16: 2109 | AU16: 0 | AV16: 0 | AW16: 0 | AX16: 0 | AY16: 0 | AZ16: 0 | BA16: 0 | BB16: 0 | BC16: 0 | BD16: Slovenská informačná služba | BE16: 2109 | BF16: 0 | BG16: 0 | BH16: 0 | BI16: 0 | BJ16: 0 | BK16: 0 | BL16: 0 | BM16: 0 | BN16: 0 | BO16: Slovenská informačná služba | BP16: 2109 | BQ16: 0 | BR16: 0 | BS16: 0 | BT16: 0 | BU16: 0 | BV16: 0 | BW16: 0 | BX16: 0 | BY16: 0
A17: Ministerstvo zahraničných vecí a európskych záležitostí SR | B17: 2110 | C17: 35046 | D17: 33516 | E17: 95.634309 | F17: 1952 | G17: 2635 | H17: 134.98975 | I17: 1952 | J17: 2568 | K17: 131.55738 | L17: Ministerstvo zahraničných vecí a európskych záležitostí SR | M17: 2110 | N17: 0 | O17: 0 | P17: 0 | Q17: 0 | R17: 0 | S17: 0 | T17: 0 | U17: 0 | V17: 0 | W17: Ministerstvo zahraničných vecí a európskych záležitostí SR | X17: 2110 | Y17: 0 | Z17: 67 | AA17: 0 | AB17: 0 | AC17: 0 | AD17: 0 | AE17: 0 | AF17: 0 | AG17: 0 | AH17: Ministerstvo zahraničných vecí a európskych záležitostí SR | AI17: 2110 | AJ17: 0 | AK17: 0 | AL17: 0 | AM17: 302 | AN17: 3200 | AO17: 1059.6026 | AP17: 0 | AQ17: 1617 | AR17: 0 | AS17: Ministerstvo zahraničných vecí a európskych záležitostí SR | AT17: 2110 | AU17: 0 | AV17: 0 | AW17: 0 | AX17: 0 | AY17: 402 | AZ17: 0 | BA17: 0 | BB17: 0 | BC17: 0 | BD17: Ministerstvo zahraničných vecí a európskych záležitostí SR | BE17: 2110 | BF17: 0 | BG17: 402 | BH17: 0 | BI17: 0 | BJ17: 0 | BK17: 0 | BL17: 0 | BM17: 0 | BN17: 0 | BO17: Ministerstvo zahraničných vecí a európskych záležitostí SR | BP17: 2110 | BQ17: 32792 | BR17: 27279 | BS17: 83.187973 | BT17: 21644 | BU17: 24778 | BV17: 114.47976 | BW17: 0 | BX17: 0 | BY17: 0
A18: Ministerstvo obrany SR | B18: 2111 | C18: 163943 | D18: 165601 | E18: 101.01133 | F18: 8582 | G18: 33946 | H18: 395.54882 | I18: 1800 | J18: 13002 | K18: 722.33333 | L18: Ministerstvo obrany SR | M18: 2111 | N18: 0 | O18: 0 | P18: 0 | Q18: 0 | R18: 0 | S18: 0 | T18: 6782 | U18: 20944 | V18: 308.81746 | W18: Ministerstvo obrany SR | X18: 2111 | Y18: 0 | Z18: 0 | AA18: 0 | AB18: 0 | AC18: 0 | AD18: 0 | AE18: 0 | AF18: 0 | AG18: 0 | AH18: Ministerstvo obrany SR | AI18: 2111 | AJ18: 0 | AK18: 0 | AL18: 0 | AM18: 141586 | AN18: 116692 | AO18: 82.417753 | AP18: 79 | AQ18: 275 | AR18: 348.10127 | AS18: Ministerstvo obrany SR | AT18: 2111 | AU18: 0 | AV18: 0 | AW18: 0 | AX18: 2212 | AY18: 1383 | AZ18: 62.522604 | BA18: 1162 | BB18: 1038 | BC18: 89.328744 | BD18: Ministerstvo obrany SR | BE18: 2111 | BF18: 1050 | BG18: 345 | BH18: 32.857143 | BI18: 0 | BJ18: 0 | BK18: 0 | BL18: 0 | BM18: 0 | BN18: 0 | BO18: Ministerstvo obrany SR | BP18: 2111 | BQ18: 11563 | BR18: 13580 | BS18: 117.44357 | BT18: 11563 | BU18: 13382 | BV18: 115.73121 | BW18: 0 | BX18: 0 | BY18: 0
A19: Ministerstvo vnútra SR | B19: 2112 | C19: 1283476 | D19: 1681231 | E19: 130.99045 | F19: 1029195 | G19: 1378435 | H19: 133.93332 | I19: 5307 | J19: 17813 | K19: 335.65103 | L19: Ministerstvo vnútra SR | M19: 2112 | N19: 0 | O19: 0 | P19: 0 | Q19: 0 | R19: 0 | S19: 0 | T19: 5827 | U19: 61151 | V19: 1049.4423 | W19: Ministerstvo vnútra SR | X19: 2112 | Y19: 0 | Z19: 0 | AA19: 0 | AB19: 567 | AC19: 113083 | AD19: 19944.092 | AE19: 0 | AF19: 3475 | AG19: 0 | AH19: Ministerstvo vnútra SR | AI19: 2112 | AJ19: 0 | AK19: 685 | AL19: 0 | AM19: 251970 | AN19: 293927 | AO19: 116.65159 | AP19: 5600 | AQ19: 9087 | AR19: 162.26786 | AS19: Ministerstvo vnútra SR | AT19: 2112 | AU19: 0 | AV19: 0 | AW19: 0 | AX19: 0 | AY19: 7897 | AZ19: 0 | BA19: 0 | BB19: 3393 | BC19: 0 | BD19: Ministerstvo vnútra SR | BE19: 2112 | BF19: 0 | BG19: 4504 | BH19: 0 | BI19: 0 | BJ19: 0 | BK19: 0 | BL19: 0 | BM19: 0 | BN19: 0 | BO19: Ministerstvo vnútra SR | BP19: 2112 | BQ19: 2311 | BR19: 972 | BS19: 42.059714 | BT19: 2261 | BU19: 922 | BV19: 40.778417 | BW19: 0 | BX19: 0 | BY19: 0
... A43: Kancelária Najvyššieho správneho súdu SR | B43: 2156 | C43: 0 | D43: 27 | E43: 0 | F43: 0 | G43: 0 | H43: 0 | I43: 0 | J43: 0 | K43: 0 | L43: Kancelária Najvyššieho správneho súdu SR | M43: 2156 | N43: 0 | O43: 0 | P43: 0 | Q43: 0 | R43: 0 | S43: 0 | T43: 0 | U43: 0 | V43: 0 | W43: Kancelária Najvyššieho správneho súdu SR | X43: 2156 | Y43: 0 | Z43: 0 | AA43: 0 | AB43: 0 | AC43: 0 | AD43: 0 | AE43: 0 | AF43: 0 | AG43: 0 | AH43: Kancelária Najvyššieho správneho súdu SR | AI43: 2156 | AJ43: 0 | AK43: 0 | AL43: 0 | AM43: 0 | AN43: 26 | AO43: 0 | AP43: 0 | AQ43: 0 | AR43: 0 | AS43: Kancelária Najvyššieho správneho súdu SR | AT43: 2156 | AU43: 0 | AV43: 0 | AW43: 0 | AX43: 0 | AY43: 0 | AZ43: 0 | BA43: 0 | BB43: 0 | BC43: 0 | BD43: Kancelária Najvyššieho správneho súdu SR | BE43: 2156 | BF43: 0 | BG43: 0 | BH43: 0 | BI43: 0 | BJ43: 0 | BK43: 0 | BL43: 0 | BM43: 0 | BN43: 0 | BO43: Kancelária Najvyššieho správneho súdu SR | BP43: 2156 | BQ43: 0 | BR43: 1 | BS43: 0 | BT43: 0 | BU43: 1 | BV43: 0 | BW43: 0 | BX43: 0 | BY43: 0
A44: S P O L U | C44: 13258702 | D44: 15835025 | E44: 119.43119 | F44: 5358676 | G44: 6415870 | H44: 119.72864 | I44: 290070 | J44: 774982 | K44: 267.17068 | L44: S P O L U | N44: 91237 | O44: 99326 | P44: 108.86592 | Q44: 839248 | R44: 842317 | S44: 100.36568 | T44: 1146152 | U44: 906440 | V44: 79.085497 | W44: S P O L U | Y44: 622391 | Z44: 683903 | AA44: 109.88318 | AB44: 107790 | AC44: 345618 | AD44: 320.64013 | AE44: 657 | AF44: 17185 | AG44: 2615.6773 | AH44: S P O L U | AJ44: 99466 | AK44: 153826 | AL44: 154.65184 | AM44: 5389356 | AN44: 7005173 | AO44: 129.98163 | AP44: 121661 | AQ44: 156355 | AR44: 128.51694 | AS44: S P O L U | AU44: 1804753 | AV44: 1708413 | AW44: 94.661873 | AX44: 1367904 | AY44: 1344028 | AZ44: 98.254556 | BA44: 20366 | BB44: 309313 | BC44: 1518.7715 | BD44: S P O L U | BF44: 1347413 | BG44: 903470 | BH44: 67.052196 | BI44: 125 | BJ44: 131245 | BK44: 104996 | BL44: 5847 | BM44: 3434 | BN44: 58.730973 | BO44: S P O L U | BQ44: 1136919 | BR44: 1066520 | BS44: 93.807914 | BT44: 85828 | BU44: 86092 | BV44: 100.30759 | BW44: 1038917 | BX44: 966750 | BY44: 93.053632

Sheet Tab. č. 9
A4: Kapitola štátneho rozpočtu | C4: 700 - Kapitálové výdavky | F4: 710 - Obstarávanie kapitálových aktív | I4: 720 - Kapitálové transfery | L4: Kapitola štátneho rozpočtu | N4: 721 - Transfery v rámci verejnej správy | Q4: 721001 - Príspevkovej organizácii | T4: 721002 - Rozpočtovej organizácii | W4: Kapitola štátneho rozpočtu | Y4: 721003 - Verejnej vysokej škole | AB4: 721006 - Obci | AE4: 721007 - Vyššiemu územnému celku | AH4: Kapitola štátneho rozpočtu | AJ4: 721009 - Ostatným subjektom verejnej správy | AM4: 722 - Transfery jednotlivcom a neziskovým právnickým osobám | AP4: 723 - Transfery nefinančným subjektom | AS4: Kapitola štátneho rozpočtu | AT4: 725 - Transfery do zahraničia | AX4: 726 - Transfery finančným inštitúciám
B7: č.kap. | C7: Rozpočet | D7: Skutočnosť | E7: % plnenia | F7: Rozpočet | G7: Skutočnosť | H7: % plnenia | I7: Rozpočet | J7: Skutočnosť | K7: % plnenia | M7: č.kap. | N7: Rozpočet | O7: Skutočnosť | P7: % plnenia | Q7: Rozpočet | R7: Skutočnosť | S7: % plnenia | T7: Rozpočet | U7: Skutočnosť | V7: % plnenia | X7: č.kap. | Y7: Rozpočet | Z7: Skutočnosť | AA7: % plnenia | AB7: Rozpočet | AC7: Skutočnosť | AD7: % plnenia | AE7: Rozpočet | AF7: Skutočnosť | AG7: % plnenia | AI7: č.kap. | AJ7: Rozpočet | AK7: Skutočnosť | AL7: % plnenia | AM7: Rozpočet | AN7: Skutočnosť | AO7: % plnenia | AP7: Rozpočet | AQ7: Skutočnosť | AR7: % plnenia | AT7: č.kap. | AU7: Rozpočet | AV7: Skutočnosť | AW7: % plnenia | AX7: Rozpočet | AY7: Skutočnosť | AZ7: % plnenia
A8: Kancelária NR SR | B8: 2101 | C8: 664 | D8: 5097 | E8: 767.62048 | F8: 664 | G8: 5097 | H8: 767.62048 | I8: 0 | J8: 0 | K8: 0 | L8: Kancelária NR SR | M8: 2101 | N8: 0 | O8: 0 | P8: 0 | Q8: 0 | R8: 0 | S8: 0 | T8: 0 | U8: 0 | V8: 0 | W8: Kancelária NR SR | X8: 2101 | Y8: 0 | Z8: 0 | AA8: 0 | AB8: 0 | AC8: 0 | AD8: 0 | AE8: 0 | AF8: 0 | AG8: 0 | AH8: Kancelária NR SR | AI8: 2101 | AJ8: 0 | AK8: 0 | AL8: 0 | AM8: 0 | AN8: 0 | AO8: 0 | AP8: 0 | AQ8: 0 | AR8: 0 | AS8: Kancelária NR SR | AT8: 2101 | AU8: 0 | AV8: 0 | AW8: 0 | AZ8: 0
A9: Kancelária prezidenta SR | B9: 2102 | C9: 8 | D9: 261 | E9: 3262.5 | F9: 8 | G9: 261 | H9: 3262.5 | I9: 0 | J9: 0 | K9: 0 | L9: Kancelária prezidenta SR | M9: 2102 | N9: 0 | O9: 0 | P9: 0 | Q9: 0 | R9: 0 | S9: 0 | T9: 0 | U9: 0 | V9: 0 | W9: Kancelária prezidenta SR | X9: 2102 | Y9: 0 | Z9: 0 | AA9: 0 | AB9: 0 | AC9: 0 | AD9: 0 | AE9: 0 | AF9: 0 | AG9: 0 | AH9: Kancelária prezidenta SR | AI9: 2102 | AJ9: 0 | AK9: 0 | AL9: 0 | AM9: 0 | AN9: 0 | AO9: 0 | AP9: 0 | AQ9: 0 | AR9: 0 | AS9: Kancelária prezidenta SR | AT9: 2102 | AU9: 0 | AV9: 0 | AW9: 0 | AZ9: 0
A10: Úrad vlády SR | B10: 2103 | C10: 9472 | D10: 1571 | E10: 16.585726 | F10: 9272 | G10: 804 | H10: 8.6712683 | I10: 200 | J10: 767 | K10: 383.5 | L10: Úrad vlády SR | M10: 2103 | N10: 0 | O10: 764 | P10: 0 | Q10: 0 | R10: 0 | S10: 0 | T10: 0 | U10: 0 | V10: 0 | W10: Úrad vlády SR | X10: 2103 | Y10: 0 | Z10: 0 | AA10: 0 | AB10: 0 | AC10: 764 | AD10: 0 | AE10: 0 | AF10: 0 | AG10: 0 | AH10: Úrad vlády SR | AI10: 2103 | AJ10: 0 | AK10: 0 | AL10: 0 | AM10: 200 | AN10: 3 | AO10: 1.5 | AP10: 0 | AQ10: 0 | AR10: 0 | AS10: Úrad vlády SR | AT10: 2103 | AU10: 0 | AV10: 0 | AW10: 0 | AZ10: 0
A11: Ministerstvo investícií, regionálneho rozvoja a informatizácie SR | B11: 2104 | C11: 1120 | D11: 252614 | E11: 22554.821 | F11: 149 | G11: 8789 | H11: 5898.6577 | I11: 971 | J11: 243825 | K11: 25110.711 | L11: Ministerstvo investícií, regionálneho rozvoja a informatizácie SR | M11: 2104 | N11: 871 | O11: 163527 | P11: 18774.627 | Q11: 871 | R11: 33825 | S11: 3883.4673 | T11: 0 | U11: 4843 | V11: 0 | W11: Ministerstvo investícií, regionálneho rozvoja a informatizácie SR | X11: 2104 | Y11: 0 | Z11: 899 | AA11: 0 | AB11: 0 | AC11: 91747 | AD11: 0 | AE11: 0 | AF11: 28727 | AG11: 0 | AH11: Ministerstvo investícií, regionálneho rozvoja a informatizácie SR | AI11: 2104 | AJ11: 0 | AK11: 296 | AL11: 0 | AM11: 100 | AN11: 19612 | AO11: 19612 | AP11: 0 | AQ11: 55657 | AR11: 0 | AS11: Ministerstvo investícií, regionálneho rozvoja a informatizácie SR | AT11: 2104 | AU11: 0 | AV11: 5029 | AW11: 0 | AZ11: 0
A12: Kancelária Ústavného súdu SR | B12: 2105 | C12: 616 | D12: 401 | E12: 65.097403 | F12: 616 | G12: 401 | H12: 65.097403 | I12: 0 | J12: 0 | K12: 0 | L12: Kancelária Ústavného súdu SR | M12: 2105 | N12: 0 | O12: 0 | P12: 0 | Q12: 0 | R12: 0 | S12: 0 | T12: 0 | U12: 0 | V12: 0 | W12: Kancelária Ústavného súdu SR | X12: 2105 | Y12: 0 | Z12: 0 | AA12: 0 | AB12: 0 | AC12: 0 | AD12: 0 | AE12: 0 | AF12: 0 | AG12: 0 | AH12: Kancelária Ústavného súdu SR | AI12: 2105 | AJ12: 0 | AK12: 0 | AL12: 0 | AM12: 0 | AN12: 0 | AO12: 0 | AP12: 0 | AQ12: 0 | AR12: 0 | AS12: Kancelária Ústavného súdu SR | AT12: 2105 | AU12: 0 | AV12: 0 | AW12: 0 | AZ12: 0
A13: Kancelária Najvyššieho súdu SR | B13: 2106 | C13: 350 | D13: 67 | E13: 19.142857 | F13: 350 | G13: 67 | H13: 19.142857 | I13: 0 | J13: 0 | K13: 0 | L13: Kancelária Najvyššieho súdu SR | M13: 2106 | N13: 0 | O13: 0 | P13: 0 | Q13: 0 | R13: 0 | S13: 0 | T13: 0 | U13: 0 | V13: 0 | W13: Kancelária Najvyššieho súdu SR | X13: 2106 | Y13: 0 | Z13: 0 | AA13: 0 | AB13: 0 | AC13: 0 | AD13: 0 | AE13: 0 | AF13: 0 | AG13: 0 | AH13: Kancelária Najvyššieho súdu SR | AI13: 2106 | AJ13: 0 | AK13: 0 | AL13: 0 | AM13: 0 | AN13: 0 | AO13: 0 | AP13: 0 | AQ13: 0 | AR13: 0 | AS13: Kancelária Najvyššieho súdu SR | AT13: 2106 | AU13: 0 | AV13: 0 | AW13: 0 | AZ13: 0
A14: Generálna prokuratúra SR | B14: 2107 | C14: 1971 | D14: 5711 | E14: 289.7514 | F14: 1971 | G14: 5711 | H14: 289.7514 | I14: 0 | J14: 0 | K14: 0 | L14: Generálna prokuratúra SR | M14: 2107 | N14: 0 | O14: 0 | P14: 0 | Q14: 0 | R14: 0 | S14: 0 | T14: 0 | U14: 0 | V14: 0 | W14: Generálna prokuratúra SR | X14: 2107 | Y14: 0 | Z14: 0 | AA14: 0 | AB14: 0 | AC14: 0 | AD14: 0 | AE14: 0 | AF14: 0 | AG14: 0 | AH14: Generálna prokuratúra SR | AI14: 2107 | AJ14: 0 | AK14: 0 | AL14: 0 | AM14: 0 | AN14: 0 | AO14: 0 | AP14: 0 | AQ14: 0 | AR14: 0 | AS14: Generálna prokuratúra SR | AT14: 2107 | AU14: 0 | AV14: 0 | AW14: 0 | AZ14: 0
A15: Najvyšší kontrolný úrad SR | B15: 2108 | C15: 85 | D15: 418 | E15: 491.76471 | F15: 85 | G15: 418 | H15: 491.76471 | I15: 0 | J15: 0 | K15: 0 | L15: Najvyšší kontrolný úrad SR | M15: 2108 | N15: 0 | O15: 0 | P15: 0 | Q15: 0 | R15: 0 | S15: 0 | T15: 0 | U15: 0 | V15: 0 | W15: Najvyšší kontrolný úrad SR | X15: 2108 | Y15: 0 | Z15: 0 | AA15: 0 | AB15: 0 | AC15: 0 | AD15: 0 | AE15: 0 | AF15: 0 | AG15: 0 | AH15: Najvyšší kontrolný úrad SR | AI15: 2108 | AJ15: 0 | AK15: 0 | AL15: 0 | AM15: 0 | AN15: 0 | AO15: 0 | AP15: 0 | AQ15: 0 | AR15: 0 | AS15: Najvyšší kontrolný úrad SR | AT15: 2108 | AU15: 0 | AV15: 0 | AW15: 0 | AZ15: 0
A16: Slovenská informačná služba | B16: 2109 | C16: 0 | D16: 3896 | E16: 0 | F16: 0 | G16: 3896 | H16: 0 | I16: 0 | J16: 0 | K16: 0 | L16: Slovenská informačná služba | M16: 2109 | N16: 0 | O16: 0 | P16: 0 | Q16: 0 | R16: 0 | S16: 0 | T16: 0 | U16: 0 | V16: 0 | W16: Slovenská informačná služba | X16: 2109 | Y16: 0 | Z16: 0 | AA16: 0 | AB16: 0 | AC16: 0 | AD16: 0 | AE16: 0 | AF16: 0 | AG16: 0 | AH16: Slovenská informačná služba | AI16: 2109 | AJ16: 0 | AK16: 0 | AL16: 0 | AM16: 0 | AN16: 0 | AO16: 0 | AP16: 0 | AQ16: 0 | AR16: 0 | AS16: Slovenská informačná služba | AT16: 2109 | AU16: 0 | AV16: 0 | AW16: 0 | AZ16: 0
A17: Ministerstvo zahraničných vecí a európskych záležitostí SR | B17: 2110 | C17: 3419 | D17: 7015 | E17: 205.17695 | F17: 3419 | G17: 2629 | H17: 76.893829 | I17: 0 | J17: 4386 | K17: 0 | L17: Ministerstvo zahraničných vecí a európskych záležitostí SR | M17: 2110 | N17: 0 | O17: 21 | P17: 0 | Q17: 0 | R17: 15 | S17: 0 | T17: 0 | U17: 0 | V17: 0 | W17: Ministerstvo zahraničných vecí a európskych záležitostí SR | X17: 2110 | Y17: 0 | Z17: 6 | AA17: 0 | AB17: 0 | AC17: 0 | AD17: 0 | AE17: 0 | AF17: 0 | AG17: 0 | AH17: Ministerstvo zahraničných vecí a európskych záležitostí SR | AI17: 2110 | AJ17: 0 | AK17: 0 | AL17: 0 | AM17: 0 | AN17: 1044 | AO17: 0 | AP17: 0 | AQ17: 0 | AR17: 0 | AS17: Ministerstvo zahraničných vecí a európskych záležitostí SR | AT17: 2110 | AU17: 0 | AV17: 3321 | AW17: 0 | AZ17: 0
A18: Ministerstvo obrany SR | B18: 2111 | C18: 15980 | D18: 539366 | E18: 3375.2566 | F18: 15980 | G18: 539261 | H18: 3374.5995 | I18: 0 | J18: 105 | K18: 0 | L18: Ministerstvo obrany SR | M18: 2111 | N18: 0 | O18: 105 | P18: 0 | Q18: 0 | R18: 105 | S18: 0 | T18: 0 | U18: 0 | V18: 0 | W18: Ministerstvo obrany SR | X18: 2111 | Y18: 0 | Z18: 0 | AA18: 0 | AB18: 0 | AC18: 0 | AD18: 0 | AE18: 0 | AF18: 0 | AG18: 0 | AH18: Ministerstvo obrany SR | AI18: 2111 | AJ18: 0 | AK18: 0 | AL18: 0 | AM18: 0 | AN18: 0 | AO18: 0 | AP18: 0 | AQ18: 0 | AR18: 0 | AS18: Ministerstvo obrany SR | AT18: 2111 | AU18: 0 | AV18: 0 | AW18: 0 | AZ18: 0
A19: Ministerstvo vnútra SR | B19: 2112 | C19: 0 | D19: 82089 | E19: 0 | F19: 0 | G19: 55603 | H19: 0 | I19: 0 | J19: 26486 | K19: 0 | L19: Ministerstvo vnútra SR | M19: 2112 | N19: 0 | O19: 26060 | P19: 0 | Q19: 0 | R19: 88 | S19: 0 | T19: 0 | U19: 49 | V19: 0 | W19: Ministerstvo vnútra SR | X19: 2112 | Y19: 0 | Z19: 0 | AA19: 0 | AB19: 0 | AC19: 25923 | AD19: 0 | AE19: 0 | AF19: 0 | AG19: 0 | AH19: Ministerstvo vnútra SR | AI19: 2112 | AJ19: 0 | AK19: 0 | AL19: 0 | AM19: 0 | AN19: 426 | AO19: 0 | AP19: 0 | AQ19: 0 | AR19: 0 | AS19: Ministerstvo vnútra SR | AT19: 2112 | AU19: 0 | AV19: 0 | AW19: 0 | AZ19: 0
... A43: Kancelária Najvyššieho správneho súdu SR | B43: 2156 | C43: 0 | D43: 73 | E43: 0 | F43: 0 | G43: 73 | H43: 0 | I43: 0 | J43: 0 | K43: 0 | L43: Kancelária Najvyššieho správneho súdu SR | M43: 2156 | N43: 0 | O43: 0 | P43: 0 | Q43: 0 | R43: 0 | S43: 0 | T43: 0 | U43: 0 | V43: 0 | W43: Kancelária Najvyššieho správneho súdu SR | X43: 2156 | Y43: 10165 | Z43: 35029 | AA43: 344.60403 | AB43: 0 | AC43: 0 | AD43: 0 | AE43: 0 | AF43: 0 | AG43: 0 | AH43: Kancelária Najvyššieho správneho súdu SR | AI43: 2156 | AJ43: 0 | AK43: 0 | AL43: 0 | AM43: 0 | AN43: 0 | AO43: 0 | AP43: 0 | AQ43: 0 | AR43: 0 | AS43: Kancelária Najvyššieho správneho súdu SR | AT43: 2156 | AU43: 0 | AV43: 0 | AW43: 0 | AZ43: 0
A44: S P O L U | C44: 2906212 | D44: 2440161 | E44: 83.963627 | F44: 1690997 | G44: 1025608 | H44: 60.651083 | I44: 1215215 | J44: 1414553 | K44: 116.40352 | L44: S P O L U | N44: 202053 | O44: 1141820 | P44: 565.10915 | Q44: 14226 | R44: 123504 | S44: 868.1569 | T44: 0 | U44: 5052 | V44: 0 | W44: S P O L U | Y44: 10165 | Z44: 35029 | AA44: 344.60403 | AB44: 9480 | AC44: 214362 | AD44: 2261.2025 | AE44: 18000 | AF44: 33967 | AG44: 188.70556 | AH44: S P O L U | AJ44: 755 | AK44: 37501 | AL44: 4967.0199 | AM44: 41254 | AN44: 41549 | AO44: 100.71508 | AP44: 971302 | AQ44: 222834 | AR44: 22.941783 | AS44: S P O L U | AU44: 606 | AV44: 8350 | AW44: 1377.8878 | AX44: 0 | AY44: 0 | AZ44: 0
N47: 0 | O47: 0 | Q47: 0 | R47: 0

Sheet Tab. č. 10
G1: Tabuľka: 10
G2: Strana: 1
C3: Finančné operácie na samostatných účtoch štátnych rozpočtových organizácií za rok 2021
C4: (v tis. EUR)
B8: Kód EK | C8: Ukazovateľ | D8: Schválený rozpočet | E8: Upravený rozpočet | F8: Skutočnosť | G8: % k upravenému rozpočtu
B9: I. | C9: PRÍJMY spolu | D9: 58403 | E9: 69885 | F9: 54606876 | G9: 78138.193
B11: 400 | C11: Príjmy z transakcií s finančnými aktívami a finančnými pasívami | D11: 58403 | E11: 69885 | F11: 30542072 | G11: 43703.33
C12: v tom:
B13: 410 | C13: zo splátok tuzemských úverov, pôžičiek a návratných finančných výpomocí (len istín) | D13: 57750 | E13: 57750 | F13: 1642901 | G13: 2844.8502
B14: 420 | C14: zo splátok zahraničných úverov, pôžičiek a návratných finančných výpomocí (len istín) | D14: 0 | E14: 0 | F14: 11437497 | G14: 0
B15: 430 | C15: z predaja majetkových účastí | D15: 0 | E15: 0 | F15: 0 | G15: 0
B16: 440 | C16: z predaja privatizovaného majetku a prevádzaného majetku | D16: 0 | E16: 0 | F16: 0 | G16: 0
B17: 450 | C17: z ostatných finančných operácií | D17: 653 | E17: 12135 | F17: 17461674 | G17: 143895.13
B18: 500 | C18: Prijaté úvery, pôžičky a návratné finančné výpomoci | D18: 0 | E18: 0 | F18: 24064804 | G18: 0
B19: 510 | C19: Tuzemské úvery, pôžičky a návratné finančné výpomoci | D19: 0 | E19: 0 | F19: 23454183 | G19: 0
B20: 520 | C20: Zahraničné úvery, pôžičky a návratné finančné výpomoci | D20: 0 | E20: 0 | F20: 610621 | G20: 0
B21: II. | C21: VÝDAVKY spolu | D21: 95205 | E21: 99456 | F21: 37613026 | G21: 37818.76
B23: 800 | C23: Výdavky z transakcií s finančnými aktívami a finančnými pasívami | D23: 95205 | E23: 99456 | F23: 37613026 | G23: 37818.76
B24: 810 | C24: Úvery, pôžičky, návratné finančné výpomoci, účasť na majetku a ostatné výdavkové operácie | D24: 95205 | E24: 99456 | F24: 23197625 | G24: 23324.51
B25: 820 | C25: Splácanie istín | D25: 0 | E25: 0 | F25: 14415401 | G25: 0
C26: v tom: | G26: 0
B27: 821 | C27: splácanie tuzemskej istiny | D27: 0 | E27: 0 | F27: 12726237 | G27: 0
B28: 822 | C28: splácanie istiny krátkodobého úveru, pôžičky a návratnej finančnej výpomoci do zahraničia | D28: 0 | E28: 0 | F28: 600000 | G28: 0
B29: 823 | C29: splácanie istiny dlhodobého úveru, pôžičky a návratnej finančnej výpomoci do zahraničia | D29: 0 | E29: 0 | F29: 1089164 | G29: 0
B30: 824 | C30: splácanie finančného prenájmu | D30: 0 | E30: 0 | F30: 0 | G30: 0
B31: I.- II. | C31: Prebytok (+), schodok (-) | D31: -36802 | E31: -29571 | F31: 16993850 | G31: -57467.958

Sheet Tab. č. 11
A3: Výdavky štátneho rozpočtu podľa funkčnej klasifikácie za rok 2021
C4: (v tis. eur)
A7: Kód a názov | B7: 600 - Bežné výdavky | F7: 700 - Kapitálové výdavky | J7: Výdavky spolu
B8: Schválený rozpočet | C8: Upravený rozpočet | D8: Skutočnosť | E8: % k upravenému rozpočtu | F8: Schválený rozpočet | G8: Upravený rozpočet | H8: Skutočnosť | I8: % k upravenému rozpočtu | J8: Schválený rozpočet | K8: Upravený rozpočet | L8: Skutočnosť | M8: % k upravenému rozpočtu
A9: 01 VŠEOBECNÉ VEREJNÉ SLUŽBY | B9: 9343205 | C9: 5159808 | D9: 3833416 | E9: 74.293772 | F9: 1541924 | G9: 154273 | H9: 152741 | I9: 99.006955 | J9: 10885129 | K9: 5314081 | L9: 3986157 | M9: 75.01122
A10: 011 Výkonné a zákonodarné orgány, finančné a rozpočtové... | B10: 7686411 | C10: 3507192 | D10: 2638623 | E10: 75.234632 | F10: 1521262 | G10: 102033 | H10: 100533 | I10: 98.529887 | J10: 9207673 | K10: 3609225 | L10: 2739156 | M10: 75.89319
A11: 0111 Výkonné a zákonodarné orgány | B11: 283440 | C11: 360433 | D11: 352350 | E11: 97.75742 | F11: 10144 | G11: 9999 | H11: 9770 | I11: 97.709771 | J11: 293584 | K11: 370432 | L11: 362120 | M11: 97.756133
A12: 0112 Finančné a rozpočtové záležitosti | B12: 6207081 | C12: 1917328 | D12: 1154906 | E12: 60.235181 | F12: 1507699 | G12: 85299 | H12: 84029 | I12: 98.51112 | J12: 7714780 | K12: 2002627 | L12: 1238935 | M12: 61.86549
A13: 0113 Zahraničné vzťahy | B13: 1195890 | C13: 1229431 | D13: 1131367 | E13: 92.023627 | F13: 3419 | G13: 6735 | H13: 6734 | I13: 99.985152 | J13: 1199309 | K13: 1236166 | L13: 1138101 | M13: 92.067004
A14: 012 Zahraničná ekonomická pomoc | B14: 38157 | C14: 34746 | D14: 34503 | E14: 99.300639 | F14: 0 | G14: 1065 | H14: 1065 | I14: 100 | J14: 38157 | K14: 35811 | L14: 35568 | M14: 99.321438
A15: 0121 Ekonomická pomoc rozvojovým krajinám a krajinám... | B15: 14913 | C15: 9594 | D15: 9459 | E15: 98.592871 | F15: 0 | G15: 1065 | H15: 1065 | I15: 100 | J15: 14913 | K15: 10659 | L15: 10524 | M15: 98.733465
A16: 0122 Ekonomická pomoc poskytovaná prostredníctvom ... | B16: 23244 | C16: 25152 | D16: 25044 | E16: 99.570611 | F16: 0 | G16: 0 | H16: 0 | I16: 0 | J16: 23244 | K16: 25152 | L16: 25044 | M16: 99.570611
A17: 013 Všeobecné služby | B17: 135513 | C17: 135491 | D17: 133465 | E17: 98.504698 | F17: 8874 | G17: 26077 | H17: 26046 | I17: 99.881121 | J17: 144387 | K17: 161568 | L17: 159511 | M17: 98.726852
A18: 0132 Rámcové plánovacie a štatistické služby | B18: 57516 | C18: 57923 | D18: 57823 | E18: 99.827357 | F18: 6239 | G18: 6919 | H18: 6903 | I18: 99.768753 | J18: 63755 | K18: 64842 | L18: 64726 | M18: 99.821104
A19: 0133 Iné všeobecné služby | B19: 77997 | C19: 77568 | D19: 75642 | E19: 97.517017 | F19: 2635 | G19: 19158 | H19: 19143 | I19: 99.921704 | J19: 80632 | K19: 96726 | L19: 94785 | M19: 97.993301
A20: 014 Základný výskum | B20: 359662 | C20: 347692 | D20: 347475 | E20: 99.937588 | F20: 11788 | G20: 21451 | H20: 21450 | I20: 99.995338 | J20: 371450 | K20: 369143 | L20: 368925 | M20: 99.940944
... A170: S P O L U | B170: 24697596 | C170: 23293537 | D170: 21771263 | E170: 93.464822 | F170: 2906212 | G170: 2442524 | H170: 2440161 | I170: 99.903256 | J170: 27603808 | K170: 25736061 | L170: 24211424 | M170: 94.075873

Sheet Tab. č. 12
A1: Výdavky štátneho rozpočtu podľa kapitol ŠR a zdrojov v roku 2021
A2: (v tis. eur)
A4: Kapitola štátneho rozpočtu / Zdroj | B4: Kód | C4: 600 - Bežné výdavky | G4: 700 - Kapitálové výdavky | K4: Výdavky spolu
C5: Schválený rozpočet | D5: Upravený rozpočet | E5: Skutočnosť | F5: % k upravenému rozpočtu | G5: Schválený rozpočet | H5: Upravený rozpočet | I5: Skutočnosť | J5: % k upravenému rozpočtu | K5: Schválený rozpočet | L5: Upravený rozpočet | M5: Skutočnosť | N5: % k upravenému rozpočtu
A6: 01 Kancelária Národnej rady SR | B6: 111 | C6: 35038 | D6: 35325 | E6: 35320 | F6: 99.985846 | G6: 664 | H6: 96 | I6: 96 | J6: 100 | K6: 35702 | L6: 35421 | M6: 35416 | N6: 99.985884
B7: 131I | C7: 0 | D7: 0 | E7: 0 | F7: 0 | G7: 0 | H7: 2830 | I7: 2830 | J7: 100 | K7: 0 | L7: 2830 | M7: 2830 | N7: 100
B8: 131J | C8: 0 | D8: 0 | E8: 0 | F8: 0 | G8: 0 | H8: 1606 | I8: 1606 | J8: 100 | K8: 0 | L8: 1606 | M8: 1606 | N8: 100
B9: 131K | C9: 0 | D9: 0 | E9: 0 | F9: 0 | G9: 0 | H9: 794 | I9: 565 | J9: 71.15869 | K9: 0 | L9: 794 | M9: 565 | N9: 71.15869
B10: 70 | C10: 0 | D10: 9 | E10: 9 | F10: 100 | G10: 0 | H10: 0 | I10: 0 | J10: 0 | K10: 0 | L10: 9 | M10: 9 | N10: 100
A11: 02 Kancelária prezidenta SR | B11: 111 | C11: 4606 | D11: 6034 | E11: 6032 | F11: 99.966854 | G11: 8 | H11: 8 | I11: 8 | J11: 100 | K11: 4614 | L11: 6042 | M11: 6040 | N11: 99.966898
B12: 131J | C12: 0 | D12: 0 | E12: 0 | F12: 0 | G12: 0 | H12: 65 | I12: 65 | J12: 100 | K12: 0 | L12: 65 | M12: 65 | N12: 100
B13: 131K | C13: 0 | D13: 0 | E13: 0 | F13: 0 | G13: 0 | H13: 188 | I13: 188 | J13: 100 | K13: 0 | L13: 188 | M13: 188 | N13: 100
B14: 70 | C14: 5 | D14: 5 | E14: 1 | F14: 20 | G14: 0 | H14: 0 | I14: 0 | J14: 0 | K14: 5 | L14: 5 | M14: 1 | N14: 20
A15: 03 Úrad vlády SR | B15: 111 | C15: 29630 | D15: 36419 | E15: 33153 | F15: 91.032154 | G15: 9472 | H15: 233 | I15: 233 | J15: 100 | K15: 39102 | L15: 36652 | M15: 33386 | N15: 91.089163
B16: 131I | C16: 0 | D16: 0 | E16: 0 | F16: 0 | G16: 0 | H16: 373 | I16: 373 | J16: 100 | K16: 0 | L16: 373 | M16: 373 | N16: 100
B17: 131J | C17: 0 | D17: 0 | E17: 0 | F17: 0 | G17: 0 | H17: 813 | I17: 813 | J17: 100 | K17: 0 | L17: 813 | M17: 813 | N17: 100
B18: 131K | C18: 0 | D18: 0 | E18: 0 | F18: 0 | G18: 0 | H18: 152 | I18: 152 | J18: 100 | K18: 0 | L18: 152 | M18: 152 | N18: 100
B19: 1AA1 | C19: 24618 | D19: 189 | E19: 189 | F19: 100 | G19: 0 | H19: 0 | I19: 0 | J19: 0 | K19: 24618 | L19: 189 | M19: 189 | N19: 100
B20: 1AA2 | C20: 4332 | D20: 33 | E20: 33 | F20: 100 | G20: 0 | H20: 0 | I20: 0 | J20: 0 | K20: 4332 | L20: 33 | M20: 33 | N20: 100
B21: 1AA3 | C21: 1035 | D21: 8 | E21: 8 | F21: 100 | G21: 0 | H21: 0 | I21: 0 | J21: 0 | K21: 1035 | L21: 8 | M21: 8 | N21: 100
B22: 1AC1 | C22: 0 | D22: 9914 | E22: 9914 | F22: 100 | G22: 0 | H22: 0 | I22: 0 | J22: 0 | K22: 0 | L22: 9914 | M22: 9914 | N22: 100
B23: 1AC2 | C23: 0 | D23: 1751 | E23: 1751 | F23: 100 | G23: 0 | H23: 0 | I23: 0 | J23: 0 | K23: 0 | L23: 1751 | M23: 1751 | N23: 100
B24: 1P01 | C24: 0 | D24: 120 | E24: 120 | F24: 100 | G24: 0 | H24: 0 | I24: 0 | J24: 0 | K24: 0 | L24: 120 | M24: 120 | N24: 100
B25: 3AA1 | C25: 0 | D25: 415 | E25: 415 | G25: 0 | H25: 0 | I25: 0 | K25: 0 | L25: 415 | M25: 415 | N25: 100
B26: 3AA2 | C26: 0 | D26: 81 | E26: 81 | G26: 0 | H26: 0 | I26: 0 | K26: 0 | L26: 81 | M26: 81 | N26: 100
B27: 3AA3 | C27: 0 | D27: 24 | E27: 24 | G27: 0 | H27: 0 | I27: 0 | K27: 0 | L27: 24 | M27: 24 | N27: 100
B28: 3AC1 | C28: 0 | D28: 309 | E28: 309 | G28: 0 | H28: 0 | I28: 0 | K28: 0 | L28: 309 | M28: 309 | N28: 100
B29: 3AC2 | C29: 0 | D29: 52 | E29: 52 | F29: 100 | G29: 0 | H29: 0 | I29: 0 | J29: 0 | K29: 0 | L29: 52 | M29: 52 | N29: 100
B30: 3AC3 | C30: 0 | D30: 57 | E30: 57 | F30: 100 | G30: 0 | H30: 0 | I30: 0 | J30: 0 | K30: 0 | L30: 57 | M30: 57 | N30: 100
A31: 04 Ministerstvo investícií, regionálneho rozvoja a informatizácie SR | B31: 111 | C31: 76903 | D31: 68891 | E31: 66219 | F31: 96.121409 | G31: 1120 | H31: 17030 | I31: 17030 | J31: 100 | K31: 78023 | L31: 85921 | M31: 83249 | N31: 96.890167
B32: 131J | C32: 0 | D32: 0 | E32: 0 | F32: 0 | G32: 0 | H32: 5541 | I32: 5541 | J32: 100 | K32: 0 | L32: 5541 | M32: 5541 | N32: 100
B33: 131K | C33: 0 | D33: 2000 | E33: 1995 | F33: 99.75 | G33: 0 | H33: 7573 | I33: 7573 | J33: 100 | K33: 0 | L33: 9573 | M33: 9568 | N33: 99.94777
B34: 131Z | C34: 0 | D34: 22035 | E34: 22035 | F34: 100 | G34: 0 | H34: 0 | I34: 0 | J34: 0 | K34: 0 | L34: 22035 | M34: 22035 | N34: 100
B35: 1AA1 | C35: 0 | D35: 16535 | E35: 16535 | F35: 100 | G35: 0 | H35: 153138 | I35: 153138 | J35: 100 | K35: 0 | L35: 169673 | M35: 169673 | N35: 100
B36: 1AA2 | C36: 0 | D36: 1727 | E36: 1727 | F36: 100 | G36: 0 | H36: 14746 | I36: 14746 | J36: 100 | K36: 0 | L36: 16473 | M36: 16473 | N36: 100
B37: 1AA3 | C37: 0 | D37: 198 | E37: 198 | F37: 100 | G37: 0 | H37: 127 | I37: 127 | J37: 100 | K37: 0 | L37: 325 | M37: 325 | N37: 100
B38: 1AC1 | C38: 0 | D38: 994 | E38: 994 | F38: 100 | G38: 0 | H38: 0 | I38: 0 | J38: 0 | K38: 0 | L38: 994 | M38: 994 | N38: 100
B39: 1AC2 | C39: 0 | D39: 0 | E39: 0 | F39: 0 | G39: 0 | H39: 0 | I39: 0 | J39: 0 | K39: 0 | L39: 0 | M39: 0 | N39: 0
B40: 1AC3 | C40: 0 | D40: 196 | E40: 196 | F40: 100 | G40: 0 | H40: 0 | I40: 0 | J40: 0 | K40: 0 | L40: 196 | M40: 196 | N40: 100
B41: 1AJ2 | C41: 0 | D41: 76 | E41: 76 | F41: 100 | G41: 0 | H41: 708 | I41: 708 | J41: 100 | K41: 0 | L41: 784 | M41: 784 | N41: 100
B42: 1AM1 | C42: 0 | D42: 13244 | E42: 13244 | F42: 100 | G42: 0 | H42: 12692 | I42: 12692 | J42: 100 | K42: 0 | L42: 25936 | M42: 25936 | N42: 100
B43: 1AM2 | C43: 0 | D43: 104 | E43: 104 | F43: 100 | G43: 0 | H43: 237 | I43: 237 | J43: 100 | K43: 0 | L43: 341 | M43: 341 | N43: 100
... B53: 3AM2 | C53: 0 | D53: 491 | E53: 491 | F53: 100 | G53: 0 | H53: 690 | I53: 690 | J53: 100 | K53: 0 | L53: 1181 | M53: 1181 | N53: 100
A54: 05 Kancelária Ústavného súdu SR | B54: 111 | C54: 6731 | D54: 6573 | E54: 6553 | F54: 99.695725 | G54: 616 | H54: 205 | I54: 203 | J54: 99.02439 | K54: 7347 | L54: 6778 | M54: 6756 | N54: 99.67542
B55: 131J | C55: 0 | D55: 0 | E55: 0 | F55: 0 | G55: 0 | H55: 156 | I55: 156 | J55: 100 | K55: 0 | L55: 156 | M55: 156 | N55: 100
B56: 131K | C56: 0 | D56: 0 | E56: 0 | F56: 0 | G56: 0 | H56: 42 | I56: 42 | J56: 100 | K56: 0 | L56: 42 | M56: 42 | N56: 100
B57: 70 | C57: 0 | D57: 0 | E57: 0 | F57: 0 | G57: 0 | H57: 0 | I57: 0 | J57: 0 | K57: 0 | L57: 0 | M57: 0 | N57: 0
A58: 06 Kancelária Najvyššieho súdu SR | B58: 111 | C58: 15845 | D58: 14001 | E58: 13998 | F58: 99.978573 | G58: 350 | H58: 27 | I58: 27 | J58: 100 | K58: 16195 | L58: 14028 | M58: 14025 | N58: 99.978614
B59: 131I | C59: 0 | D59: 0 | E59: 0 | F59: 0 | G59: 0 | H59: 40 | I59: 40 | J59: 100 | K59: 0 | L59: 40 | M59: 40 | N59: 100
B60: 1AC1 | C60: 0 | D60: 241 | E60: 241 | F60: 100 | G60: 0 | H60: 0 | I60: 0 | J60: 0 | K60: 0 | L60: 241 | M60: 241 | N60: 100
B61: 1AC3 | C61: 0 | D61: 67 | E61: 67 | F61: 100 | G61: 0 | H61: 0 | I61: 0 | J61: 0 | K61: 0 | L61: 67 | M61: 67 | N61: 100
B62: 3AA1 | C62: 0 | D62: 0 | E62: 0 | F62: 0 | G62: 0 | H62: 0 | I62: 0 | J62: 0 | K62: 0 | L62: 0 | M62: 0 | N62: 0
B63: 3AA2 | C63: 0 | D63: 0 | E63: 0 | F63: 0 | G63: 0 | H63: 0 | I63: 0 | J63: 0 | K63: 0 | L63: 0 | M63: 0 | N63: 0
B64: 3AA3 | C64: 0 | D64: 0 | E64: 0 | F64: 0 | G64: 0 | H64: 0 | I64: 0 | J64: 0 | K64: 0 | L64: 0 | M64: 0 | N64: 0
B65: 3AC1 | C65: 0 | D65: 532 | E65: 532 | F65: 100 | G65: 0 | H65: 0 | I65: 0 | J65: 0 | K65: 0 | L65: 532 | M65: 532 | N65: 100
B66: 3AC2 | C66: 0 | D66: 135 | E66: 135 | F66: 100 | G66: 0 | H66: 0 | I66: 0 | J66: 0 | K66: 0 | L66: 135 | M66: 135 | N66: 100
B67: 3AC3 | C67: 0 | D67: 135 | E67: 135 | F67: 100 | G67: 0 | H67: 0 | I67: 0 | J67: 0 | K67: 0 | L67: 135 | M67: 135 | N67: 100
A68: 07 Generálna prokuratúra SR | B68: 111 | C68: 113452 | D68: 112905 | E68: 111523 | F68: 98.775962 | G68: 1971 | H68: 1309 | I68: 1309 | J68: 100 | K68: 115423 | L68: 114214 | M68: 112832 | N68: 98.789991
B69: 131J | C69: 0 | D69: 0 | E69: 0 | F69: 0 | G69: 0 | H69: 1228 | I69: 1227 | J69: 99.918567 | K69: 0 | L69: 1228 | M69: 1227 | N69: 99.918567
B70: 131K | C70: 0 | D70: 0 | E70: 0 | F70: 0 | G70: 0 | H70: 3178 | I70: 3175 | J70: 99.905601 | K70: 0 | L70: 3178 | M70: 3175 | N70: 99.905601
A71: 08 Najvyšší kontrolný úrad SR | B71: 111 | C71: 11448 | D71: 12569 | E71: 12562 | F71: 99.944307 | G71: 85 | H71: 240 | I71: 240 | J71: 100 | K71: 11533 | L71: 12809 | M71: 12802 | N71: 99.945351
B72: 131K | C72: 0 | D72: 0 | E72: 0 | F72: 0 | G72: 0 | H72: 59 | I72: 59 | J72: 100 | K72: 0 | L72: 59 | M72: 59 | N72: 100
B73: 1AC1 | C73: 0 | D73: 151 | E73: 151 | F73: 100 | G73: 0 | H73: 0 | I73: 0 | J73: 0 | K73: 0 | L73: 151 | M73: 151 | N73: 100
B74: 1AC3 | C74: 0 | D74: 11 | E74: 11 | F74: 100 | G74: 0 | H74: 0 | I74: 0 | J74: 0 | K74: 0 | L74: 11 | M74: 11 | N74: 100
B75: 3AA1 | C75: 0 | D75: 100 | E75: 100 | F75: 100 | G75: 0 | H75: 89 | I75: 89 | J75: 100 | K75: 0 | L75: 189 | M75: 189 | N75: 100
B76: 3AA2 | C76: 0 | D76: 18 | E76: 18 | F76: 100 | G76: 0 | H76: 16 | I76: 16 | J76: 100 | K76: 0 | L76: 34 | M76: 34 | N76: 100
B77: 3AA3 | C77: 0 | D77: 15 | E77: 15 | F77: 100 | G77: 0 | H77: 14 | I77: 14 | J77: 100 | K77: 0 | L77: 29 | M77: 29 | N77: 100
B78: 3AC1 | C78: 0 | D78: 19 | E78: 19 | F78: 100 | G78: 0 | H78: 0 | I78: 0 | J78: 0 | K78: 0 | L78: 19 | M78: 19 | N78: 100
B79: 3AC2 | C79: 0 | D79: 27 | E79: 27 | F79: 100 | G79: 0 | H79: 0 | I79: 0 | J79: 0 | K79: 0 | L79: 27 | M79: 27 | N79: 100
B80: 3AC3 | C80: 0 | D80: 28 | E80: 28 | F80: 100 | G80: 0 | H80: 0 | I80: 0 | J80: 0 | K80: 0 | L80: 28 | M80: 28 | N80: 100
A81: 09 Slovenská informačná služba | B81: 111 | C81: 59965 | D81: 64727 | E81: 64727 | F81: 100 | G81: 0 | H81: 3000 | I81: 3000 | J81: 100 | K81: 59965 | L81: 67727 | M81: 67727 | N81: 100
B82: 131J | C82: 0 | D82: 0 | E82: 0 | F82: 0 | G82: 0 | H82: 4 | I82: 4 | J82: 100 | K82: 0 | L82: 4 | M82: 4 | N82: 100
B83: 131K | C83: 0 | D83: 0 | E83: 0 | F83: 0 | G83: 0 | H83: 892 | I83: 892 | J83: 100 | K83: 0 | L83: 892 | M83: 892 | N83: 100
B84: 70 | C84: 0 | D84: 27 | E84: 27 | F84: 100 | G84: 0 | H84: 0 | I84: 0 | J84: 0 | K84: 0 | L84: 27 | M84: 27 | N84: 100
A85: 10 Ministerstvo zahraničných vecí a európskych záležitostí SR | B85: 111 | C85: 151291 | D85: 149964 | E85: 149732 | F85: 99.845296 | G85: 3419 | H85: 1921 | I85: 1920 | J85: 99.947944 | K85: 154710 | L85: 151885 | M85: 151652 | N85: 99.846594
B86: 131I | C86: 0 | D86: 0 | E86: 0 | F86: 0 | G86: 0 | H86: 1264 | I86: 1264 | J86: 100 | K86: 0 | L86: 1264 | M86: 1264 | N86: 100
B87: 131J | C87: 0 | D87: 1123 | E87: 993 | F87: 88.423865 | G87: 0 | H87: 714 | I87: 714 | J87: 100 | K87: 0 | L87: 1837 | M87: 1707 | N87: 92.923244
B88: 131K | C88: 0 | D88: 1174 | E88: 1173 | F88: 99.914821 | G88: 0 | H88: 3117 | I88: 3117 | J88: 100 | K88: 0 | L88: 4291 | M88: 4290 | N88: 99.976695
B89: 1AA1 | C89: 0 | D89: 372 | E89: 372 | F89: 100 | G89: 0 | H89: 0 | I89: 0 | J89: 0 | K89: 0 | L89: 372 | M89: 372 | N89: 100
B90: 1AA2 | C90: 0 | D90: 64 | E90: 64 | F90: 100 | G90: 0 | H90: 0 | I90: 0 | J90: 0 | K90: 0 | L90: 64 | M90: 64 | N90: 100
B91: 1AA3 | C91: 0 | D91: 15 | E91: 15 | F91: 100 | G91: 0 | H91: 0 | I91: 0 | J91: 0 | K91: 0 | L91: 15 | M91: 15 | N91: 100
A92: 11 Ministerstvo obrany SR | B92: 111 | C92: 1210687 | D92: 1188982 | E92: 1186386 | F92: 99.781662 | G92: 15980 | H92: 477360 | I92: 477312 | J92: 99.989945 | K92: 1226667 | L92: 1666342 | M92: 1663698 | N92: 99.841329
B93: 131I | C93: 0 | D93: 0 | E93: 0 | F93: 0 | G93: 0 | H93: 2057 | I93: 2055 | J93: 99.902771 | K93: 0 | L93: 2057 | M93: 2055 | N93: 99.902771
B94: 131J | C94: 0 | D94: 0 | E94: 0 | F94: 0 | G94: 0 | H94: 10278 | I94: 10195 | J94: 99.19245 | K94: 0 | L94: 10278 | M94: 10195 | N94: 99.19245
B95: 131K | C95: 0 | D95: 125 | E95: 125 | F95: 100 | G95: 0 | H95: 50034 | I95: 49804 | J95: 99.540313 | K95: 0 | L95: 50159 | M95: 49929 | N95: 99.541458
B96: 1AA1 | C96: 0 | D96: 2 | E96: 2 | F96: 100 | G96: 0 | H96: 0 | I96: 0 | J96: 0 | K96: 0 | L96: 2 | M96: 2 | N96: 100
B97: 1AA2 | C97: 0 | D97: 1 | E97: 1 | F97: 100 | G97: 0 | H97: 0 | I97: 0 | J97: 0 | K97: 0 | L97: 1 | M97: 1 | N97: 100
B98: 1AB1 | C98: 0 | D98: 224 | E98: 224 | F98: 100 | G98: 0 | H98: 0 | I98: 0 | J98: 0 | K98: 0 | L98: 224 | M98: 224 | N98: 100
B99: 1AB2 | C99: 0 | D99: 25 | E99: 25 | F99: 100 | G99: 0 | H99: 0 | I99: 0 | J99: 0 | K99: 0 | L99: 25 | M99: 25 | N99: 100
B100: 1AC1 | C100: 0 | D100: 235 | E100: 216 | F100: 91.914894 | G100: 0 | H100: 0 | I100: 0 | J100: 0 | K100: 0 | L100: 235 | M100: 216 | N100: 91.914894
B101: 1AC3 | C101: 0 | D101: 23 | E101: 21 | F101: 91.304348 | G101: 0 | H101: 0 | I101: 0 | J101: 0 | K101: 0 | L101: 23 | M101: 21 | N101: 91.304348
B102: 3AB1 | C102: 0 | D102: 897 | E102: 897 | F102: 100 | G102: 0 | H102: 0 | I102: 0 | J102: 0 | K102: 0 | L102: 897 | M102: 897 | N102: 100
B103: 3AB2 | C103: 0 | D103: 171 | E103: 172 | F103: 100.5848 | G103: 0 | H103: 0 | I103: 0 | J103: 0 | K103: 0 | L103: 171 | M103: 172 | N103: 100.5848
B104: 3AC1 | C104: 0 | D104: 110 | E104: 99 | F104: 90 | G104: 0 | H104: 0 | I104: 0 | J104: 0 | K104: 0 | L104: 110 | M104: 99 | N104: 90
... B106: 3AC3 | C106: 0 | D106: 65 | E106: 60 | F106: 92.307692 | G106: 0 | H106: 0 | I106: 0 | J106: 0 | K106: 0 | L106: 65 | M106: 60 | N106: 92.307692
B107: 70 | C107: 47 | D107: 46 | E107: 39 | F107: 84.782609 | G107: 0 | H107: 0 | I107: 0 | J107: 0 | K107: 47 | L107: 46 | M107: 39 | N107: 84.782609
A108: 12 Ministerstvo vnútra SR | B108: 111 | C108: 2838092 | D108: 3268254 | E108: 3265255 | F108: 99.908238 | G108: 0 | H108: 20492 | I108: 20489 | J108: 99.98536 | K108: 2838092 | L108: 3288746 | M108: 3285744 | N108: 99.908719
B109: 11R4 | C109: 5778 | D109: 144 | E109: 144 | F109: 100 | G109: 0 | H109: 1357 | I109: 1357 | J109: 100 | K109: 5778 | L109: 1501 | M109: 1501 | N109: 100
B110: 131I | C110: 0 | D110: 0 | E110: 0 | F110: 0 | G110: 0 | H110: 1082 | I110: 1082 | J110: 100 | K110: 0 | L110: 1082 | M110: 1082 | N110: 100
B111: 131J | C111: 0 | D111: 0 | E111: 0 | F111: 0 | G111: 0 | H111: 417 | I111: 417 | J111: 100 | K111: 0 | L111: 417 | M111: 417 | N111: 100
...

Sheet Tab. č. 13
A4: Kód | B4: Kód a názov | C4: 600 - Bežné výdavky | G4: 700 - Kapitálové výdavky | K4: Výdavky spolu
C5: Schválený rozpočet | D5: Upravený rozpočet | E5: Skutočnosť | F5: % k upravenému rozpočtu | G5: Schválený rozpočet | H5: Upravený rozpočet | I5: Skutočnosť | J5: % k upravenému rozpočtu | K5: Schválený rozpočet | L5: Upravený rozpočet | M5: Skutočnosť | N5: % k upravenému rozpočtu
A6: 2104 | B6: Ministerstvo investícií, regionálneho rozvoja a informatizácie SR | C6: 0 | D6: 10 | E6: 10 | F6: 100 | G6: 0 | H6: 0 | I6: 0 | J6: 0 | K6: 0 | L6: 10 | M6: 10 | N6: 100
B7: 01.4 Základný výskum | C7: 0 | D7: 10 | E7: 10 | F7: 100 | G7: 0 | H7: 0 | I7: 0 | J7: 0 | K7: 0 | L7: 10 | M7: 10 | N7: 100
B8: 01.4.0 Základný výskum | C8: 0 | D8: 10 | E8: 10 | F8: 100 | G8: 0 | H8: 0 | I8: 0 | J8: 0 | K8: 0 | L8: 10 | M8: 10 | N8: 100
A9: 2110 | B9: Ministerstvo zahraničných vecí a európskych záležitostí SR | C9: 95 | D9: 199 | E9: 199 | F9: 100 | G9: 0 | H9: 0 | I9: 0 | J9: 0 | K9: 95 | L9: 199 | M9: 199 | N9: 100
B10: 01.5 Výskum a vývoj v oblasti všeobecných verejných služieb | C10: 95 | D10: 199 | E10: 199 | F10: 100 | G10: 0 | H10: 0 | I10: 0 | J10: 0 | K10: 95 | L10: 199 | M10: 199 | N10: 100
B11: 01.5.0 Výskum a vývoj v oblasti všeobecných verejných služieb | C11: 95 | D11: 199 | E11: 199 | F11: 100 | G11: 0 | H11: 0 | I11: 0 | J11: 0 | K11: 95 | L11: 199 | M11: 199 | N11: 100
A12: 2111 | B12: Ministerstvo obrany SR | C12: 7149 | D12: 8084 | E12: 7300 | F12: 90.301831 | G12: 385 | H12: 1548 | I12: 1485 | J12: 95.930233 | K12: 7534 | L12: 9632 | M12: 8785 | N12: 91.206395
B13: 01.4 Základný výskum | C13: 2723 | D13: 3164 | E13: 3167 | F13: 100.09482 | G13: 380 | H13: 410 | I13: 409 | J13: 99.756098 | K13: 3103 | L13: 3574 | M13: 3576 | N13: 100.05596
B14: 01.4.0 Základný výskum | C14: 2723 | D14: 3164 | E14: 3167 | F14: 100.09482 | G14: 380 | H14: 410 | I14: 409 | J14: 99.756098 | K14: 3103 | L14: 3574 | M14: 3576 | N14: 100.05596
B15: 02.4 Výskum a vývoj v oblasti obrany | C15: 4426 | D15: 4920 | E15: 4133 | F15: 84.004065 | G15: 5 | H15: 1138 | I15: 1076 | J15: 94.551845 | K15: 4431 | L15: 6058 | M15: 5209 | N15: 85.985474
B16: 02.4.0 Výskum a vývoj v oblasti obrany | C16: 4426 | D16: 4920 | E16: 4133 | F16: 84.004065 | G16: 5 | H16: 1138 | I16: 1076 | J16: 94.551845 | K16: 4431 | L16: 6058 | M16: 5209 | N16: 85.985474
A17: 2118 | B17: Ministerstvo životného prostredia SR | C17: 597 | D17: 597 | E17: 597 | F17: 100 | G17: 0 | H17: 0 | I17: 0 | J17: 0 | K17: 597 | L17: 597 | M17: 597 | N17: 100
B18: 05.5 Výskum a vývoj v oblasti ochrany životného prostredia | C18: 597 | D18: 597 | E18: 597 | F18: 100 | G18: 0 | H18: 0 | I18: 0 | J18: 0 | K18: 597 | L18: 597 | M18: 597 | N18: 100
B19: 05.5.0 Výskum a vývoj v oblasti ochrany životného prostredia | C19: 597 | D19: 597 | E19: 597 | F19: 100 | G19: 0 | H19: 0 | I19: 0 | J19: 0 | K19: 597 | L19: 597 | M19: 597 | N19: 100
A20: 2120 | B20: Ministerstvo školstva, vedy, výskumu a športu SR | C20: 310325 | D20: 309842 | E20: 309649 | F20: 99.93771 | G20: 28983 | H20: 21868 | I20: 21867 | J20: 99.995427 | K20: 339308 | L20: 331710 | M20: 331516 | N20: 99.941515
B21: 01.3 Všeobecné služby | C21: 5955 | D21: 8569 | E21: 8579 | F21: 100.1167 | G21: 0 | H21: 3 | I21: 3 | J21: 100 | K21: 5955 | L21: 8572 | M21: 8582 | N21: 100.11666
B22: 01.3.3 Iné všeobecné služby | C22: 5955 | D22: 8569 | E22: 8579 | F22: 100.1167 | G22: 0 | H22: 3 | I22: 3 | J22: 100 | K22: 5955 | L22: 8572 | M22: 8582 | N22: 100.11666
B23: 01.4 Základný výskum | C23: 278959 | D23: 262031 | E23: 261828 | F23: 99.922528 | G23: 10269 | H23: 17740 | I23: 17740 | J23: 100 | K23: 289228 | L23: 279771 | M23: 279568 | N23: 99.927441
B24: 01.4.0 Základný výskum | C24: 278959 | D24: 262031 | E24: 261828 | F24: 99.922528 | G24: 10269 | H24: 17740 | I24: 17740 | J24: 100 | K24: 289228 | L24: 279771 | M24: 279568 | N24: 99.927441
B25: 01.5 Výskum a vývoj v oblasti všeobecných verejných služieb | C25: 10079 | D25: 21087 | E25: 21087 | F25: 100 | G25: 0 | H25: 3647 | I25: 3647 | J25: 100 | K25: 10079 | L25: 24734 | M25: 24734 | N25: 100
B26: 01.5.0 Výskum a vývoj v oblasti všeobecných verejných služieb | C26: 10079 | D26: 21087 | E26: 21087 | F26: 100 | G26: 0 | H26: 3647 | I26: 3647 | J26: 100 | K26: 10079 | L26: 24734 | M26: 24734 | N26: 100
B27: 04.8 Výskum a vývoj v ekonomickej oblasti | C27: 10079 | D27: 12028 | E27: 12028 | F27: 100 | G27: 18714 | H27: 478 | I27: 477 | J27: 99.790795 | K27: 28793 | L27: 12506 | M27: 12505 | N27: 99.992004
B28: 04.8.7 Výskum a vývoj v iných odvetviach | C28: 10079 | D28: 12028 | E28: 12028 | F28: 100 | G28: 18714 | H28: 478 | I28: 477 | J28: 99.790795 | K28: 28793 | L28: 12506 | M28: 12505 | N28: 99.992004
B29: 09.7 Výskum a vývoj v oblasti vzdelávania | C29: 5253 | D29: 6127 | E29: 6127 | F29: 100 | G29: 0 | H29: 0 | I29: 0 | J29: 0 | K29: 5253 | L29: 6127 | M29: 6127 | N29: 100
B30: 09.7.0 Výskum a vývoj v oblasti vzdelávania | C30: 5253 | D30: 6127 | E30: 6127 | F30: 100 | G30: 0 | H30: 0 | I30: 0 | J30: 0 | K30: 5253 | L30: 6127 | M30: 6127 | N30: 100
A31: 2121 | B31: Ministerstvo zdravotníctva SR | C31: 0 | D31: 734 | E31: 734 | F31: 100 | G31: 0 | H31: 9 | I31: 9 | J31: 100 | K31: 0 | L31: 743 | M31: 743 | N31: 100
B32: 07.5 Výskum a vývoj v oblasti zdravotníctva | C32: 0 | D32: 734 | E32: 734 | F32: 100 | G32: 0 | H32: 9 | I32: 9 | J32: 100 | K32: 0 | L32: 743 | M32: 743 | N32: 100
B33: 07.5.0 Výskum a vývoj v oblasti zdravotníctva | C33: 0 | D33: 734 | E33: 734 | F33: 100 | G33: 0 | H33: 9 | I33: 9 | J33: 100 | K33: 0 | L33: 743 | M33: 743 | N33: 100
A34: 2122 | B34: Ministerstvo práce, sociálnych vecí a rodiny SR | C34: 535 | D34: 553 | E34: 553 | F34: 100 | G34: 0 | H34: 0 | I34: 0 | J34: 0 | K34: 535 | L34: 553 | M34: 553 | N34: 100
B35: 10.8 Výskum a vývoj v oblasti sociálneho zabezpečenia | C35: 535 | D35: 553 | E35: 553 | F35: 100 | G35: 0 | H35: 0 | I35: 0 | J35: 0 | K35: 535 | L35: 553 | M35: 553 | N35: 100
B36: 10.8.0 Výskum a vývoj v oblasti sociálneho zabezpečenia | C36: 535 | D36: 553 | E36: 553 | F36: 100 | G36: 0 | H36: 0 | I36: 0 | J36: 0 | K36: 535 | L36: 553 | M36: 553 | N36: 100
A37: 2124 | B37: Ministerstvo kultúry SR | C37: 782 | D37: 742 | E37: 743 | F37: 100.13477 | G37: 0 | H37: 0 | I37: 0 | J37: 0 | K37: 782 | L37: 742 | M37: 743 | N37: 100.13477
B38: 08.5.Výskum a vývoj v oblasti rekreácie, kultúry a náb. | C38: 782 | D38: 742 | E38: 743 | F38: 100.13477 | G38: 0 | H38: 0 | I38: 0 | J38: 0 | K38: 782 | L38: 742 | M38: 743 | N38: 100.13477
B39: 08.5.0 Výskum a vývoj v oblasti rekreácie, kultúry a náb. | C39: 782 | D39: 742 | E39: 743 | F39: 100.13477 | G39: 0 | H39: 0 | I39: 0 | J39: 0 | K39: 782 | L39: 742 | M39: 743 | N39: 100.13477
A40: 2126 | B40: Ministerstvo hospodárstva SR | C40: 0 | D40: 14869 | E40: 14869 | F40: 100 | G40: 0 | H40: 33307 | I40: 33307 | J40: 100 | K40: 0 | L40: 48176 | M40: 48176 | N40: 100
B41: 04.8 Výskum a vývoj v ekonomickej oblasti | C41: 0 | D41: 14869 | E41: 14869 | F41: 100 | G41: 0 | H41: 33307 | I41: 33307 | J41: 100 | K41: 0 | L41: 48176 | M41: 48176 | N41: 100
B42: 04.8.4 Výskum a vývoj v oblasti ťažby, výroby a výstavby | C42: 0 | D42: 116 | E42: 116 | F42: 100 | G42: 0 | H42: 0 | I42: 0 | J42: 0 | K42: 0 | L42: 116 | M42: 116 | N42: 100
B43: 04.8.7 Výskum a vývoj v iných odvetviach | C43: 0 | D43: 14753 | E43: 14753 | F43: 100 | G43: 0 | H43: 33307 | I43: 33307 | J43: 100 | K43: 0 | L43: 48060 | M43: 48060 | N43: 100
A44: 2127 | B44: Ministerstvo pôdohospodárstva a rozvoja vidieka SR | C44: 6228 | D44: 34184 | E44: 34184 | F44: 100 | G44: 0 | H44: 338 | I44: 338 | J44: 100 | K44: 6228 | L44: 34522 | M44: 34522 | N44: 100
B45: 04.8 Výskum a vývoj v ekonomickej oblasti | C45: 6228 | D45: 34184 | E45: 34184 | F45: 100 | G45: 0 | H45: 338 | I45: 338 | J45: 100 | K45: 6228 | L45: 34522 | M45: 34522 | N45: 100
B46: 04.8.2 Výskum a vývoj v oblasti poľn., lesníctva, rybného hosp. a poľovn. | C46: 6228 | D46: 34184 | E46: 34184 | F46: 100 | G46: 0 | H46: 338 | I46: 338 | J46: 100 | K46: 6228 | L46: 34522 | M46: 34522 | N46: 100
A47: 2129 | B47: Ministerstvo dopravy a výstavby SR | C47: 714 | D47: 267 | E47: 267 | F47: 100 | G47: 0 | H47: 0 | I47: 0 | J47: 0 | K47: 714 | L47: 267 | M47: 267 | N47: 100
B48: 04.8 Výskum a vývoj v ekonomickej oblasti | C48: 714 | D48: 267 | E48: 267 | F48: 100 | G48: 0 | H48: 0 | I48: 0 | J48: 0 | K48: 714 | L48: 267 | M48: 267 | N48: 100
B49: 04.8.4 Výskum a vývoj v oblasti ťažby, výroby a výstavby | C49: 76 | D49: 0 | E49: 0 | F49: 0 | G49: 0 | H49: 0 | I49: 0 | J49: 0 | K49: 76 | L49: 0 | M49: 0 | N49: 0
B50: 04.8.5 Výskum a vývoj v oblasti dopravy | C50: 357 | D50: 87 | E50: 87 | F50: 100 | G50: 0 | H50: 0 | I50: 0 | J50: 0 | K50: 357 | L50: 87 | M50: 87 | N50: 100
B51: 04.8.6 Výskum a vývoj v oblasti komunikácií | C51: 281 | D51: 180 | E51: 180 | F51: 100 | G51: 0 | H51: 0 | I51: 0 | J51: 0 | K51: 281 | L51: 180 | M51: 180 | N51: 100
A52: 2131 | B52: Úrad geodézie, kartografie a katastra SR | C52: 420 | D52: 520 | E52: 520 | F52: 100 | G52: 0 | H52: 105 | I52: 105 | J52: 100 | K52: 420 | L52: 625 | M52: 625 | N52: 100
B53: 01.4 Základný výskum | C53: 420 | D53: 520 | E53: 520 | F53: 100 | G53: 0 | H53: 105 | I53: 105 | J53: 100 | K53: 420 | L53: 625 | M53: 625 | N53: 100
B54: 01.4.0 Základný výskum | C54: 420 | D54: 520 | E54: 520 | F54: 100 | G54: 0 | H54: 105 | I54: 105 | J54: 100 | K54: 420 | L54: 625 | M54: 625 | N54: 100
A55: 2132 | B55: Štatistický úrad SR | C55: 636 | D55: 749 | E55: 749 | F55: 100 | G55: 0 | H55: 0 | I55: 0 | J55: 0 | K55: 636 | L55: 749 | M55: 749 | N55: 100
B56: 01.5 Výskum a vývoj v oblasti všeobecných verejných služieb | C56: 636 | D56: 749 | E56: 749 | F56: 100 | G56: 0 | H56: 0 | I56: 0 | J56: 0 | K56: 636 | L56: 749 | M56: 749 | N56: 100
B57: 01.5.0 Výskum a vývoj v oblasti všeobecných verejných služieb | C57: 636 | D57: 749 | E57: 749 | F57: 100 | G57: 0 | H57: 0 | I57: 0 | J57: 0 | K57: 636 | L57: 749 | M57: 749 | N57: 100
A58: 2138 | B58: Úrad pre normalizáciu, metrológiu a skúšobníctvo SR | C58: 986 | D58: 1021 | E58: 1021 | F58: 100 | G58: 400 | H58: 400 | I58: 400 | J58: 100 | K58: 1386 | L58: 1421 | M58: 1421 | N58: 100
B59: 04.8 Výskum a vývoj v ekonomickej oblasti | C59: 986 | D59: 1021 | E59: 1021 | F59: 100 | G59: 400 | H59: 400 | I59: 400 | J59: 100 | K59: 1386 | L59: 1421 | M59: 1421 | N59: 100
B60: 04.8.1 Výskum a vývoj v ekonomickej, obchodnej a pracovnej obl | C60: 986 | D60: 1021 | E60: 1021 | F60: 100 | G60: 400 | H60: 400 | I60: 400 | J60: 100 | K60: 1386 | L60: 1421 | M60: 1421 | N60: 100
A61: 2142 | B61: Správa štátnych hmotných rezerv SR | C61: 0 | D61: 174 | E61: 174 | F61: 100 | G61: 0 | H61: 809 | I61: 809 | K61: 0 | L61: 983 | M61: 983
B62: 10.8 Výskum a vývoj v oblasti sociálneho zabezpečenia | C62: 0 | D62: 174 | E62: 174 | F62: 100 | G62: 0 | H62: 809 | I62: 809 | K62: 0 | L62: 983 | M62: 983
B63: 10.8.0 Výskum a vývoj v oblasti sociálneho zabezpečenia | C63: 0 | D63: 174 | E63: 174 | F63: 100 | G63: 0 | H63: 809 | I63: 809 | K63: 0 | L63: 983 | M63: 983
A64: 2151 | B64: Slovenská akadémia vied | C64: 77560 | D64: 81967 | E64: 81950 | F64: 99.97926 | G64: 1139 | H64: 3196 | I64: 3196 | J64: 100 | K64: 78699 | L64: 85163 | M64: 85146 | N64: 99.980038
B65: 01.4 Základný výskum | C65: 77560 | D65: 81967 | E65: 81950 | F65: 99.97926 | G65: 1139 | H65: 3196 | I65: 3196 | J65: 100 | K65: 78699 | L65: 85163 | M65: 85146 | N65: 99.980038
B66: 01.4.0 Základný výskum | C66: 77560 | D66: 81967 | E66: 81950 | F66: 99.97926 | G66: 1139 | H66: 3196 | I66: 3196 | J66: 100 | K66: 78699 | L66: 85163 | M66: 85146 | N66: 99.980038
B67: S P O L U | C67: 406027 | D67: 454512 | E67: 453519 | F67: 99.781524 | G67: 30907 | H67: 61580 | I67: 61516 | J67: 99.89607 | K67: 436934 | L67: 516092 | M67: 515035 | N67: 99.795192

Sheet Tab. č. 14
A3: Výdavky štátneho rozpočtu na vedu a techniku podľa funkčnej klasifikácie za rok 2021
A4: (v tis. eur)
C6: 600 Bežné výdavky | G6: 700 Kapitálové výdavky | K6: Úhrn výdavkov
A7: Kód | B7: Kód a názov | C7: Schválený rozpočet | D7: Upravený rozpočet | E7: Plnenie | F7: % k upravenému rozpočtu | G7: Schválený rozpočet | H7: Upravený rozpočet | I7: Plnenie | J7: % k upravenému rozpočtu | K7: Schválený rozpočet | L7: Upravený rozpočet | M7: Plnenie | N7: % k upravenému rozpočtu
A8: 01 | B8: VŠEOBECNÉ VEREJNÉ SLUŽBY | C8: 376427 | D8: 378296 | E8: 378089 | F8: 99.945281 | G8: 11788 | H8: 25101 | I8: 25100 | J8: 99.996016 | K8: 388215 | L8: 403397 | M8: 403189 | N8: 99.948438
A9: 01.3 | B9: Všeobecné služby | C9: 5955 | D9: 8569 | E9: 8579 | F9: 100.1167 | G9: 0 | H9: 3 | I9: 3 | J9: 100 | K9: 5955 | L9: 8572 | M9: 8582 | N9: 100.11666
A10: 01.3.3 | B10: Iné všeobecné služby | C10: 5955 | D10: 8569 | E10: 8579 | F10: 100.1167 | G10: 0 | H10: 3 | I10: 3 | J10: 100 | K10: 5955 | L10: 8572 | M10: 8582 | N10: 100.11666
B11: 2120 Ministerstvo školstva SR | C11: 5955 | D11: 8569 | E11: 8579 | F11: 100.1167 | G11: 0 | H11: 3 | I11: 3 | J11: 100 | K11: 5955 | L11: 8572 | M11: 8582 | N11: 100.11666
A12: 01.4 | B12: 01.4 Základný výskum | C12: 359662 | D12: 347692 | E12: 347475 | F12: 99.937588 | G12: 11788 | H12: 21451 | I12: 21450 | J12: 99.995338 | K12: 371450 | L12: 369143 | M12: 368925 | N12: 99.940944
A13: 01.4.0 | B13: 01.4.0 Základný výskum | C13: 359662 | D13: 347692 | E13: 347475 | F13: 99.937588 | G13: 11788 | H13: 21451 | I13: 21450 | J13: 99.995338 | K13: 371450 | L13: 369143 | M13: 368925 | N13: 99.940944
B14: 2104 Ministerstvo investícií, regionálneho rozvoja a informatizácie | C14: 0 | D14: 10 | E14: 10 | F14: 100 | G14: 0 | H14: 0 | I14: 0 | J14: 0 | K14: 0 | L14: 10 | M14: 10 | N14: 100
B15: 2111 Ministerstvo obrany SR | C15: 2723 | D15: 3164 | E15: 3167 | F15: 100.09482 | G15: 380 | H15: 410 | I15: 409 | J15: 99.756098 | K15: 3103 | L15: 3574 | M15: 3576 | N15: 100.05596
B16: 2120 Ministerstvo školstva, vedy, výskumu a športu SR | C16: 278959 | D16: 262031 | E16: 261828 | F16: 99.922528 | G16: 10269 | H16: 17740 | I16: 17740 | J16: 100 | K16: 289228 | L16: 279771 | M16: 279568 | N16: 99.927441
B17: 2131 Úrad geodézie, kartografie a katastra SR | C17: 420 | D17: 520 | E17: 520 | F17: 100 | G17: 0 | H17: 105 | I17: 105 | J17: 100 | K17: 420 | L17: 625 | M17: 625 | N17: 100
B18: 2151 Slovenská akadémia vied | C18: 77560 | D18: 81967 | E18: 81950 | F18: 99.97926 | G18: 1139 | H18: 3196 | I18: 3196 | J18: 100 | K18: 78699 | L18: 85163 | M18: 85146 | N18: 99.980038
A19: 01.5 | B19: 01.5 Výskum a vývoj v oblasti všeobecných verejných služieb | C19: 10810 | D19: 22035 | E19: 22035 | F19: 100 | G19: 0 | H19: 3647 | I19: 3647 | J19: 100 | K19: 10810 | L19: 25682 | M19: 25682 | N19: 100
A20: 01.5.0 | B20: 01.5.0 Výskum a vývoj v oblasti všeobecných verejných služi | C20: 10810 | D20: 22035 | E20: 22035 | F20: 100 | G20: 0 | H20: 3647 | I20: 3647 | J20: 100 | K20: 10810 | L20: 25682 | M20: 25682 | N20: 100
B21: 2110 Ministerstvo zahraničných vecí SR | C21: 95 | D21: 199 | E21: 199 | F21: 100 | G21: 0 | H21: 0 | I21: 0 | J21: 0 | K21: 95 | L21: 199 | M21: 199 | N21: 100
B22: 2120 Ministerstvo školstva, vedy, výskumu a športu SR | C22: 10079 | D22: 21087 | E22: 21087 | F22: 100 | G22: 0 | H22: 3647 | I22: 3647 | J22: 100 | K22: 10079 | L22: 24734 | M22: 24734 | N22: 100
B23: 2132 Štatistický úrad SR | C23: 636 | D23: 749 | E23: 749 | F23: 100 | G23: 0 | H23: 0 | I23: 0 | J23: 0 | K23: 636 | L23: 749 | M23: 749 | N23: 100
A24: 02 | B24: 02 OBRANA | C24: 4426 | D24: 4920 | E24: 4133 | F24: 84.004065 | G24: 5 | H24: 1138 | I24: 1076 | J24: 94.551845 | K24: 4431 | L24: 6058 | M24: 5209 | N24: 85.985474
A25: 02.4 | B25: 02.4 Výskum a vývoj v oblasti obrany | C25: 4426 | D25: 4920 | E25: 4133 | F25: 84.004065 | G25: 5 | H25: 1138 | I25: 1076 | J25: 94.551845 | K25: 4431 | L25: 6058 | M25: 5209 | N25: 85.985474
A26: 02.4.0 | B26: 02.4.0 Výskum a vývoj v oblasti obrany | C26: 4426 | D26: 4920 | E26: 4133 | F26: 84.004065 | G26: 5 | H26: 1138 | I26: 1076 | J26: 94.551845 | K26: 4431 | L26: 6058 | M26: 5209 | N26: 85.985474
B27: 2111 Ministerstvo obrany SR | C27: 4426 | D27: 4920 | E27: 4133 | F27: 84.004065 | G27: 5 | H27: 1138 | I27: 1076 | J27: 94.551845 | K27: 4431 | L27: 6058 | M27: 5209 | N27: 85.985474
A28: 04 | B28: 04 EKONOMICKÁ OBLASŤ | C28: 18007 | D28: 62369 | E28: 62369 | F28: 100 | G28: 19114 | H28: 34523 | I28: 34522 | J28: 99.997103 | K28: 37121 | L28: 96892 | M28: 96891 | N28: 99.998968
A29: 04.8 | B29: 04.8 Výskum a vývoj v ekonomickej oblasti | C29: 18007 | D29: 62369 | E29: 62369 | F29: 100 | G29: 19114 | H29: 34523 | I29: 34522 | J29: 99.997103 | K29: 37121 | L29: 96892 | M29: 96891 | N29: 99.998968
A30: 04.8.1 | B30: 04.8.1 Výskum a vývoj v ekonomickej, obchodnej a pracovnej obl | C30: 986 | D30: 1021 | E30: 1021 | F30: 100 | G30: 400 | H30: 400 | I30: 400 | J30: 100 | K30: 1386 | L30: 1421 | M30: 1421 | N30: 100
B31: 2138 Úrad pre normalizáciu, metrológiu a skúšobníctvo SR | C31: 986 | D31: 1021 | E31: 1021 | F31: 100 | G31: 400 | H31: 400 | I31: 400 | J31: 100 | K31: 1386 | L31: 1421 | M31: 1421 | N31: 100
A32: 04.8.2 | B32: 04.8.2 Výskum a vývoj v oblasti poľnohospodárstva, lesníctva | C32: 6228 | D32: 34184 | E32: 34184 | F32: 100 | G32: 0 | H32: 338 | I32: 338 | J32: 100 | K32: 6228 | L32: 34522 | M32: 34522 | N32: 100
B33: 2127 Ministerstvo pôdohospodárstva a rozvoja vidieka SR | C33: 6228 | D33: 34184 | E33: 34184 | F33: 100 | G33: 0 | H33: 338 | I33: 338 | J33: 100 | K33: 6228 | L33: 34522 | M33: 34522 | N33: 100
A34: 04.8.4 | B34: 04.8.4 Výskum a vývoj v oblasti ťažby, výroby a výstavby | C34: 76 | D34: 116 | E34: 116 | F34: 100 | G34: 0 | H34: 0 | I34: 0 | J34: 0 | K34: 76 | L34: 116 | M34: 116 | N34: 100
B35: 2126 Ministerstvo hospodárstva SR | C35: 0 | D35: 116 | E35: 116 | F35: 100 | G35: 0 | H35: 0 | I35: 0 | J35: 0 | K35: 0 | L35: 116 | M35: 116 | N35: 100
B36: 2129 Ministerstvo dopravy a výstavby SR | C36: 76 | D36: 0 | E36: 0 | F36: 0 | G36: 0 | H36: 0 | I36: 0 | J36: 0 | K36: 76 | L36: 0 | M36: 0 | N36: 0
A37: 04.8.5 | B37: 04.8.5 Výskum a vývoj v oblasti dopravy | C37: 357 | D37: 87 | E37: 87 | F37: 100 | G37: 0 | H37: 0 | I37: 0 | J37: 0 | K37: 357 | L37: 87 | M37: 87 | N37: 100
B38: 2129 Ministerstvo dopravy, výstavby a regionálneho rozvoja SR | C38: 357 | D38: 87 | E38: 87 | F38: 100 | G38: 0 | H38: 0 | I38: 0 | J38: 0 | K38: 357 | L38: 87 | M38: 87 | N38: 100
A39: 04.8.6 | B39: 04.8.6 Výskum a vývoj v oblasti komunikácií | C39: 281 | D39: 180 | E39: 180 | F39: 100 | G39: 0 | H39: 0 | I39: 0 | J39: 0 | K39: 281 | L39: 180 | M39: 180 | N39: 100
B40: 2129 Ministerstvo dopravy, výstavby a regionálneho rozvoja SR | C40: 281 | D40: 180 | E40: 180 | F40: 100 | G40: 0 | H40: 0 | I40: 0 | J40: 0 | K40: 281 | L40: 180 | M40: 180 | N40: 100
A41: 04.8.7 | B41: 04.8.7 Výskum a vývoj v iných odvetviach | C41: 10079 | D41: 26781 | E41: 26781 | F41: 100 | G41: 18714 | H41: 33785 | I41: 33784 | J41: 99.99704 | K41: 28793 | L41: 60566 | M41: 60565 | N41: 99.998349
B42: 2120 Ministerstvo školstva, vedy, výskumu a športu SR | C42: 10079 | D42: 12028 | E42: 12028 | F42: 100 | G42: 18714 | H42: 478 | I42: 477 | J42: 99.790795 | K42: 28793 | L42: 12506 | M42: 12505 | N42: 99.992004
B43: 2126 Ministerstvo hospodárstva SR | C43: 0 | D43: 14753 | E43: 14753 | F43: 100 | G43: 0 | H43: 33307 | I43: 33307 | J43: 100 | K43: 0 | L43: 48060 | M43: 48060 | N43: 100
A44: 05 | B44: 05 OCHRANA ŽIVOTNÉHO PROSTREDIA | C44: 597 | D44: 597 | E44: 597 | F44: 100 | G44: 0 | H44: 0 | I44: 0 | J44: 0 | K44: 597 | L44: 597 | M44: 597 | N44: 100
A45: 05.5 | B45: 05.5 Výskum a vývoj v oblasti ochrany životného prostredia | C45: 597 | D45: 597 | E45: 597 | F45: 100 | G45: 0 | H45: 0 | I45: 0 | J45: 0 | K45: 597 | L45: 597 | M45: 597 | N45: 100
A46: 05.5.0 | B46: 05.5.0 Výskum a vývoj v oblasti ochrany životného prostredi | C46: 597 | D46: 597 | E46: 597 | F46: 100 | G46: 0 | H46: 0 | I46: 0 | J46: 0 | K46: 597 | L46: 597 | M46: 597 | N46: 100
B47: 2118 Ministerstvo životného prostredia SR | C47: 597 | D47: 597 | E47: 597 | F47: 100 | G47: 0 | H47: 0 | I47: 0 | J47: 0 | K47: 597 | L47: 597 | M47: 597 | N47: 100
A48: 07 | B48: 07 ZDRAVOTNÍCTVO | C48: 0 | D48: 734 | E48: 734 | F48: 100 | G48: 0 | H48: 9 | I48: 9 | J48: 100 | K48: 0 | L48: 743 | M48: 743 | N48: 100
A49: 07.5 | B49: 07.5 Výskum a vývoj v oblasti zdravotníctva | C49: 0 | D49: 734 | E49: 734 | F49: 100 | G49: 0 | H49: 9 | I49: 9 | J49: 100 | K49: 0 | L49: 743 | M49: 743 | N49: 100
A50: 07.5.0 | B50: 07.5.0 Výskum a vývoj v oblasti zdravotníctva | C50: 0 | D50: 734 | E50: 734 | F50: 100 | G50: 0 | H50: 9 | I50: 9 | J50: 100 | K50: 0 | L50: 743 | M50: 743 | N50: 100
B51: 2121 Ministerstvo zdravotníctva SR | C51: 0 | D51: 734 | E51: 734 | F51: 100 | G51: 0 | H51: 9 | I51: 9 | J51: 100 | K51: 0 | L51: 743 | M51: 743 | N51: 100
A52: 08 | B52: 08 REKREÁCIA, KULTÚRA A NÁBOŽENSTVO | C52: 782 | D52: 742 | E52: 743 | F52: 100.13477 | G52: 0 | H52: 0 | I52: 0 | J52: 0 | K52: 782 | L52: 742 | M52: 743 | N52: 100.13477
A53: 08.5 | B53: 08.5 Výskum a vývoj v oblasti rekreácie, kultúry a náboženstvo | C53: 782 | D53: 742 | E53: 743 | F53: 100.13477 | G53: 0 | H53: 0 | I53: 0 | J53: 0 | K53: 782 | L53: 742 | M53: 743 | N53: 100.13477
A54: 08.5.0 | B54: Výskum a vývoj v oblasti rekreácie, kultúry a náb. | C54: 782 | D54: 742 | E54: 743 | F54: 100.13477 | G54: 0 | H54: 0 | I54: 0 | J54: 0 | K54: 782 | L54: 742 | M54: 743 | N54: 100.13477
B55: 2124 Ministerstvo kultúry SR | C55: 782 | D55: 742 | E55: 743 | F55: 100.13477 | G55: 0 | H55: 0 | I55: 0 | J55: 0 | K55: 782 | L55: 742 | M55: 743 | N55: 100.13477
A56: 09 | B56: 09 VZDELÁVANIE | C56: 5253 | D56: 6127 | E56: 6127 | F56: 100 | G56: 0 | H56: 0 | I56: 0 | J56: 0 | K56: 5253 | L56: 6127 | M56: 6127 | N56: 100
A57: 09.7 | B57: 09.7 Výskum a vývoj v oblasti vzdelávania | C57: 5253 | D57: 6127 | E57: 6127 | F57: 100 | G57: 0 | H57: 0 | I57: 0 | J57: 0 | K57: 5253 | L57: 6127 | M57: 6127 | N57: 100
A58: 09.7.0 | B58: 09.7.0 Výskum a vývoj v oblasti vzdelávania | C58: 5253 | D58: 6127 | E58: 6127 | F58: 100 | G58: 0 | H58: 0 | I58: 0 | J58: 0 | K58: 5253 | L58: 6127 | M58: 6127 | N58: 100
B59: 2120 Ministerstvo školstva, vedy, výskumu a športu SR | C59: 5253 | D59: 6127 | E59: 6127 | F59: 100 | G59: 0 | H59: 0 | I59: 0 | J59: 0 | K59: 5253 | L59: 6127 | M59: 6127 | N59: 100
A60: 10 | B60: 10 SOCIÁLNE ZABEZPEČENIE | C60: 535 | D60: 727 | E60: 727 | F60: 100 | G60: 0 | H60: 809 | I60: 809 | J60: 100 | K60: 535 | L60: 1536 | M60: 1536 | N60: 100
A61: 10.8 | B61: 10.8 Výskum a vývoj v oblasti sociálneho zabezpečenia | C61: 535 | D61: 727 | E61: 727 | F61: 100 | G61: 0 | H61: 809 | I61: 809 | J61: 100 | K61: 535 | L61: 1536 | M61: 1536 | N61: 100
A62: 10.8.0 | B62: 10.8.0 Výskum a vývoj v oblasti sociálneho zabezpečenia | C62: 535 | D62: 727 | E62: 727 | F62: 100 | G62: 0 | H62: 809 | I62: 809 | J62: 100 | K62: 535 | L62: 1536 | M62: 1536 | N62: 100
B63: 2122 Ministerstvo práce, sociálnych vecí a rodiny SR | C63: 535 | D63: 553 | E63: 553 | F63: 100 | G63: 0 | H63: 0 | I63: 0 | J63: 0 | K63: 535 | L63: 553 | M63: 553 | N63: 100
B64: 2142 Správa štátnych hmotných rezerv SR | C64: 0 | D64: 174 | E64: 174 | F64: 100 | G64: 0 | H64: 809 | I64: 809 | J64: 100 | K64: 0 | L64: 983 | M64: 983 | N64: 100
B65: S P O L U | C65: 406027 | D65: 454512 | E65: 453519 | F65: 99.781524 | G65: 30907 | H65: 61580 | I65: 61516 | J65: 99.89607 | K65: 436934 | L65: 516092 | M65: 515035 | N65: 99.795192

Sheet Tab. č. 15
A1: Zoznam poskytnutých dotácií ku dňu 31.12.2021
A2: Rozpočtová rezerva predsedu vlády Slovenskej republiky
A4: Por čís. | B4: Prijímateľ | C4: Účel použitia | D4: Poskytnutá dotácia v EUR | E4: Čerpanie podľa ŠP v EUR
A5: 1 | B5: Obec Valaská Belá, Valaská Belá 1, 972 28 Valaská Belá | C5: na odstránenie škôd po prívalovej povodni v obci Valaská Belá | D5: 400000 | E5: 400000
A6: 2 | B6: Manageria, Kysucká 5, 811 04 Bratislava | C6: na realizáciu programu Teach for Slovakia | D6: 300000 | E6: 300000
A7: 3 | B7: Obec Jarabina, Jarabina 58, 065 31 Jarabina | C7: na rekonštrukciu miestnych komunikácií a lávky pre peších po povodni a na vypracovanie preventívnych opatrení pred zmenou klímy v obci | D7: 207000 | E7: 207000
A8: 4 | B8: Obec Rudno nad Hronom, 966 51 Rudno nad Hronom 16 | C8: na odstránenie škôd po prívalovej povodni v obci Rudno nad Hronom | D8: 200000 | E8: 200000
A9: 5 | B9: LUNA, n.o., Nábrežná 1635/8, 911 01 Trenčín | C9: na pokrytie výdavkov súvisiacich s poskytovaním pobytových služieb obetiam domáceho násilia a ich deťom v roku 2021 | D9: 137078 | E9: 137078
A10: 6 | B10: Mesto Piešťany, Nám. SNP č. 3, 921 45 Piešťany | C10: na pokrytie výdavkov súvisiacich s poskytovaním pobytových služieb obetiam domáceho násilia a ich deťom v roku 2021 | D10: 133200 | E10: 133200
A11: 7 | B11: BRIEŽDENIE, Hájska 11174/19, 036 01 Martin | C11: na pokrytie výdavkov súvisiacich s poskytovaním pobytových služieb obetiam domáceho násilia a ich deťom v roku 2021 | D11: 115440 | E11: 115440
A12: 8 | B12: Pomoc obetiam násilia, o.z., Dostojevského rad 1, 811 09 Bratislava | C12: na pokrytie výdavkov súvisiacich s poskytovaním ambulantných služieb obetiam domáceho násilia a ich deťom v roku 2021 | D12: 107833.16 | E12: 107833.16
A13: 9 | B13: Linka detskej istoty, n.o., Na vŕšku 338/6, 811 01 Bratislava | C13: na prevádzku Linky detskej istoty v roku 2021 | D13: 100000 | E13: 100000
A14: 10 | B14: IPčko, Na vŕšku 6, 811 01 Bratislava | C14: na prevádzku liniek pomoci v roku 2021 | D14: 100000 | E14: 100000
A15: 11 | B15: Mesto Považská Bystrica, Centrum 2/3, 017 01 Považská Bystrica | C15: na pokrytie výdavkov súvisiacich s poskytovaním pobytových služieb obetiam domáceho násilia a ich deťom v roku 2021 | D15: 88800 | E15: 88800
A16: 12 | B16: Spišská katolícka charita, Slovenská 1765/30, 052 01 Spišská Nová Ves | C16: na pokrytie výdavkov súvisiacich s poskytovaním pobytových služieb obetiam domáceho násilia a ich deťom v roku 2021 | D16: 86633 | E16: 86633
... A268: 264 | B268: Obec Oslany, Námestie slobody 2/3, 972 47 Oslany | C268: Pamätník SNP v obci Oslany - kamenné súsošie | D268: 7000 | E268: 0
B269: S p o l u | D269: =SUM(D5:D268) -> 4075561.2 | E269: =SUM(E5:E268) -> 4016128.4
D363: ,

Sheet Tab. č. 16
A1: Prehľad výdavkov štátneho rozpočtu na realizáciu programov za rok 2021
A2: (v tis. eur)
A4: Kapitola štátneho rozpočtu | B4: Kód | C4: Názov programu | D4: Schválený rozpočet | E4: Upravený rozpočet | F4: Skutočnosť | G4: % k upravenému rozpočtu
A5: 01 Kancelária Národnej rady SR | B5: 06M | C5: Zákonodarná a kontrolná činnosť parlamentu | D5: 34615 | E5: 39711 | F5: 39477 | G5: 99.410743
B6: 0EK | C6: Informačné technológie financované zo štátneho rozpočtu | D6: 1087 | E6: 949 | F6: 949 | G6: 25.816649
A7: 02 Kancelária prezidenta SR | B7: 06N | C7: Reprezentácia štátu a obyvateľov SR | D7: 4478 | E7: 6055 | F7: 6049 | G7: 99.900908
B8: 0EK | C8: Informačné technológie financované zo štátneho rozpočtu | D8: 141 | E8: 245 | F8: 245 | G8: 100
A9: 03 Úrad vlády SR | B9: 06P | C9: Tvorba a implementácia politík | D9: 63280 | E9: 48532 | F9: 45323 | G9: 93.387868
B10: 0EK | C10: Informačné technológie financované zo štátneho rozpočtu | D10: 5807 | E10: 2411 | F10: 2354 | G10: 97.635836
A11: 04 Ministerstvo investícií, regionálneho rozvoja a informatizácie SR | B11: 0DV | C11: Fondy EÚ - MIRRI | D11: 0 | E11: 250942 | F11: 250942 | G11: 100
B12: 0EC | C12: Programy nadnárodnej spolupráce 2014 - 2020 | D12: 0 | E12: 43 | F12: 43 | G12: 100
B13: 0EJ | C13: Medzirezortný program Informačná spoločnosť 2014 - 2020 | D13: 0 | E13: 7784 | F13: 7784 | G13: 100
B14: 0EK | C14: Informačné technológie financované zo štátneho rozpočtu | D14: 21467 | E14: 38880 | F14: 38302 | G14: 98.513374
B15: 0ET | C15: Výkon funkcie podpredsedníčky vlády a ministerky investícií, regionálneho rozvoj a informatizácie SR | D15: 56556 | E15: 100900 | F15: 98801 | G15: 97.919722
A16: 05 Kancelária Ústavného súdu Slovenskej republiky | B16: 00A | C16: Ochrana ústavnosti | D16: 5850 | E16: 6354 | F16: 6341 | G16: 99.795404
B17: 0EK | C17: Informačné technológie financované zo štátneho rozpočtu | D17: 1497 | E17: 622 | F17: 613 | G17: 98.553055
A18: 06 Kancelária Najvyššieho súdu Slovenskej republiky | B18: 01W | C18: Jednotný výklad/aplikácia zákona - program NS SR | D18: 16090 | E18: 14879 | F18: 14877 | G18: 99.986558
B19: 0EJ | C19: Medzirezortný program Informačná spoločnosť 2014 - 2020 | D19: 0 | E19: 0 | F19: 0 | G19: 0
B20: 0EK | C20: Informačné technológie financované zo štátneho rozpočtu | D20: 105 | E20: 299 | F20: 298 | G20: 99.665552
A21: 07 Generálna prokuratúra SR | B21: 06R | C21: Presadzovanie zákonnosti - program GP SR | D21: 111828 | E21: 113872 | F21: 112506 | G21: 98.800407
B22: 0AU | C22: Vysielanie civilných expertov do aktivít krízového manažmentu mimo územia SR | D22: 20 | E22: 20 | F22: 0 | G22: 0
B23: 0EK | C23: Informačné technológie financované zo štátneho rozpočtu | D23: 3575 | E23: 4728 | F23: 4728 | G23: 100
A24: 08 Najvyšší kontrolný úrad SR | B24: 06S | C24: Nezávislá kontrolná činnosť | D24: 10506 | E24: 11801 | F24: 11801 | G24: 100
B25: 0EJ | C25: Medzirezortný program Informačná spoločnosť 2014 - 2020 | D25: 0 | E25: 252 | F25: 252 | G25: 100
B26: 0EK | C26: Informačné technológie financované zo štátneho rozpočtu | D26: 1027 | E26: 1303 | F26: 1296 | G26: 99.462778
A27: 09 Slovenská informačná služba | B27: 06T | C27: Informačná činnosť | D27: 59965 | E27: 68650 | F27: 68650 | G27: 100
A28: 10 Ministerstvo zahraničných vecí a európskych zálež. SR | B28: 05T | C28: Rozvojová spolupráca | D28: 8913 | E28: 7081 | F28: 6946 | G28: 98.09349
B29: 06U | C29: Rozvoj zahraničných vzťahov | D29: 113299 | E29: 117974 | F29: 117891 | G29: 99.929646
B30: 097 | C30: Príspevky Slovenskej republiky do medzinárodných organizácií | D30: 21644 | E30: 23849 | F30: 23741 | G30: 99.547151
B31: 0D3 | C31: Štátna politika k Slovákom žijúcim v zahraničí | D31: 3528 | E31: 5569 | F31: 5537 | G31: 99.425391
B32: 0EK | C32: Informačné technológie financované zo štátneho rozpočtu | D32: 7326 | E32: 5255 | F32: 5249 | G32: 99.885823
A33: 11 Ministerstvo obrany SR | B33: 05T | C33: Rozvojová spolupráca | D33: 22 | E33: 128 | F33: 128 | G33: 100
B34: 06E | C34: Podpora obrany štátu | D34: 1050 | E34: 2339 | F34: 1564 | G34: 66.866182
B35: 06H | C35: Hospodárska mobilizácia | D35: 5000 | E35: 929 | F35: 731 | G35: 78.68676
B36: 095 | C36: Rozvoj obrany | D36: 115581 | E36: 659111 | F36: 658677 | G36: 99.934154
B37: 096 | C37: Obrana | D37: 1104896 | E37: 1068024 | F37: 1066503 | G37: 99.857587
B38: 0AU | C38: Vysielanie civilných expertov do aktivít krízového manažmentu mimo územia SR | D38: 162 | E38: 162 | F38: 86 | G38: 53.08642
B39: 0DB | C39: Realizácia II. etapy implementácie MZP SZO v SR | D39: 3 | E39: 3 | F39: 0 | G39: 0
A40: 12 Ministerstvo vnútra SR | B40: 000 | C40: 209MZ SR - Civilné núdzové plánovanie v SR | D40: 60201 | E40: 40814 | F40: 40814 | G40: 100
B41: 002 | C41: Civilné núdzové plánovanie v Slovenskej republike | D41: 3 | E41: 3 | F41: 2 | G41: 66.666667
B42: 05T | C42: Rozvojová spolupráca | D42: 100 | E42: 340 | F42: 340 | G42: 100
B43: 06G | C43: Ľudské zdroje | D43: 97008 | E43: 42039 | F43: 42039 | G43: 100
B44: 06H | C44: Hospodárska mobilizácia | D44: 38 | E44: 1090 | F44: 1088 | G44: 99.816514
B45: 097 | C45: Príspevky Slovenskej republiky do medzinárodných organizácií | D45: 2075 | E45: 2073 | F45: 198 | G45: 9.5513748
B46: 0AS | C46: Ochrana kritickej infraštruktúry v Slovenskej republike | D46: 3 | E46: 3 | F46: 0 | G46: 0
B47: 0D5 | C47: Výchova a vzdelávanie mládeže | D47: 1441603 | E47: 1691931 | F47: 1691809 | G47: 99.992789
B48: 0D6 | C48: Efektívna a spoľahlivá štátna správa | D48: 1340689 | E48: 1568891 | F48: 1567871 | G48: 99.934986
B49: 0EK | C49: Informačné technológie financované zo štátneho rozpočtu | D49: 63811 | E49: 83057 | F49: 83057 | G49: 100
A50: 13 Ministerstvo spravodlivosti SR | B50: 06G | C50: Ľudské zdroje | D50: 0 | E50: 2697 | F50: 2697 | G50: 100
B51: 06H | C51: Hospodárska mobilizácia | D51: 15 | E51: 0 | F51: 0 | G51: 0
B52: 070 | C52: Väzenstvo | D52: 211208 | E52: 238056 | F52: 237954 | G52: 99.957153
B53: 08P | C53: Financovanie systému súdnictva | D53: 218584 | E53: 247350 | F53: 247282 | G53: 99.972509
B54: 08R | C54: Tvorba a implementácia politík | D54: 25199 | E54: 24715 | F54: 24702 | G54: 99.9474
B55: 0AR | C55: Protidrogová politika | D55: 14 | E55: 14 | F55: 14 | G55: 100
B56: 0EJ | C56: Medzirezortný program Informačná spoločnosť 2014 - 2020 | D56: 0 | E56: 1533 | F56: 1533 | G56: 100
B57: 0EK | C57: Informačné technológie financované zo štátneho rozpočtu | D57: 20878 | E57: 19833 | F57: 19823 | G57: 99.949579
A58: 15 Ministerstvo financií SR | B58: 05T | C58: Rozvojová spolupráca | D58: 60 | E58: 72 | F58: 72 | G58: 100
B59: 06H | C59: Hospodárska mobilizácia | D59: 8 | E59: 8 | F59: 4 | G59: 50
B60: 072 | C60: Výber daní, cla, odvodov a príspevkov | D60: 335735 | E60: 339275 | F60: 320599 | G60: 94.495321
B61: 074 | C61: Tvorba metodiky, riadenie, kontrola, vládny audit a vnútorný audit verejných financií | D61: 79854 | E61: 348282 | F61: 346142 | G61: 99.385555
B62: 097 | C62: Príspevky Slovenskej republiky do medzinárodných organizácií | D62: 79 | E62: 79 | F62: 29 | G62: 36.708861
B63: 0AU | C63: Vysielanie civilných expertov do aktivít krízového manažmentu mimo územia SR | D63: 5 | E63: 21 | F63: 16 | G63: 76.190476
B64: 0EJ | C64: Medzirezortný program Informačná spoločnosť 2014 - 2020 | D64: 111934 | E64: 0 | F64: 0 | G64: 0
B65: 0EK | C65: Informačné technológie financované zo štátneho rozpočtu | D65: 120163 | E65: 140004 | F65: 137854 | G65: 98.46433
A66: 18 Ministerstvo životného prostredia SR | B66: 06H | C66: Hospodárska mobilizácia | D66: 165 | E66: 165 | F66: 158 | G66: 95.757576
B67: 075 | C67: Starostlivosť o životné prostredie | D67: 450449 | E67: 240997 | F67: 240996 | G67: 99.999585
B68: 076 | C68: Tvorba a implementácia politík | D68: 40155 | E68: 54528 | F68: 54478 | G68: 99.908304
B69: 0EK | C69: Informačné technológie financované zo štátneho rozpočtu | D69: 3317 | E69: 2497 | F69: 2485 | G69: 99.519423
A70: 20 Ministerstvo školstva, vedy, výskumu a športu SR | B70: 021 | C70: Tvorba a implementácia politík | D70: 50370 | E70: 93058 | F70: 92900 | G70: 99.830213
B71: 026 | C71: Národný program rozvoja športu v SR | D71: 78916 | E71: 80234 | F71: 80234 | G71: 100
B72: 05T | C72: Rozvojová spolupráca | D72: 2059 | E72: 1778 | F72: 1669 | G72: 93.869516
B73: 06G | C73: Ľudské zdroje | D73: 64553 | E73: 95920 | F73: 95920 | G73: 100
B74: 06H | C74: Hospodárska mobilizácia | D74: 5 | E74: 0 | F74: 0 | G74: 0
B75: 06K | C75: Národný program rozvoja vedy a techniky | D75: 53456 | E75: 57322 | F75: 57119 | G75: 99.64586
B76: 077 | C76: Vysokoškolské vzdelávanie a veda, sociálna podpora študentov | D76: 588567 | E76: 636151 | F76: 634914 | G76: 99.805549
B77: 078 | C77: Národný program výchovy, vzdelávania a mládeže | D77: 773115 | E77: 607696 | F77: 607505 | G77: 99.96857
B78: 097 | C78: Príspevky Slovenskej republiky do medzinárodných organizácií | D78: 15910 | E78: 15910 | F78: 15910 | G78: 100
B79: 0AR | C79: Protidrogová politika | D79: 36 | E79: 36 | F79: 36 | G79: 100
B80: 0EA | C80: Operačný program Integrovaná infraštruktúra (v gescii MŠVVaŠ SR) | D80: 103798 | E80: 81822 | F80: 81821 | G80: 99.998778
B81: 0EK | C81: Informačné technológie financované zo štátneho rozpočtu | D81: 20557 | E81: 22965 | F81: 22966 | G81: 100.00435
A82: 21 Ministerstvo zdravotníctva SR | B82: 06E | C82: Podpora obrany štátu | D82: 221 | E82: 221 | F82: 221 | G82: 100
B83: 06G | C83: Ľudské zdroje | D83: 0 | E83: 689 | F83: 689 | G83: 100
B84: 06H | C84: Hospodárska mobilizácia | D84: 1499 | E84: 209911 | F84: 205740 | G84: 98.012967
B85: 079 | C85: Prevencia a ochrana zdravia | D85: 65563 | E85: 108651 | F85: 108457 | G85: 99.821447
B86: 07A | C86: Zdravotná starostlivosť | D86: 1452857 | E86: 1383131 | F86: 1377919 | G86: 99.623174
B87: 07B | C87: Tvorba a implementácia politík | D87: 183924 | E87: 645008 | F87: 587988 | G87: 91.1598
B88: 097 | C88: Príspevky Slovenskej republiky do medzinárodných organizácií | D88: 695 | E88: 695 | F88: 676 | G88: 97.266187
B89: 0DB | C89: Realizácia II. etapy implementácie Medzinárodných zdravotných predpisov SZO v SR | D89: 42 | E89: 42 | F89: 0 | G89: 0
B90: 0EJ | C90: Medzirezortný program Informačná spoločnosť 2014 - 2020 | D90: 0 | E90: 3464 | F90: 3464 | G90: 100
B91: 0EK | C91: Informačné technológie financované zo štátneho rozpočtu | D91: 2062 | E91: 6050 | F91: 6032 | G91: 99.702479
A92: 22 Ministerstvo práce, sociálnych vecí a rodiny SR | B92: 06G | C92: Ľudské zdroje | D92: 287727 | E92: 1698097 | F92: 1695862 | G92: 99.868382
B93: 06H | C93: Hospodárska mobilizácia | D93: 45 | E93: 2545 | F93: 1304 | G93: 51.237721
B94: 07C | C94: Sociálna inklúzia | D94: 2789772 | E94: 3131139 | F94: 3121125 | G94: 99.68018
B95: 07E | C95: Tvorba a implementácia politík | D95: 182004 | E95: 214462 | F95: 214417 | G95: 99.979017
B96: 097 | C96: Príspevky Slovenskej republiky do medzinárodných organizácií | D96: 562 | E96: 565 | F96: 565 | G96: 100
B97: 0AR | C97: Protidrogová politika | D97: 50 | E97: 33 | F97: 33 | G97: 100
B98: 0EK | C98: Informačné technológie financované zo štátneho rozpočtu | D98: 22060 | E98: 26391 | F98: 26390 | G98: 99.996211
A99: 24 Ministerstvo kultúry SR | B99: 06H | C99: Hospodárska mobilizácia | D99: 3 | E99: 3 | F99: 0 | G99: 0
B100: 08S | C100: Tvorba, šírenie, ochrana a prezentácia kultúrnych hodnôt | D100: 212793 | E100: 261035 | F100: 259981 | G100: 99.596223
B101: 08T | C101: Tvorba a implementácia politík | D101: 68925 | E101: 72826 | F101: 72729 | G101: 99.866806
...

Sheet Tab. č. 17
B1: Prehľad príjmov a výdavkov z rozpočtu Európskej únie zaradených do príjmov a výdavkov štátneho rozpočtu podľa kapitol ŠR
B2: (v tis. eur)
A4: Kapitola štátneho rozpočtu | C4: Rozpočet 2021 | E4: Skutočnosť 2021 | F4: Poľnohospodárske fondy spolu - MPRV SR | I4: Štrukturálne operácie - MF SR | L4: Štrukturálne operácie - MPSVR SR
F5: Rozpočet 2021 | H5: Skutočnosť 2021 | I5: Rozpočet 2021 | K5: Skutočnosť 2021 | L5: Rozpočet 2021 | N5: Skutočnosť 2021
C6: schválený | D6: upravený | F6: schválený | G6: upravený | I6: schválený | J6: upravený | L6: schválený | M6: upravený
A7: Príjmy z prostriedkov EÚ (zahraničné transfery) | C7: =SUM(C9:C38) -> 2782531 | D7: =SUM(D9:D38) -> 2305811 | E7: =SUM(E9:E38) -> 2269707 | F7: =SUM(F9:F38) -> 747004 | G7: =SUM(G9:G38) -> 532202 | H7: =SUM(H9:H38) -> 496098 | I7: =SUM(I9:I38) -> 2020092 | J7: =SUM(J9:J38) -> 1763055 | ... N7: =SUM(N9:N38) -> 10554
A8: v tom:
A9: 2 | B9: Kancelária prezidenta SR
A10: 3 | B10: Úrad vlády SR | C10: =F10+I10+L10 -> 24618 | D10: =G10+J10+M10 -> 0 | E10: =H10+K10+N10 -> 0 | I10: 24618 | J10: 0 | K10: 0
A11: 4 | B11: Ministerstvo investícií, regionálneho rozvoja a informatizácií SR | C11: =F11+I11+L11 -> 0 | D11: =G11+J11+M11 -> 289038 | E11: =H11+K11+N11 -> 289038 | I11: 0 | J11: 289038 | K11: 289038
A12: 5 | B12: Kancelária Ústavného súdu SR
A13: 6 | B13: Kancelária Najvyššieho súdu Slovenskej republiky
A14: 7 | B14: Generálna prokuratúra SR
A15: 8 | B15: Najvyšší kontrolný úrad SR
A16: 9 | B16: Slovenská informačná služba
A17: 10 | B17: Ministerstvo zahraničných vecí a európskych záležitostí SR
A18: 11 | B18: Ministerstvo obrany SR
A19: 12 | B19: Ministerstvo vnútra SR | C19: =F19+I19+L19 -> 131398 | D19: =G19+J19+M19 -> 142671 | E19: =H19+K19+N19 -> 142671 | I19: 131398 | J19: 142671 | K19: 142671
A20: 13 | B20: Ministerstvo spravodlivosti SR
A21: 15 | B21: Ministerstvo financií SR | C21: =F21+I21+L21 -> 61874 | D21: =G21+J21+M21 -> 0 | E21: =H21+K21+N21 -> 0 | I21: 61874 | J21: 0 | K21: 0
A22: 18 | B22: Ministerstvo životného prostredia SR | C22: =F22+I22+L22 -> 384829 | D22: =G22+J22+M22 -> 279474 | E22: =H22+K22+N22 -> 279474 | I22: 384829 | J22: 279474 | K22: 279474
A23: 20 | B23: Ministerstvo školstva, vedy, výskumu a športu SR | C23: =F23+I23+L23 -> 107005 | D23: =G23+J23+M23 -> 126407 | E23: =H23+K23+N23 -> 126407 | I23: 107005 | J23: 126407 | K23: 126407
A24: 21 | B24: Ministerstvo zdravotníctva SR | C24: =F24+I24+L24 -> 0 | D24: =G24+J24+M24 -> 0 | E24: =H24+K24+N24 -> 0 | I24: 0 | J24: 0 | K24: 0
A25: 22 | B25: Ministerstvo práce, sociálnych vecí a rodiny SR | C25: =F25+I25+L25 -> 208169 | D25: =G25+J25+M25 -> 418831 | E25: =H25+K25+N25 -> 418831 | I25: 206934 | J25: 408277 | K25: 408277 | L25: 1235 | M25: 10554 | N25: 10554
A26: 24 | B26: Ministerstvo kultúry SR
A27: 26 | B27: Ministerstvo hospodárstva SR | C27: =F27+I27+L27 -> 269094 | D27: =G27+J27+M27 -> 279588 | E27: =H27+K27+N27 -> 279588 | I27: 269094 | J27: 279588 | K27: 279588
A28: 27 | B28: Ministerstvo pôdohospodárstva a rozvoja vidieka SR | C28: =F28+I28+L28 -> 968053 | D28: =G28+J28+M28 -> 533607 | E28: =H28+K28+N28 -> 497503 | F28: 747004 | G28: 532202 | H28: 496098 | I28: 221049 | J28: 1405 | K28: 1405
A29: 29 | B29: Ministerstvo dopravy výstavby SR | C29: =F29+I29+L29 -> 297491 | D29: =G29+J29+M29 -> 236195 | E29: =H29+K29+N29 -> 236195 | I29: 297491 | J29: 236195 | K29: 236195
A30: 32 | B30: Štatistický úrad SR
A31: 33 | B31: Úrad pre verejné obstarávanie
A32: 37 | B32: Úrad priemyselného vlastníctva SR
A33: 38 | B33: Úrad pre normalizáciu, metrológiu a skúšobníctvo SR
A34: 40 | B34: Protimonopolný úrad
A35: 41 | B35: Národný bezpečnostný úrad
A36: 42 | B36: Správa štátnych hmotných rezerv SR Celková hodnota
A37: 48 | B37: Všeobecná pokladničná správa | C37: =F37+I37+L37 -> 330000 | D37: =G37+J37+M37 -> 0 | E37: =H37+K37+N37 -> 0 | I37: 315800 | J37: 0 | K37: 0 | L37: 14200 | M37: 0 | N37: 0
A38: 51 | B38: Slovenská akadémia vied
A39: Výdavky za prostriedky EÚ | C39: =SUM(C41:C70) -> 2782531 | D39: =SUM(D41:D70) -> 2358268 | E39: =SUM(E41:E70) -> 2358196 | F39: =SUM(F41:F70) -> 747004 | G39: =SUM(G41:G70) -> 519522 | H39: =SUM(H41:H70) -> 519521 | I39: =SUM(I41:I70) -> 2020092 | J39: =SUM(J41:J70) -> 1838308 | ... N39: =SUM(N41:N70) -> 438
A40: v tom:
A41: 2 | B41: Kancelária prezidenta SR
A42: 3 | B42: Úrad vlády SR | C42: =F42+I42+L42 -> 24618 | D42: =G42+J42+M42 -> 10827 | E42: =H42+K42+N42 -> 10827 | I42: 24618 | J42: 10827 | K42: 10827
A43: 4 | B43: Ministerstvo investícií, regionálneho rozvoja a informatizácií SR | C43: =F43+I43+L43 -> 0 | D43: =G43+J43+M43 -> 241567 | E43: =H43+K43+N43 -> 241567 | I43: 0 | J43: 241567 | K43: 241567
A44: 5 | B44: Kancelária Ústavného súdu SR
A45: 6 | B45: Kancelária Najvyššieho súdu Slovenskej republiky | C45: =F45+I45+L45 -> 0 | D45: =G45+J45+M45 -> 773 | E45: =H45+K45+N45 -> 773 | I45: 0 | J45: 773 | K45: 773
A46: 7 | B46: Generálna prokuratúra SR
A47: 8 | B47: Najvyšší kontrolný úrad SR | C47: =F47+I47+L47 -> 0 | D47: =G47+J47+M47 -> 362 | E47: =H47+K47+N47 -> 362 | I47: 0 | J47: 362 | K47: 362
A48: 9 | B48: Slovenská informačná služba | C48: =F48+I48+L48 -> 0 | D48: =G48+J48+M48 -> 0 | E48: =H48+K48+N48 -> 0 | I48: 0 | J48: 0 | K48: 0
A49: 10 | B49: Ministerstvo zahraničných vecí a európskych záležitostí SR | C49: =F49+I49+L49 -> 0 | D49: =G49+J49+M49 -> 371 | E49: =H49+K49+N49 -> 371 | I49: 0 | J49: 371 | K49: 371
A50: 11 | B50: Ministerstvo obrany SR | C50: =F50+I50+L50 -> 0 | D50: =G50+J50+M50 -> 1470 | E50: =H50+K50+N50 -> 1441 | I50: 0 | J50: 1470 | K50: 1441
A51: 12 | B51: Ministerstvo vnútra SR | C51: =F51+I51+L51 -> 131398 | D51: =G51+J51+M51 -> 103339 | E51: =H51+K51+N51 -> 103339 | I51: 131398 | J51: 103339 | K51: 103339
A52: 13 | B52: Ministerstvo spravodlivosti SR | C52: =F52+I52+L52 -> 0 | D52: =G52+J52+M52 -> 11022 | E52: =H52+K52+N52 -> 11022 | F52: 0 | G52: 39 | H52: 39 | I52: 0 | J52: 10983 | K52: 10983
A53: 15 | B53: Ministerstvo financií SR | C53: =F53+I53+L53 -> 61874 | D53: =G53+J53+M53 -> 9044 | E53: =H53+K53+N53 -> 9044 | I53: 61874 | J53: 9044 | K53: 9044
A54: 18 | B54: Ministerstvo životného prostredia SR | C54: =F54+I54+L54 -> 384829 | D54: =G54+J54+M54 -> 188181 | E54: =H54+K54+N54 -> 188181 | I54: 384829 | J54: 188181 | K54: 188181
A55: 20 | B55: Ministerstvo školstva, vedy, výskumu a športu SR | C55: =F55+I55+L55 -> 107005 | D55: =G55+J55+M55 -> 141652 | E55: =H55+K55+N55 -> 141652 | I55: 107005 | J55: 141652 | K55: 141652
A56: 21 | B56: Ministerstvo zdravotníctva SR | C56: =F56+I56+L56 -> 0 | D56: =G56+J56+M56 -> 86383 | E56: =H56+K56+N56 -> 86368 | I56: 0 | J56: 86383 | K56: 86368
A57: 22 | B57: Ministerstvo práce, sociálnych vecí a rodiny SR | C57: =F57+I57+L57 -> 208169 | D57: =G57+J57+M57 -> 418212 | E57: =H57+K57+N57 -> 418212 | I57: 206934 | J57: 417774 | K57: 417774 | L57: 1235 | M57: 438 | N57: 438
A58: 24 | B58: Ministerstvo kultúry SR | C58: =F58+I58+L58 -> 0 | D58: =G58+J58+M58 -> 1572 | E58: =H58+K58+N58 -> 1572 | I58: 0 | J58: 1572 | K58: 1572
A59: 26 | B59: Ministerstvo hospodárstva SR | C59: =F59+I59+L59 -> 269094 | D59: =G59+J59+M59 -> 288167 | E59: =H59+K59+N59 -> 288140 | I59: 269094 | J59: 288167 | K59: 288140
A60: 27 | B60: Ministerstvo pôdohospodárstva a rozvoja vidieka SR | C60: =F60+I60+L60 -> 968053 | D60: =G60+J60+M60 -> 520594 | E60: =H60+K60+N60 -> 520593 | F60: 747004 | G60: 519483 | H60: 519482 | I60: 221049 | J60: 1111 | K60: 1111
A61: 29 | B61: Ministerstvo dopravy a výstavby SR | C61: =F61+I61+L61 -> 297491 | D61: =G61+J61+M61 -> 306801 | E61: =H61+K61+N61 -> 306801 | I61: 297491 | J61: 306801 | K61: 306801
A62: 32 | B62: Štatistický úrad SR | C62: =F62+I62+L62 -> 0 | D62: =G62+J62+M62 -> 3212 | E62: =H62+K62+N62 -> 3212 | I62: 0 | J62: 3212 | K62: 3212
A63: 33 | B63: Úrad pre verejné obstarávanie | C63: =F63+I63+L63 -> 0 | D63: =G63+J63+M63 -> 1317 | E63: =H63+K63+N63 -> 1317 | I63: 0 | J63: 1317 | K63: 1317
A64: 37 | B64: Úrad priemyselného vlastníctva SR | C64: =F64+I64+L64 -> 0 | D64: =G64+J64+M64 -> 64 | E64: =H64+K64+N64 -> 64 | I64: 0 | J64: 64 | K64: 64
A65: 38 | B65: Úrad pre normalizáciu, metrológiu a skúšobníctvo SR | C65: =F65+I65+L65 -> 0 | D65: =G65+J65+M65 -> 663 | E65: =H65+K65+N65 -> 663 | I65: 0 | J65: 663 | K65: 663
A66: 40 | B66: Protimonopolný úrad | C66: =F66+I66+L66 -> 0 | D66: =G66+J66+M66 -> 283 | E66: =H66+K66+N66 -> 283 | I66: 0 | J66: 283 | K66: 283
A67: 41 | B67: Národný bezpečnostný úrad | C67: =F67+I67+L67 -> 0 | D67: =G67+J67+M67 -> 192 | E67: =H67+K67+N67 -> 192 | I67: 0 | J67: 192 | K67: 192
A68: 42 | B68: Správa štátnych hmotných rezerv SR Celková hodnota | C68: =F68+I68+L68 -> 0 | D68: =G68+J68+M68 -> 21304 | E68: =H68+K68+N68 -> 21304 | I68: 0 | J68: 21304 | K68: 21304
A69: 48 | B69: Všeobecná pokladničná správa | C69: =F69+I69+L69 -> 330000 | D69: =G69+J69+M69 -> 0 | E69: =H69+K69+N69 -> 0 | I69: 315800 | J69: 0 | K69: 0 | L69: 14200 | M69: 0 | N69: 0
A70: 51 | B70: Slovenská akadémia vied | C70: =F70+I70+L70 -> 0 | D70: =G70+J70+M70 -> 896 | E70: =H70+K70+N70 -> 896 | I70: 0 | J70: 896 | K70: 896
A71: Saldo príjmov a výdavkov | C71: =SUM(C74:C102) -> 0 | D71: =SUM(D73:D102) -> -52457 | E71: =SUM(E73:E102) -> -88489 | F71: =SUM(F73:F102) -> 0 | G71: =SUM(G73:G102) -> 12680 | H71: =SUM(H73:H102) -> -23423 | I71: =SUM(I73:I102) -> 0 | J71: =SUM(J73:J102) -> -103312 | K71: =SUM(K73:K102) -> -75182 | ... N71: =SUM(N73:N102) -> 10116
A72: v tom:
A73: 2 | B73: Kancelária prezidenta SR | D73: =D9-D41 -> 0 | E73: =E9-E41 -> 0 | F73: =F9-F41 -> 0 | G73: =G9-G41 -> 0 | H73: =H9-H41 -> 0 | I73: =I9-I41 -> 0 | J73: =J9-J41 -> 0 | K73: =K9-K41 -> 0 | ... N73: =N9-N41 -> 0
A74: 3 | B74: Úrad vlády SR | D74: =D10-D42 -> -10827 | E74: =E10-E42 -> -10827 | F74: =F10-F42 -> 0 | G74: =G10-G42 -> 0 | H74: =H10-H42 -> 0 | I74: =I10-I42 -> 0 | J74: =J10-J42 -> -10827 | K74: =K10-K42 -> -10827 | ... N74: =N10-N42 -> 0
A75: 4 | B75: Ministerstvo investícií, regionálneho rozvoja a informatizácií SR | D75: =D11-D43 -> 47471 | E75: =E11-E43 -> 47471 | F75: =F11-F43 -> 0 | G75: =G11-G43 -> 0 | H75: =H11-H43 -> 0 | I75: =I11-I43 -> 0 | J75: =J11-J43 -> 47471 | K75: =K11-K43 -> 47471 | ... N75: =N11-N43 -> 0
A76: 5 | B76: Kancelária Ústavného súdu SR | D76: =D12-D44 -> 0 | E76: =E12-E44 -> 0 | F76: =F12-F44 -> 0 | G76: =G12-G44 -> 0 | H76: =H12-H44 -> 0 | I76: =I12-I44 -> 0 | J76: =J12-J44 -> 0 | K76: =K12-K44 -> 0 | ... N76: =N12-N44 -> 0
A77: 6 | B77: Kancelária Najvyššieho súdu Slovenskej republiky | D77: =D13-D45 -> -773 | E77: =E13-E45 -> -773 | F77: =F13-F45 -> 0 | G77: =G13-G45 -> 0 | H77: =H13-H45 -> 0 | I77: =I13-I45 -> 0 | J77: =J13-J45 -> -773 | K77: =K13-K45 -> -773 | ... N77: =N13-N45 -> 0
A78: 7 | B78: Generálna prokuratúra SR | D78: =D14-D46 -> 0 | E78: =E14-E46 -> 0 | F78: =F14-F46 -> 0 | G78: =G14-G46 -> 0 | H78: =H14-H46 -> 0 | I78: =I14-I46 -> 0 | J78: =J14-J46 -> 0 | K78: =K14-K46 -> 0 | ... N78: =N14-N46 -> 0
A79: 8 | B79: Najvyšší kontrolný úrad SR | D79: =D15-D47 -> -362 | E79: =E15-E47 -> -362 | F79: =F15-F47 -> 0 | G79: =G15-G47 -> 0 | H79: =H15-H47 -> 0 | I79: =I15-I47 -> 0 | J79: =J15-J47 -> -362 | K79: =K15-K47 -> -362 | ... N79: =N15-N47 -> 0
A80: 9 | B80: Slovenská informačná služba | D80: =D16-D48 -> 0 | E80: =E16-E48 -> 0 | F80: =F16-F48 -> 0 | G80: =G16-G48 -> 0 | H80: =H16-H48 -> 0 | I80: =I16-I48 -> 0 | J80: =J16-J48 -> 0 | K80: =K16-K48 -> 0 | ... N80: =N16-N48 -> 0
A81: 10 | B81: Ministerstvo zahraničných vecí SR | D81: =D17-D49 -> -371 | E81: =E17-E49 -> -371 | F81: =F17-F49 -> 0 | G81: =G17-G49 -> 0 | H81: =H17-H49 -> 0 | I81: =I17-I49 -> 0 | J81: =J17-J49 -> -371 | K81: =K17-K49 -> -371 | ... N81: =N17-N49 -> 0
A82: 11 | B82: Ministerstvo obrany SR | D82: =D18-D50 -> -1470 | E82: =E18-E50 -> -1441 | F82: =F18-F50 -> 0 | G82: =G18-G50 -> 0 | H82: =H18-H50 -> 0 | I82: =I18-I50 -> 0 | J82: =J18-J50 -> -1470 | K82: =K18-K50 -> -1441 | ... N82: =N18-N50 -> 0
A83: 12 | B83: Ministerstvo vnútra SR | D83: =D19-D51 -> 39332 | E83: =E19-E51 -> 39332 | F83: =F19-F51 -> 0 | G83: =G19-G51 -> 0 | H83: =H19-H51 -> 0 | I83: =I19-I51 -> 0 | J83: =J19-I51 -> 11273 | K83: =K19-K51 -> 39332 | L83: =L19-L51 -> 0 | M83: =M19-M51 -> 0 | N83: =N19-N51 -> 0
A84: 13 | B84: Ministerstvo spravodlivosti SR | D84: =D20-D52 -> -11022 | E84: =E20-E52 -> -11022 | F84: =F20-F52 -> 0 | G84: =G20-G52 -> -39 | H84: =H20-H52 -> -39 | I84: =I20-I52 -> 0 | J84: =J20-J52 -> -10983 | K84: =K20-K52 -> -10983 | ... N84: =N20-N52 -> 0
A85: 15 | B85: Ministerstvo financií SR | D85: =D21-D53 -> -9044 | E85: =E21-E53 -> -9044 | F85: =F21-F53 -> 0 | G85: =G21-G53 -> 0 | H85: =H21-H53 -> 0 | I85: =I21-I53 -> 0 | J85: =J21-J53 -> -9044 | K85: =K21-K53 -> -9044 | ... N85: =N21-N53 -> 0
A86: 18 | B86: Ministerstvo životného prostredia SR | D86: =D22-D54 -> 91293 | E86: =E22-E54 -> 91293 | F86: =F22-F54 -> 0 | G86: =G22-G54 -> 0 | H86: =H22-H54 -> 0 | I86: =I22-I54 -> 0 | J86: =J22-J54 -> 91293 | K86: =K22-K54 -> 91293 | ... N86: =N22-N54 -> 0
A87: 20 | B87: Ministerstvo školstva, vedy, výskumu a športu SR | D87: =D23-D55 -> -15245 | E87: =E23-E55 -> -15245 | F87: =F23-F55 -> 0 | G87: =G23-G55 -> 0 | H87: =H23-H55 -> 0 | I87: =I23-I55 -> 0 | J87: =J23-J55 -> -15245 | K87: =K23-K55 -> -15245 | ... N87: =N23-N55 -> 0
A88: 21 | B88: Ministerstvo zdravotníctva SR | D88: =D24-D56 -> -86383 | E88: =E24-E56 -> -86368 | F88: =F24-F56 -> 0 | G88: =G24-G56 -> 0 | H88: =H24-H56 -> 0 | I88: =I24-I56 -> 0 | J88: =J24-J56 -> -86383 | K88: =K24-K56 -> -86368 | ... N88: =N24-N56 -> 0
A89: 22 | B89: Ministerstvo práce, sociálnych vecí a rodiny SR | D89: =D25-D57 -> 619 | E89: =E25-E57 -> 619 | F89: =F25-F57 -> 0 | G89: =G25-G57 -> 0 | H89: =H25-H57 -> 0 | I89: =I25-I57 -> 0 | J89: =J25-J57 -> -9497 | K89: =K25-K57 -> -9497 | ... N89: =N25-N57 -> 10116
A90: 24 | B90: Ministerstvo kultúry SR | D90: =D26-D58 -> -1572 | E90: =E26-E58 -> -1572 | F90: =F26-F58 -> 0 | G90: =G26-G58 -> 0 | H90: =H26-H58 -> 0 | I90: =I26-I58 -> 0 | J90: =J26-J58 -> -1572 | K90: =K26-K58 -> -1572 | ... N90: =N26-N58 -> 0
A91: 26 | B91: Ministerstvo hospodárstva SR | D91: =D27-D59 -> -8579 | E91: =E27-E59 -> -8552 | F91: =F27-F59 -> 0 | G91: =G27-G59 -> 0 | H91: =H27-H59 -> 0 | I91: =I27-I59 -> 0 | J91: =J27-J59 -> -8579 | K91: =K27-K59 -> -8552 | ... N91: =N27-N59 -> 0
A92: 27 | B92: Ministerstvo pôdohospodárstva a rozvoja vidieka SR | D92: =D28-D60 -> 13013 | E92: =E28-E60 -> -23090 | F92: =F28-F60 -> 0 | G92: =G28-G60 -> 12719 | H92: =H28-H60 -> -23384 | I92: =I28-I60 -> 0 | J92: =J28-J60 -> 294 | K92: =K28-K60 -> 294 | ... N92: =N28-N60 -> 0
A93: 29 | B93: Ministerstvo dopravy a výstavby SR | D93: =D29-D61 -> -70606 | E93: =E29-E61 -> -70606 | F93: =F29-F61 -> 0 | G93: =G29-G61 -> 0 | H93: =H29-H61 -> 0 | I93: =I29-I61 -> 0 | J93: =J29-J61 -> -70606 | K93: =K29-K61 -> -70606 | ... N93: =N29-N61 -> 0
A94: 32 | B94: Štatistický úrad SR | D94: =D30-D62 -> -3212 | E94: =E30-E62 -> -3212 | F94: =F30-F62 -> 0 | G94: =G30-G62 -> 0 | H94: =H30-H62 -> 0 | I94: =I30-I62 -> 0 | J94: =J30-J62 -> -3212 | K94: =K30-K62 -> -3212 | ... N94: =N30-N62 -> 0
A95: 33 | B95: Úrad pre verejné obstarávanie | D95: =D31-D63 -> -1317 | E95: =E31-E63 -> -1317 | F95: =F31-F63 -> 0 | G95: =G31-G63 -> 0 | H95: =H31-H63 -> 0 | I95: =I31-I63 -> 0 | J95: =J31-J63 -> -1317 | K95: =K31-K63 -> -1317 | ... N95: =N31-N63 -> 0
... A100: 42 | B100: Správa štátnych hmotných rezerv SR Celková hodnota | D100: =D36-D68 -> -21304 | E100: =E36-E68 -> -21304 | F100: =F36-F68 -> 0 | G100: =G36-G68 -> 0 | H100: =H36-H68 -> 0 | I100: =I36-I68 -> 0 | J100: =J36-J68 -> -21304 | K100: =K36-K68 -> -21304 | ... N100: =N36-N68 -> 0
A101: 48 | B101: Všeobecná pokladničná správa
A102: 51 | B102: Slovenská akadémia vied | D102: =D38-D70 -> -896 | E102: =E38-E70 -> -896 | F102: =F38-F70 -> 0 | G102: =G38-G70 -> 0 | H102: =H38-H70 -> 0 | I102: =I38-I70 -> 0 | J102: =J38-J70 -> -896 | K102: =K38-K70 -> -896 | ... N102: =N38-N70 -> 0

Sheet Tab. č. 18
B1: Prostriedky štátneho rozpočtu na financovanie spoločných programov Slovenskej republiky a EÚ podľa kapitol ŠR
B2: (v tis. eur)
A4: Kapitola štátneho rozpočtu | C4: Rozpočet 2021 | E4: Skutočnosť 2021 | F4: Poľnohospodárske fondy spolu - MPRV SR | I4: Štrukturálne operácie - MF SR | L4: Štrukturálne operácie - MPSVR SR | O4: Prostriedky na spolufinancovanie zo ŠR k zahraničným grantom z prostriedkov EU (ETC, LIFE+) a prostriedkom poskytnutým na základe medzinárodných zmlúv (EHP, NFM a ŠFM)
F5: Rozpočet 2021 | H5: Skutočnosť 2021 | I5: Rozpočet 2021 | K5: Skutočnosť 2021 | L5: Rozpočet 2021 | N5: Skutočnosť 2021 | O5: Rozpočet 2021 | Q5: Skutočnosť 2021
C6: schválený | D6: upravený | F6: schválený | G6: upravený | I6: schválený | J6: upravený | L6: schválený | M6: upravený | O6: schválený | P6: upravený
A7: 2 | B7: Kancelária prezidenta SR
A8: 3 | B8: Úrad vlády SR | C8: =F8+I8+L8+O8 -> 5367 | D8: =G8+J8+M8+P8 -> 2011 | E8: =H8+K8+N8+Q8 -> 2011 | I8: 5367 | J8: 2011 | K8: 2011 | O8: 0 | P8: 0 | Q8: 0
A9: 4 | B9: Ministerstvo investícií, regionálneho rozvoja a informatizácií SR | C9: =F9+I9+L9+O9 -> 0 | D9: =G9+J9+M9+P9 -> 33919 | E9: =H9+K9+N9+Q9 -> 33919 | I9: 0 | J9: 31597 | K9: 31597 | O9: 0 | P9: 2322 | Q9: 2322
A10: 5 | B10: Kancelária Ústavného súdu SR
A11: 6 | B11: Kancelária Najvyššieho súdu Slovenskej republiky | C11: =F11+I11+L11+O11 -> 0 | D11: =G11+J11+M11+P11 -> 341 | E11: =H11+K11+N11+Q11 -> 341 | I11: 0 | J11: 341 | K11: 341
A12: 7 | B12: Generálna prokuratúra SR
A13: 8 | B13: Najvyšší kontrolný úrad SR | C13: =F13+I13+L13+O13 -> 0 | D13: =G13+J13+M13+P13 -> 138 | E13: =H13+K13+N13+Q13 -> 138 | I13: 0 | J13: 138 | K13: 138
A14: 9 | B14: Slovenská informačná služba | C14: =F14+I14+L14+O14 -> 0 | D14: =G14+J14+M14+P14 -> 0 | E14: =H14+K14+N14+Q14 -> 0
A15: 10 | B15: Ministerstvo zahraničných vecí a európskych záležitostí SR | C15: =F15+I15+L15+O15 -> 0 | D15: =G15+J15+M15+P15 -> 81 | E15: =H15+K15+N15+Q15 -> 81 | I15: 0 | J15: 81 | K15: 81
A16: 11 | B16: Ministerstvo obrany SR | C16: =F16+I16+L16+O16 -> 0 | D16: =G16+J16+M16+P16 -> 350 | E16: =H16+K16+N16+Q16 -> 338 | I16: 0 | J16: 350 | K16: 338
A17: 12 | B17: Ministerstvo vnútra SR | C17: =F17+I17+L17+O17 -> 28244 | D17: =G17+J17+M17+P17 -> 13625 | E17: =H17+K17+N17+Q17 -> 13625 | I17: 28244 | J17: 13625 | K17: 13625
A18: 13 | B18: Ministerstvo spravodlivosti SR | C18: =F18+I18+L18+O18 -> 0 | D18: =G18+J18+M18+P18 -> 3242 | E18: =H18+K18+N18+Q18 -> 3242 | I18: 0 | J18: 3242 | K18: 3242
A19: 15 | B19: Ministerstvo financií SR | C19: =F19+I19+L19+O19 -> 50060 | D19: =G19+J19+M19+P19 -> 2456 | E19: =H19+K19+N19+Q19 -> 2456 | I19: 50060 | J19: 2456 | K19: 2456
A20: 18 | B20: Ministerstvo životného prostredia SR | C20: =F20+I20+L20+O20 -> 46680 | D20: =G20+J20+M20+P20 -> 24751 | E20: =H20+K20+N20+Q20 -> 24751 | I20: 42462 | J20: 22351 | K20: 22351 | O20: 4218 | P20: 2400 | Q20: 2400
A21: 20 | B21: Ministerstvo školstva, vedy, výskumu a športu SR | C21: =F21+I21+L21+O21 -> 61346 | D21: =G21+J21+M21+P21 -> 36157 | E21: =H21+K21+N21+Q21 -> 36157 | I21: 61346 | J21: 36157 | K21: 36157
A22: 21 | B22: Ministerstvo zdravotníctva SR | C22: =F22+I22+L22+O22 -> 0 | D22: =G22+J22+M22+P22 -> 11727 | E22: =H22+K22+N22+Q22 -> 11719 | I22: 0 | J22: 11727 | K22: 11719
A23: 22 | B23: Ministerstvo práce, sociálnych vecí a rodiny SR | C23: =F23+I23+L23+O23 -> 40590 | D23: =G23+J23+M23+P23 -> 61645 | E23: =H23+K23+N23+Q23 -> 61645 | I23: 40372 | J23: 61568 | K23: 61568 | L23: 218 | M23: 77 | N23: 77
A24: 24 | B24: Ministerstvo kultúry SR | C24: =F24+I24+L24+O24 -> 0 | D24: =G24+J24+M24+P24 -> 505 | E24: =H24+K24+N24+Q24 -> 505 | I24: 0 | J24: 505 | K24: 505
A25: 26 | B25: Ministerstvo hospodárstva SR | C25: =F25+I25+L25+O25 -> 49229 | D25: =G25+J25+M25+O25 -> 71132 | E25: =H25+K25+N25+Q25 -> 71127 | I25: 49229 | J25: 71132 | K25: 71127
A26: 27 | B26: Ministerstvo pôdohospodárstva a rozvoja vidieka SR | C26: =F26+I26+L26+O26 -> 339598 | D26: =G26+J26+M26+P26 -> 52303 | E26: =H26+K26+N26+Q26 -> 52303 | F26: 300319 | G26: 52029 | H26: 52029 | I26: 36243 | J26: 274 | K26: 274 | O26: 3036 | P26: 0 | Q26: 0
A27: 29 | B27: Ministerstvo dopravy a výstavby SR | C27: =F27+I27+L27+O27 -> 56394 | D27: =G27+J27+M27+P27 -> 54375 | E27: =H27+K27+N27+Q27 -> 54375 | I27: 56394 | J27: 54375 | K27: 54375
A28: 31 | B28: Úrad geodézie, kartografie a katastra SR
A29: 32 | B29: Štatistický úrad SR | C29: =F29+I29+L29+O29 -> 0 | D29: =G29+J29+M29+P29 -> 1050 | E29: =H29+K29+N29+Q29 -> 1050 | I29: 0 | J29: 1050 | K29: 1050
A30: 33 | B30: Úrad pre verejné obstarávanie | C30: =F30+I30+L30+O30 -> 0 | D30: =G30+J30+M30+P30 -> 391 | E30: =H30+K30+N30+Q30 -> 391 | I30: 0 | J30: 391 | K30: 391
A31: 37 | B31: Úrad priemyselného vlastníctva SR | C31: =F31+I31+L31+O31 -> 0 | D31: =G31+J31+M31+P31 -> 27 | E31: =H31+K31+N31+Q31 -> 27 | I31: 0 | J31: 27 | K31: 27
A32: 38 | B32: Úrad pre normalizáciu, metrológiu a skúšobníctvo SR | C32: =F32+I32+L32+O32 -> 0 | D32: =G32+J32+M32+P32 -> 286 | E32: =H32+K32+N32+Q32 -> 286 | I32: 0 | J32: 286 | K32: 286
A33: 40 | B33: Protimonopolný úrad SR | C33: =F33+I33+L33+O33 -> 0 | D33: =G33+J33+M33+P33 -> 62 | E33: =H33+K33+N33+Q33 -> 62 | I33: 0 | J33: 62 | K33: 62
A34: 41 | B34: Národný bezpečnostný úrad | C34: =F34+I34+L34+O34 -> 0 | D34: =G34+J34+M34+P34 -> 79 | E34: =H34+K34+N34+Q34 -> 78 | I34: 0 | J34: 79 | K34: 78
A35: 42 | B35: Správa štátnych hmotných rezerv SR | C35: =F35+I35+L35+O35 -> 0 | D35: =G35+J35+M35+P35 -> 4878 | E35: =H35+K35+N35+Q35 -> 4878 | I35: 0 | J35: 4878 | K35: 4878
A36: 48 | B36: Všeobecná pokladničná správa | C36: =F36+I36+L36+O36 -> 2213 | D36: =G36+J36+M36+P36 -> 2213 | E36: =H36+K36+N36+Q36 -> 2213 | O36: 2213 | P36: 2213 | Q36: 2213
A37: 51 | B37: Slovenská akadémia vied | C37: =F37+I37+L37+O37 -> 0 | D37: =G37+J37+M37+P37 -> 601 | E37: =H37+K37+N37+Q37 -> 601 | I37: 0 | J37: 601 | K37: 601
A38: Spolu spolufinancovanie k prostriedkom EÚ, zaradeným do výdavkov ŠR | C38: =SUM(C7:C37) -> 679721 | D38: =SUM(D7:D37) -> 378345 | E38: =SUM(E7:E37) -> 378319 | F38: =SUM(F7:F37) -> 300319 | G38: =SUM(G7:G37) -> 52029 | H38: =SUM(H7:H37) -> 52029 | I38: =SUM(I7:I37) -> 369717 | J38: =SUM(J7:J37) -> 319304 | ... Q38: =SUM(Q7:Q37) -> 6935

Sheet Tab. č. 19
A1: Prehľad vzťahu jednotlivých kapitol ŠR k štátnemu rozpočtu za rok 2021
A2: (v tis. eur)
A4: Kapitola štátneho rozpočtu | C4: Schválený rozpočet | F4: Upravený rozpočet | I4: Skutočnosť | L4: Vzťah k upravenému ŠR
B7: č.kap. | C7: Príjmy | D7: Výdavky | E7: Saldo | F7: Príjmy | G7: Výdavky | H7: Saldo | I7: Príjmy | J7: Výdavky | K7: Saldo | L7: Zlepšujúci + Zhoršujúci - | M7: Vplyv príjmov | N7: Vplyv výdavkov
A8: Kancelária Národnej rady SR | B8: 2101 | C8: 1400 | D8: 35702 | E8: -34302 | F8: 1409 | G8: 40660 | H8: -39251 | I8: 1036 | J8: 40426 | K8: -39390 | L8: -139 | M8: -373 | N8: 234
A9: Kancelária prezidenta SR | B9: 2102 | C9: 15 | D9: 4619 | E9: -4604 | F9: 15 | G9: 6300 | H9: -6285 | I9: 14 | J9: 6294 | K9: -6280 | L9: 5 | M9: -1 | N9: 6
A10: Úrad vlády SR | B10: 2103 | C10: 25318 | D10: 69087 | E10: -43769 | F10: 700 | G10: 50943 | H10: -50243 | I10: 393 | J10: 47677 | K10: -47284 | L10: 2959 | M10: -307 | N10: 3266
A11: Ministerstvo investícií, regionálneho rozvoja a informatizácie SR | B11: 2104 | C11: 0 | D11: 78023 | E11: -78023 | F11: 289038 | G11: 398549 | H11: -109511 | I11: 299795 | J11: 395872 | K11: -96077 | L11: 13434 | M11: 10757 | N11: 2677
A12: Kancelária Ústavného súdu SR | B12: 2105 | C12: 10 | D12: 7347 | E12: -7337 | F12: 10 | G12: 6976 | H12: -6966 | I12: 9 | J12: 6954 | K12: -6945 | L12: 21 | M12: -1 | N12: 22
A13: Kancelária Najvyššieho súdu SR | B13: 2106 | C13: 10 | D13: 16195 | E13: -16185 | F13: 10 | G13: 15178 | H13: -15168 | I13: 14 | J13: 15175 | K13: -15161 | L13: 7 | M13: 4 | N13: 3
A14: Generálna prokuratúra SR | B14: 2107 | C14: 500 | D14: 115423 | E14: -114923 | F14: 500 | G14: 118620 | H14: -118120 | I14: 332 | J14: 117234 | K14: -116902 | L14: 1218 | M14: -168 | N14: 1386
A15: Najvyšší kontrolný úrad SR | B15: 2108 | C15: 20 | D15: 11533 | E15: -11513 | F15: 20 | G15: 13356 | H15: -13336 | I15: 347 | J15: 13349 | K15: -13002 | L15: 334 | M15: 327 | N15: 7
A16: Slovenská informačná služba | B16: 2109 | C16: 200 | D16: 59965 | E16: -59765 | F16: 227 | G16: 68650 | H16: -68423 | I16: 124 | J16: 68650 | K16: -68526 | L16: -103 | M16: -103 | N16: 0
A17: Ministerstvo zahraničných vecí a európskych záležitostí SR | B17: 2110 | C17: 4300 | D17: 154710 | E17: -150410 | F17: 4300 | G17: 159728 | H17: -155428 | I17: 3679 | J17: 159364 | K17: -155685 | L17: -257 | M17: -621 | N17: 364
A18: Ministerstvo obrany SR | B18: 2111 | C18: 5046 | D18: 1226714 | E18: -1221668 | F18: 5047 | G18: 1730696 | H18: -1725649 | I18: 4819 | J18: 1727689 | K18: -1722870 | L18: 2779 | M18: -228 | N18: 3007
A19: Ministerstvo vnútra SR | B19: 2112 | C19: 193419 | D19: 3005531 | E19: -2812112 | F19: 204191 | G19: 3430241 | H19: -3226050 | I19: 203501 | J19: 3427218 | K19: -3223717 | L19: 2333 | M19: -690 | N19: 3023
... A43: Kancelária Najvyššieho správneho súdu SR | B43: 2156 | C43: 0 | D43: 0 | E43: 0 | F43: 0 | G43: 3192 | H43: -3192 | I43: 0 | J43: 2945 | K43: -2945 | L43: 247 | M43: 0 | N43: 247
A44: S P O L U | C44: 15806153 | D44: 27603808 | E44: -11797655 | F44: 15329006 | G44: 25736061 | H44: -10407055 | I44: 17197298 | J44: 24211424 | K44: -7014126 | L44: 3392929 | M44: 1868292 | N44: 1524637

Sheet Tab. č. 20
F1: Tabuľka: 20
F2: Strana: 1
A3: Vývoj príjmov a výdavkov štátneho rozpočtu v rokoch 2021 a 2020
A4: (v tis. eur)
B6: Ukazovateľ | C6: Skutočnosť | E6: Index 2021/2020 | F6: Zmena 2021 - 2020
C7: 2020 | D7: 2021
A8: I. | B8: PRÍJMY spolu | C8: 15750634 | D8: 17197298 | E8: 109.1848 | F8: 1446664
A9: A. | B9: Daňové príjmy | C9: 11865422 | D9: 13546039 | E9: 114.16399 | F9: 1680617
A10: 1. | B10: Dane z príjmov a kapitálového majetku | C10: 2558573 | D10: 3167002 | E10: 123.78001 | F10: 608429
B11: v tom: - daň z príjmov fyzickej osoby | C11: -26068 | D11: 17876 | E11: -68.574497 | F11: 43944
B12: v tom: - zo závislej činnosti | C12: 3090068 | D12: 3304281 | E12: 106.93231 | F12: 214213
B13: - z podnikania, z inej samostatnej zárobkovej činnosti a z prenájmu | C13: 52631 | D13: 41410 | E13: 78.679865 | F13: -11221
B14: - výnos dane z príjmov poukázaný územnej samospráve | C14: -3146223 | D14: -3277965 | E14: 104.18731 | F14: -131742
B15: - prevod podielu dane z príjmov fyzických osôb na osobitný účel | C15: -22544 | D15: -49850 | E15: 221.12314 | F15: -27306
B16: - daň z príjmov právnickej osoby | C16: 2349560 | D16: 2859372 | E16: 121.69819 | F16: 509812
B17: - prevod podielu dane z príjmov právnických osôb na osobitný účel | C17: -30847 | D17: -37341 | E17: 121.05229 | F17: -6494
B18: - daň z príjmov vyberaná zrážkou | C18: 235081 | D18: 289754 | E18: 123.25709 | F18: 54673
A19: 2. | B19: Dane z majetku | C19: 5 | D19: 11 | E19: 220 | F19: 6
A20: 3. | B20: Dane za tovary a služby | C20: 9268251 | D20: 10327344 | E20: 111.42711 | F20: 1059093
B21: z toho: - daň z pridanej hodnoty | C21: 6791757 | D21: 7760691 | E21: 114.26632 | F21: 968934
B22: - spotrebné dane | C22: 2257738 | D22: 2369823 | E22: 104.96448 | F22: 112085
A23: 4. | B23: Dane z medzinárodného obchodu a transakcií | C23: 19904 | D23: 28735 | E23: 144.36797 | F23: 8831
B24: z toho: - dovozné clo | C24: 16 | D24: 10 | E24: 62.5 | F24: -6
B25: - podiel na vybraných finančných prostriedkoch | C25: 19888 | D25: 28724 | E25: 144.4288 | F25: 8836
A26: 5. | B26: Sankcie uložené v daňovom konaní a sankcie súvisiace s úhradami za služby verejnosti poskytované Rozhlasom a televíziou Slovenska | C26: 20007 | D26: 22947 | E26: 114.69486 | F26: 2940
A27: 6. | B27: Iné dane (dane z emisných kvót) | C27: -1318 | D27: 0 | E27: 0 | F27: 1318
A28: B. | B28: Nedaňové príjmy | C28: 1296626 | D28: 1338320 | E28: 103.21558 | F28: 41694
A29: C. | B29: Granty a transfery | C29: 2588586 | D29: 2312939 | E29: 89.351445 | F29: -275647
A30: II. | B30: VÝDAVKY spolu | C30: 23509056 | D30: 24211424 | E30: 102.98765 | F30: 702368
A31: A. | B31: Bežné výdavky | C31: 20846610 | D31: 21771263 | E31: 104.43551 | F31: 924653
A32: 1. | B32: Mzdy, platy, služobné príjmy a ostatné osobné vyrovnania | C32: 2573842 | D32: 2624189 | E32: 101.9561 | F32: 50347
A33: 2. | B33: Poistné a príspevok do poisťovní | C33: 928531 | D33: 953727 | E33: 102.71353 | F33: 25196
A34: 3. | B34: Tovary a služby | C34: 2267101 | D34: 2358052 | E34: 104.01178 | F34: 90951
A35: 4. | B35: Bežné transfery | C35: 15076866 | D35: 15835025 | E35: 105.02862 | F35: 758159
A36: 5. | B36: Splácanie úrokov a ostatné platby súvisiace s úverom, pôžičkou, návratnou finančnou výpomocou a finančným prenájmom | C36: 270 | D36: 270 | E36: 100 | F36: 0
A37: B. | B37: Kapitálové výdavky | C37: 2662446 | D37: 2440161 | E37: 91.651098 | F37: -222285
... A40: I.-II. | B40: Prebytok (+), schodok (-) | C40: -7758422 | D40: -7014126 | E40: 90.406606 | F40: 744296

Sheet Tab. č. 21
M1: Tabuľka: 21
L2: Strana: 1
A3: Záväzné limity dotácií zo ŠR obciam za rok 2021
E4: (v tis. eur)
B7: Bežné výdavky | F7: Kapitálové výdavky | J7: Spolu
B8: Schválený rozpočet | C8: Upravený rozpočet | D8: Skutočnosť | E8: % | F8: Schválený rozpočet | G8: Upravený rozpočet | H8: Skutočnosť | I8: % | J8: Schválený rozpočet | K8: Upravený rozpočet | L8: Skutočnosť | M8: %
A9: S p o l u | B9: =SUM(B11+B22) -> 1039884 | C9: =SUM(C11+C22) -> 1201577 | D9: =SUM(D11+D22) -> 1201038 | E9: =SUM(D9*100/C9) -> 99.955142 | F9: =SUM(F11+F22) -> 8080 | G9: =SUM(G11+G22) -> 5380 | H9: =SUM(H11+H22) -> 5380 | I9: =SUM(H9*100/G9) -> 100 | J9: =SUM(B9+F9) -> 1047964 | K9: =SUM(C9+G9) -> 1206957 | L9: =SUM(D9+H9) -> 1206418 | M9: =SUM(L9*100/K9) -> 99.955342
A10: z toho:
A11: A. Dotácie zo štátneho rozpočtu z kapitoly Všeobecná pokladničná správa | B11: =SUM(B13+B14) -> 0 | C11: =SUM(C13+C14) -> 0 | D11: =SUM(D13+D14) -> 0 | E11: x | F11: =SUM(F13+F14) -> 8080 | G11: =SUM(G13+G14) -> 5380 | H11: =SUM(H13+H14) -> 5380 | I11: =SUM(H11*100/G11) -> 100 | J11: =SUM(B11+F11) -> 8080 | K11: =SUM(C11+G11) -> 5380 | L11: =SUM(D11+H11) -> 5380 | M11: =SUM(L11*100/K11) -> 100
A12: z toho:
A13: dotácia na individuálne potreby obcí | F13: 2700 | G13: 0 | H13: 0 | I13: x | J13: =SUM(B13+F13) -> 2700 | K13: =SUM(C13+G13) -> 0 | L13: =SUM(D13+H13) -> 0 | M13: x
A14: dotácia na záchranu a obnovu kultúrnych pamiatok | F14: =SUM(F15:F21) -> 5380 | G14: =SUM(G15:G21) -> 5380 | H14: =SUM(H15:H21) -> 5380 | I14: =SUM(H14*100/G14) -> 100 | J14: =SUM(B14+F14) -> 5380 | K14: =SUM(C14+G14) -> 5380 | L14: =SUM(D14+H14) -> 5380 | M14: =SUM(L14*100/K14) -> 100
A15: v tom: Banská Štiavnica | F15: 1640 | G15: 1640 | H15: 1640 | I15: =SUM(H15*100/G15) -> 100 | J15: =SUM(B15+F15) -> 1640 | K15: =SUM(C15+G15) -> 1640 | L15: =SUM(D15+H15) -> 1640 | M15: =SUM(L15*100/K15) -> 100
A16: Bardejov | F16: 1060 | G16: 1060 | H16: 1060 | I16: =SUM(H16*100/G16) -> 100 | J16: =SUM(B16+F16) -> 1060 | K16: =SUM(C16+G16) -> 1060 | L16: =SUM(D16+H16) -> 1060 | M16: =SUM(L16*100/K16) -> 100
A17: Levoča | F17: 1100 | G17: 1100 | H17: 1100 | I17: =SUM(H17*100/G17) -> 100 | J17: =SUM(B17+F17) -> 1100 | K17: =SUM(C17+G17) -> 1100 | L17: =SUM(D17+H17) -> 1100 | M17: =SUM(L17*100/K17) -> 100
A18: Kremnica | F18: 604 | G18: 604 | H18: 604 | I18: =SUM(H18*100/G18) -> 100 | J18: =SUM(B18+F18) -> 604 | K18: =SUM(C18+G18) -> 604 | L18: =SUM(D18+H18) -> 604 | M18: =SUM(L18*100/K18) -> 100
A19: Martin | F19: 410 | G19: 410 | H19: 410 | I19: =SUM(H19*100/G19) -> 100 | J19: =SUM(B19+F19) -> 410 | K19: =SUM(C19+G19) -> 410 | L19: =SUM(D19+H19) -> 410 | M19: =SUM(L19*100/K19) -> 100
A20: Vysoké Tatry | F20: 366 | G20: 366 | H20: 366 | I20: =SUM(H20*100/G20) -> 100 | J20: =SUM(B20+F20) -> 366 | K20: =SUM(C20+G20) -> 366 | L20: =SUM(D20+H20) -> 366 | M20: =SUM(L20*100/K20) -> 100
A21: Spišské Podhradie | F21: 200 | G21: 200 | H21: 200 | I21: =SUM(H21*100/G21) -> 100 | J21: =SUM(B21+F21) -> 200 | K21: =SUM(C21+G21) -> 200 | L21: =SUM(D21+H21) -> 200 | M21: =SUM(L21*100/K21) -> 100
A22: B. Dotácia na prenesený výkon pôsobnosti štátnej správy na obce | B22: =SUM(B23+B34+B39) -> 1039884 | C22: =SUM(C23+C34+C39) -> 1201577 | D22: =SUM(D23+D34+D39) -> 1201038 | E22: =SUM(D22*100/C22) -> 99.955142 | F22: =SUM(F23+F34) -> 0 | G22: =SUM(G23+G34) -> 0 | H22: =SUM(H23+H34) -> 0 | I22: x | J22: =SUM(B22+F22) -> 1039884 | K22: =SUM(C22+G22) -> 1201577 | L22: =SUM(D22+H22) -> 1201038 | M22: =SUM(L22*100/K22) -> 99.955142
A23: Ministerstvo vnútra SR spolu: | B23: =SUM(B26+B28+B29+B30+B31+B33) -> 1017494 | C23: =SUM(C26+C28+C29+C30+C31+C33) -> 1180152 | D23: =SUM(D26+D28+D29+D30+D31+D33) -> 1179848 | E23: =SUM(D23*100/C23) -> 99.974241 | F23: =SUM(F26+F28+F29+F30+F31+F33) -> 0 | G23: =SUM(G26+G28+G29+G30+G31+G33) -> 0 | H23: =SUM(H26+H28+H29+H30+H31+H33) -> 0 | I23: x | J23: =SUM(B23+F23) -> 1017494 | K23: =SUM(C23+G23) -> 1180152 | L23: =SUM(D23+H23) -> 1179848 | M23: =SUM(L23*100/K23) -> 99.974241
A24: z toho:
A25: a/ matričná činnosť podľa zákona NR SR č. 154/1994 Z.z.
A26: o matrikách v znení neskorších predpisov | B26: 7088 | C26: 9350 | D26: 9350 | E26: =SUM(D26*100/C26) -> 100 | J26: =SUM(B26+F26) -> 7088 | K26: =SUM(C26+G26) -> 9350 | L26: =SUM(D26+H26) -> 9350 | M26: =SUM(L26*100/K26) -> 100
A27: b/ hlásenie pobytu občanov a register obyvateľov
A28: podľa zákona č. 253/1998 Z.z. | B28: 1802 | C28: 1801 | D28: 1801 | E28: =SUM(D28*100/C28) -> 100 | J28: =SUM(B28+F28) -> 1802 | K28: =SUM(C28+G28) -> 1801 | L28: =SUM(D28+H28) -> 1801 | M28: =SUM(L28*100/K28) -> 100
A29: c/ register adries podľa zákona č. 125/2015 Z.z. o registri adries | B29: 196 | C29: 147 | D29: 147 | E29: =SUM(D29*100/C29) -> 100 | J29: =SUM(B29+F29) -> 196 | K29: =SUM(C29+G29) -> 147 | L29: =SUM(D29+H29) -> 147 | M29: =SUM(L29*100/K29) -> 100
A30: d/ regionálne školstvo | B30: 1007562 | C30: 1168012 | D30: 1167968 | E30: =SUM(D30*100/C30) -> 99.996233 | J30: =SUM(B30+F30) -> 1007562 | K30: =SUM(C30+G30) -> 1168012 | L30: =SUM(D30+H30) -> 1167968 | M30: =SUM(L30*100/K30) -> 99.996233
A31: e/ starostlivosť o životné prostredie | B31: 535 | C31: 531 | D31: 530 | E31: =SUM(D31*100/C31) -> 99.811676 | J31: =SUM(B31+F31) -> 535 | K31: =SUM(C31+G31) -> 531 | L31: =SUM(D31+H31) -> 530 | M31: =SUM(L31*100/K31) -> 99.811676
A32: f/ voľby podľa zákona č. 180/2014 Z. z. o podmienkach výkonu
A33: volebného práva | B33: 311 | C33: 311 | D33: 52 | E33: =SUM(D33*100/C33) -> 16.720257 | J33: =SUM(B33+F33) -> 311 | K33: =SUM(C33+G33) -> 311 | L33: =SUM(D33+H33) -> 52 | M33: =SUM(L33*100/K33) -> 16.720257
A34: Ministerstvo dopravy a výstavby SR spolu: | B34: =SUM(B36+B38) -> 8476 | C34: =SUM(C36+C38) -> 8711 | D34: =SUM(D36+D38) -> 8476 | E34: =SUM(D34*100/C34) -> 97.302262 | F34: =SUM(F36+F38) -> 0 | G34: =SUM(G36+G38) -> 0 | H34: =SUM(H36+H38) -> 0 | I34: x | J34: =SUM(B34+F34) -> 8476 | K34: =SUM(C34+G34) -> 8711 | L34: =SUM(D34+H34) -> 8476 | M34: =SUM(L34*100/K34) -> 97.302262
A35: z toho:
A36: a/ doprava | B36: 236 | C36: 236 | D36: 236 | E36: =SUM(D36*100/C36) -> 100 | J36: =SUM(B36+F36) -> 236 | K36: =SUM(C36+G36) -> 236 | L36: =SUM(D36+H36) -> 236 | M36: =SUM(L36*100/K36) -> 100
A37: b/ pôsobnosti na úseku stavebného poriadku podľa zákona
A38: č. 50/1976 Zb. o územnom plánovaní a stavebnom poriadku | B38: 8240 | C38: 8475 | D38: 8240 | E38: =SUM(D38*100/C38) -> 97.227139 | I38: x | J38: =SUM(B38+F38) -> 8240 | K38: =SUM(C38+G38) -> 8475 | L38: =SUM(D38+H38) -> 8240 | M38: =SUM(L38*100/K38) -> 97.227139
A39: Štatistický úrad SR spolu: | B39: =SUM(B40) -> 13914 | C39: =SUM(C40) -> 12714 | D39: =SUM(D40) -> 12714 | E39: =SUM(D39*100/C39) -> 100 | F39: =SUM(F40) -> 0 | G39: =SUM(G40) -> 0 | H39: =SUM(H41+H43) -> 0 | J39: =SUM(B39+F39) -> 13914 | K39: =SUM(C39+G39) -> 12714 | L39: =SUM(D39+H39) -> 12714 | M39: =SUM(L39*100/K39) -> 100
A40: sčítanie obyvateľov, domov a bytov v roku 2021 | B40: 13914 | C40: 12714 | D40: 12714 | E40: =SUM(D40*100/C40) -> 100 | J40: =SUM(B40+F40) -> 13914 | K40: =SUM(C40+G40) -> 12714 | L40: =SUM(D40+H40) -> 12714 | M40: =SUM(L40*100/K40) -> 100

Sheet Tab. č. 22
M1: Tabuľka: 22
L2: Strana: 1
A4: Záväzné limity dotácií zo ŠR vyšším územným celkom za rok 2021
D5: (v tis. eur)
B8: Bežné výdavky | F8: Kapitálové výdavky | J8: Spolu
B9: Schválený rozpočet | C9: Upravený rozpočet | D9: Skutočnosť | E9: % | F9: Schválený rozpočet | G9: Upravený rozpočet | H9: Skutočnosť | I9: % | J9: Schválený rozpočet | K9: Upravený rozpočet | L9: Skutočnosť | M9: %
A10: S p o l u | B10: =SUM(B12) -> 593954 | C10: =SUM(C12) -> 532099 | D10: =SUM(D12) -> 531994 | E10: =SUM(D10*100/C10) -> 99.980267 | F10: =SUM(F12) -> 0 | G10: =SUM(G12) -> 0 | H10: =SUM(H12) -> 0 | I10: x | J10: =SUM(B10+F10) -> 593954 | K10: =SUM(C10+G10) -> 532099 | L10: =SUM(D10+H10) -> 531994 | M10: =SUM(L10*100/K10) -> 99.980267
A11: z toho:
A12: A. Dotácia na prenes.výkon pôsob.št.správy na VÚC | B12: =SUM(B15) -> 593954 | C12: =SUM(C15) -> 532099 | D12: =SUM(D15) -> 531994 | E12: =SUM(D12*100/C12) -> 99.980267 | F12: =SUM(F14) -> 0 | G12: =SUM(G14) -> 0 | H12: =SUM(H14) -> 0 | I12: x | J12: =SUM(B12+F12) -> 593954 | K12: =SUM(C12+G12) -> 532099 | L12: =SUM(D12+H12) -> 531994 | M12: =SUM(L12*100/K12) -> 99.980267
A13: Ministerstvo školstva, vedy, výskumu a športu SR spolu: | B13: =SUM(B15) -> 593954 | C13: =SUM(C15) -> 532099 | D13: =SUM(D15) -> 531994 | E13: =SUM(D13*100/C13) -> 99.980267 | F13: =SUM(F15) -> 0 | G13: =SUM(G15) -> 167 | H13: =SUM(H15) -> 167 | I13: =SUM(H13*100/G13) -> 100 | J13: =SUM(B13+F13) -> 593954 | K13: =SUM(C13+G13) -> 532266 | L13: =SUM(D13+H13) -> 532161 | M13: =SUM(L13*100/K13) -> 99.980273
A14: z toho:
A15: regionálne školstvo | B15: 593954 | C15: 532099 | D15: 531994 | E15: =SUM(D15*100/C15) -> 99.980267 | F15: 0 | G15: 167 | H15: 167 | I15: =SUM(H15*100/G15) -> 100 | J15: =SUM(B15+F15) -> 593954 | K15: =SUM(C15+G15) -> 532266 | L15: =SUM(D15+H15) -> 532161 | M15: =SUM(L15*100/K15) -> 99.980273

Sheet Tab. č. 23
A1: Prehľad o plnení limitu počtu zamestnancov, miezd, platov, služobných príjmov a ostatných osobných vyrovnaní v kapitolách ŠR za rok 2021
A2: Kapitola štátneho rozpočtu | B2: Počet zamestnancov (osoby) | T2: kategória 610 (v tis. eur) | X2: Tab_na_vpisovanie
B3: Rozpočtové organizácie | K3: z toho: aparát | T3: Mzdy, platy, služobné príjmy a OOV aparátu
B4: Schválený limit 2021 | C4: Upravený limit 2021 | D4: Skutočnosť 2021 | E4: v tom: | K4: Schválený limit 2021 | L4: Upravený limit 2021 | M4: Skutočnosť 2021 | N4: v tom: | T4: Schválený limit 2021 | U4: Upravený limit 2021 | V4: Skutočnosť 2021 | X4: Skutočnosť Fin 1-12 (mail) ak nemá PRO | Y4: Rozdiel
E5: bez administratívnych kapacít osobitne sledovaných | H5: administratívne kapacity osobitne sledované */ | N5: bez administratívnych kapacít osobitne sledovaných | Q5: administratívne kapacity osobitne sledované */
E6: Schválený limit 2021 | F6: Upravený limit 2021 | G6: Skutočnosť 2021 | H6: Schválený limit 2021 | I6: Upravený limit 2021 | J6: Skutočnosť 2021 | N6: Schválený limit 2021 | O6: Upravený limit 2021 | P6: Skutočnosť 2021 | Q6: Schválený limit 2021 | R6: Upravený limit 2021 | S6: Skutočnosť 2021
A7: a | B7: 1 | C7: 2 | D7: 3 | E7: 4 | F7: 5 | G7: 6 | H7: 7 | I7: 8 | J7: 9 | K7: 10 | L7: 11 | M7: 12 | N7: 13 | O7: 14 | P7: 15 | Q7: 16 | R7: 17 | S7: 18 | T7: 19 | U7: 20 | V7: 21 | X7: 22 | Y7: 23
A8: Kancelária Národnej rady SR | B8: =[1]RO_Spolu_vzorce!$C9 -> 520 | C8: =[1]RO_Spolu_vzorce!D9 -> 559 | D8: =ROUND([1]RO_Spolu_vzorce!$E9,0) -> 526 | E8: =[2]Limity_2020_vrátane_AK!$C9 -> 520 | F8: =C8-I8 -> 559 | G8: =D8-J8 -> 526 | K8: =[1]Aparáty_vzorce!C9 -> 520 | L8: =[1]Aparáty_vzorce!D9 -> 559 | M8: =ROUND([1]Aparáty_vzorce!$E9,0) -> 526 | N8: =[2]Limity_2020_vrátane_AK!$F9 -> 520 | O8: =L8-R8 -> 559 | P8: =M8-S8 -> 526 | T8: =ROUND([1]Aparáty_vzorce!I9/1000,0) -> 18627 | U8: =ROUND([1]Aparáty_vzorce!J9/1000,0) -> 19151 | V8: 19146 | X8: =[3]mzdy_aparát_ÚO!H6 -> 0 | Y8: =X8-V8 -> -19146
A9: Kancelária prezidenta SR | B9: =[1]RO_Spolu_vzorce!$C10 -> 91 | C9: =[1]RO_Spolu_vzorce!D10 -> 99 | D9: =ROUND([1]RO_Spolu_vzorce!$E10,0) -> 89 | E9: =[2]Limity_2020_vrátane_AK!$C10 -> 91 | F9: =C9-I9 -> 99 | G9: =D9-J9 -> 89 | K9: =[1]Aparáty_vzorce!C10 -> 91 | L9: =[1]Aparáty_vzorce!D10 -> 99 | M9: =ROUND([1]Aparáty_vzorce!$E10,0) -> 89 | N9: =[2]Limity_2020_vrátane_AK!$F10 -> 91 | O9: =L9-R9 -> 99 | P9: =M9-S9 -> 89 | T9: =ROUND([1]Aparáty_vzorce!I10/1000,0) -> 2394 | U9: =ROUND([1]Aparáty_vzorce!J10/1000,0) -> 2758 | V9: 2757 | X9: =[3]mzdy_aparát_ÚO!H7 -> 0 | Y9: =X9-V9 -> -2757
A10: Úrad vlády SR | B10: =[1]RO_Spolu_vzorce!$C11 -> 588 | C10: =[1]RO_Spolu_vzorce!D11 -> 655 | D10: =ROUND([1]RO_Spolu_vzorce!$E11,0) -> 572 | E10: =[2]Limity_2020_vrátane_AK!$C11 -> 544 | F10: =C10-I10 -> 634 | G10: =D10-J10 -> 557 | H10: =[2]Limity_2020_vrátane_AK!$D11 -> 44 | I10: =[1]Admin_kap!$C$8 -> 21 | J10: =ROUND([1]Admin_kap!$E$8,0) -> 15 | K10: =[1]Aparáty_vzorce!C11 -> 588 | L10: =[1]Aparáty_vzorce!D11 -> 655 | M10: =ROUND([1]Aparáty_vzorce!$E11,0) -> 572 | N10: =[2]Limity_2020_vrátane_AK!$F11 -> 544 | O10: =L10-R10 -> 634 | P10: =M10-S10 -> 557 | Q10: =[2]Limity_2020_vrátane_AK!$G11 -> 44 | R10: =[1]Admin_kap!$C$29 -> 21 | S10: =ROUND([1]Admin_kap!$E$29,0) -> 15 | T10: =ROUND([1]Aparáty_vzorce!I11/1000,0) -> 11769 | U10: =ROUND([1]Aparáty_vzorce!J11/1000,0) -> 14289 | V10: 14509 | X10: =[3]mzdy_aparát_ÚO!H8 -> 0 | Y10: =X10-V10 -> -14509
A11: Ministerstvo investícií regionálneho rozvoja a informatizácie SR | B11: =[1]RO_Spolu_vzorce!$C12 -> 558 | C11: =[1]RO_Spolu_vzorce!D12 -> 888 | D11: =ROUND([1]RO_Spolu_vzorce!$E12,0) -> 733 | E11: =[2]Limity_2020_vrátane_AK!$C12 -> 429 | F11: =C11-I11 -> 714 | G11: =D11-J11 -> 584 | H11: =[2]Limity_2020_vrátane_AK!$D12 -> 129 | I11: =[1]Admin_kap!$C$9 -> 174 | J11: =ROUND([1]Admin_kap!$E$9,0) -> 149 | K11: =[1]Aparáty_vzorce!C12 -> 558 | L11: =[1]Aparáty_vzorce!D12 -> 888 | M11: =ROUND([1]Aparáty_vzorce!$E12,0) -> 733 | N11: =[2]Limity_2020_vrátane_AK!$F12 -> 429 | O11: =L11-R11 -> 714 | P11: =M11-S11 -> 584 | Q11: =[2]Limity_2020_vrátane_AK!$G12 -> 129 | R11: =[1]Admin_kap!$C$30 -> 174 | S11: =ROUND([1]Admin_kap!$E$30,0) -> 149 | T11: =ROUND([1]Aparáty_vzorce!I12/1000,0) -> 9311 | U11: =ROUND([1]Aparáty_vzorce!J12/1000,0) -> 11460 | V11: 21856 | X11: =[3]mzdy_aparát_ÚO!H9 -> 0 | Y11: =X11-V11 -> -21856
A12: Kancelária Ústavného súdu SR | B12: =[1]RO_Spolu_vzorce!$C13 -> 116 | C12: =[1]RO_Spolu_vzorce!D13 -> 127 | D12: =ROUND([1]RO_Spolu_vzorce!$E13,0) -> 120 | E12: =[2]Limity_2020_vrátane_AK!$C13 -> 116 | F12: =C12-I12 -> 127 | G12: =D12-J12 -> 120 | K12: =[1]Aparáty_vzorce!C13 -> 116 | L12: =[1]Aparáty_vzorce!D13 -> 127 | M12: =ROUND([1]Aparáty_vzorce!$E13,0) -> 120 | N12: =[2]Limity_2020_vrátane_AK!$F13 -> 116 | O12: =L12-R12 -> 127 | P12: =M12-S12 -> 120 | T12: =ROUND([1]Aparáty_vzorce!I13/1000,0) -> 3536 | U12: =ROUND([1]Aparáty_vzorce!J13/1000,0) -> 3779 | V12: 3778 | X12: =[3]mzdy_aparát_ÚO!H10 -> 0 | Y12: =X12-V12 -> -3778
A13: Kancelária Najvyššieho súdu SR | B13: =[1]RO_Spolu_vzorce!$C14 -> 275 | C13: =[1]RO_Spolu_vzorce!D14 -> 259 | D13: =ROUND([1]RO_Spolu_vzorce!$E14,0) -> 243 | E13: =[2]Limity_2020_vrátane_AK!$C14 -> 275 | F13: =C13-I13 -> 259 | G13: =D13-J13 -> 243 | K13: =[1]Aparáty_vzorce!C14 -> 275 | L13: =[1]Aparáty_vzorce!D14 -> 259 | M13: =ROUND([1]Aparáty_vzorce!$E14,0) -> 243 | N13: =[2]Limity_2020_vrátane_AK!$F14 -> 275 | O13: =L13-R13 -> 259 | P13: =M13-S13 -> 243 | T13: =ROUND([1]Aparáty_vzorce!I14/1000,0) -> 10466 | U13: =ROUND([1]Aparáty_vzorce!J14/1000,0) -> 8921 | V13: 9201 | X13: =[3]mzdy_aparát_ÚO!H11 -> 0 | Y13: =X13-V13 -> -9201
A14: Generálna prokuratúra SR | B14: =[1]RO_Spolu_vzorce!$C15 -> 1975 | C14: =[1]RO_Spolu_vzorce!D15 -> 1983 | D14: =ROUND([1]RO_Spolu_vzorce!$E15,0) -> 1837 | E14: =[2]Limity_2020_vrátane_AK!$C15 -> 1975 | F14: =C14-I14 -> 1983 | G14: =D14-J14 -> 1837 | K14: =[1]Aparáty_vzorce!C15 -> 309 | L14: =[1]Aparáty_vzorce!D15 -> 317 | M14: =ROUND([1]Aparáty_vzorce!$E15,0) -> 268 | N14: =[2]Limity_2020_vrátane_AK!$F15 -> 309 | O14: =L14-R14 -> 317 | P14: =M14-S14 -> 268 | T14: =ROUND([1]Aparáty_vzorce!I15/1000,0) -> 12684 | U14: =ROUND([1]Aparáty_vzorce!J15/1000,0) -> 11886 | V14: 11144 | X14: =[3]mzdy_aparát_ÚO!H12 -> 0 | Y14: =X14-V14 -> -11144
A15: Najvyšší kontrolný úrad SR | B15: =[1]RO_Spolu_vzorce!$C16 -> 288 | C15: =[1]RO_Spolu_vzorce!D16 -> 319 | D15: =ROUND([1]RO_Spolu_vzorce!$E16,0) -> 292 | E15: =[2]Limity_2020_vrátane_AK!$C16 -> 288 | F15: =C15-I15 -> 319 | G15: =D15-J15 -> 292 | K15: =[1]Aparáty_vzorce!C16 -> 288 | L15: =[1]Aparáty_vzorce!D16 -> 319 | M15: =ROUND([1]Aparáty_vzorce!$E16,0) -> 292 | N15: =[2]Limity_2020_vrátane_AK!$F16 -> 288 | O15: =L15-R15 -> 319 | P15: =M15-S15 -> 292 | T15: =ROUND([1]Aparáty_vzorce!I16/1000,0) -> 6832 | U15: =ROUND([1]Aparáty_vzorce!J16/1000,0) -> 7626 | V15: 7647 | X15: =[3]mzdy_aparát_ÚO!H13 -> 0 | Y15: =X15-V15 -> -7647
A16: Ministerstvo zahraničných vecí a európskych záležitostí SR | B16: =[1]RO_Spolu_vzorce!$C17 -> 1189 | C16: =[1]RO_Spolu_vzorce!D17 -> 1215 | D16: =ROUND([1]RO_Spolu_vzorce!$E17,0) -> 1174 | E16: =[2]Limity_2020_vrátane_AK!$C17 -> 1188 | F16: =C16-I16 -> 1214 | G16: =D16-J16 -> 1174 | H16: =[2]Limity_2020_vrátane_AK!$D17 -> 1 | I16: =[1]Admin_kap!$C$10 -> 1 | J16: =ROUND([1]Admin_kap!$E$10,0) -> 0 | K16: =[1]Aparáty_vzorce!C17 -> 1157 | L16: =[1]Aparáty_vzorce!D17 -> 1183 | M16: =ROUND([1]Aparáty_vzorce!$E17,0) -> 1143 | N16: =[2]Limity_2020_vrátane_AK!$F17 -> 1156 | O16: =L16-R16 -> 1182 | P16: =M16-S16 -> 1143 | Q16: =[2]Limity_2020_vrátane_AK!$G17 -> 1 | R16: =[1]Admin_kap!$C$31 -> 1 | S16: =ROUND([1]Admin_kap!$E$31,0) -> 0 | T16: =ROUND([1]Aparáty_vzorce!I17/1000,0) -> 54621 | U16: =ROUND([1]Aparáty_vzorce!J17/1000,0) -> 56585 | V16: 56882 | X16: =[3]mzdy_aparát_ÚO!H14 -> 0 | Y16: =X16-V16 -> -56882
A17: Ministerstvo obrany SR | B17: =[1]RO_Spolu_vzorce!$C18 -> 20443 | C17: =[1]RO_Spolu_vzorce!D18 -> 21000 | D17: =ROUND([1]RO_Spolu_vzorce!$E18,0) -> 20887 | E17: =[2]Limity_2020_vrátane_AK!$C18 -> 20443 | F17: =C17-I17 -> 21000 | G17: =D17-J17 -> 20887 | K17: =[1]Aparáty_vzorce!C18 -> 587 | L17: =[1]Aparáty_vzorce!D18 -> 598 | M17: =ROUND([1]Aparáty_vzorce!$E18,0) -> 479 | N17: =[2]Limity_2020_vrátane_AK!$F18 -> 587 | O17: =L17-R17 -> 598 | P17: =M17-S17 -> 479 | T17: =ROUND([1]Aparáty_vzorce!I18/1000,0) -> 11877 | U17: =ROUND([1]Aparáty_vzorce!J18/1000,0) -> 12209 | V17: 12404 | X17: =[3]mzdy_aparát_ÚO!H15 -> 0 | Y17: =X17-V17 -> -12404
A18: Ministerstvo vnútra SR | B18: =[1]RO_Spolu_vzorce!$C19 -> 50557 | C18: =[1]RO_Spolu_vzorce!D19 -> 51813 | D18: =ROUND([1]RO_Spolu_vzorce!$E19,0) -> 47795 | E18: =[2]Limity_2020_vrátane_AK!$C19 -> 50378 | F18: =C18-I18 -> 51636 | G18: =D18-J18 -> 47646 | H18: =[2]Limity_2020_vrátane_AK!$D19 -> 179 | I18: =[1]Admin_kap!$C$11 -> 177 | J18: =ROUND([1]Admin_kap!$E$11,0) -> 149 | K18: =[1]Aparáty_vzorce!C19 -> 1493 | L18: =[1]Aparáty_vzorce!D19 -> 1581 | M18: =ROUND([1]Aparáty_vzorce!$E19,0) -> 1368 | N18: =[2]Limity_2020_vrátane_AK!$F19 -> 1314 | O18: =L18-R18 -> 1404 | P18: =M18-S18 -> 1219 | Q18: =[2]Limity_2020_vrátane_AK!$G19 -> 179 | R18: =[1]Admin_kap!$C$32 -> 177 | S18: =ROUND([1]Admin_kap!$E$32,0) -> 149 | T18: =ROUND([1]Aparáty_vzorce!I19/1000,0) -> 16029 | U18: =ROUND([1]Aparáty_vzorce!J19/1000,0) -> 23588 | V18: 28930 | X18: =[3]mzdy_aparát_ÚO!H18 -> 0 | Y18: =X18-V18 -> -28930
A19: Ministerstvo spravodlivosti SR | B19: =[1]RO_Spolu_vzorce!$C20 -> 11879 | C19: =[1]RO_Spolu_vzorce!D20 -> 12308 | D19: =ROUND([1]RO_Spolu_vzorce!$E20,0) -> 11873 | E19: =[2]Limity_2020_vrátane_AK!$C20 -> 11879 | F19: =C19-I19 -> 12308 | G19: =D19-J19 -> 11873 | K19: =[1]Aparáty_vzorce!C20 -> 342 | L19: =[1]Aparáty_vzorce!D20 -> 369 | M19: =ROUND([1]Aparáty_vzorce!$E20,0) -> 337 | N19: =[2]Limity_2020_vrátane_AK!$F20 -> 342 | O19: =L19-R19 -> 369 | P19: =M19-S19 -> 337 | T19: =ROUND([1]Aparáty_vzorce!I20/1000,0) -> 7542 | U19: =ROUND([1]Aparáty_vzorce!J20/1000,0) -> 6819 | V19: 8024 | X19: =[3]mzdy_aparát_ÚO!H22 -> 0 | Y19: =X19-V19 -> -8024
A20: Ministerstvo financií SR | B20: =[1]RO_Spolu_vzorce!$C21 -> 10520 | C20: =[1]RO_Spolu_vzorce!D21 -> 10764 | D20: =ROUND([1]RO_Spolu_vzorce!$E21,0) -> 9934 | E20: =[2]Limity_2020_vrátane_AK!$C21 -> 10376 | F20: =C20-I20 -> 10620 | G20: =D20-J20 -> 9791 | H20: =[2]Limity_2020_vrátane_AK!$D21 -> 144 | I20: =[1]Admin_kap!$C12 -> 144 | J20: =ROUND([1]Admin_kap!$E12,0) -> 143 | K20: =[1]Aparáty_vzorce!C21 -> 706 | L20: =[1]Aparáty_vzorce!D21 -> 776 | M20: =ROUND([1]Aparáty_vzorce!$E21,0) -> 674 | N20: =[2]Limity_2020_vrátane_AK!$F21 -> 640 | O20: =L20-R20 -> 718 | P20: =M20-S20 -> 616 | Q20: =[2]Limity_2020_vrátane_AK!$G21 -> 66 | R20: =[1]Admin_kap!$C33 -> 58 | S20: =ROUND([1]Admin_kap!$E33,0) -> 58 | T20: =ROUND([1]Aparáty_vzorce!I21/1000,0) -> 14234 | U20: =ROUND([1]Aparáty_vzorce!J21/1000,0) -> 16329 | V20: 20900 | X20: =[3]mzdy_aparát_ÚO!H25 -> 0 | Y20: =X20-V20 -> -20900
A21: Ministerstvo životného prostredia SR | B21: =[1]RO_Spolu_vzorce!$C22 -> 709 | C21: =[1]RO_Spolu_vzorce!D22 -> 775 | D21: =ROUND([1]RO_Spolu_vzorce!$E22,0) -> 736 | E21: =[2]Limity_2020_vrátane_AK!$C22 -> 625 | F21: =C21-I21 -> 691 | G21: =D21-J21 -> 652 | H21: =[2]Limity_2020_vrátane_AK!$D22 -> 84 | I21: =[1]Admin_kap!$C13 -> 84 | J21: =ROUND([1]Admin_kap!$E13,0) -> 84 | K21: =[1]Aparáty_vzorce!C22 -> 465 | L21: =[1]Aparáty_vzorce!D22 -> 508 | M21: =ROUND([1]Aparáty_vzorce!$E22,0) -> 503 | N21: =[2]Limity_2020_vrátane_AK!$F22 -> 381 | O21: =L21-R21 -> 424 | P21: =M21-S21 -> 419 | Q21: =[2]Limity_2020_vrátane_AK!$G22 -> 84 | R21: =[1]Admin_kap!$C34 -> 84 | S21: =ROUND([1]Admin_kap!$E34,0) -> 84 | T21: =ROUND([1]Aparáty_vzorce!I22/1000,0) -> 6217 | U21: =ROUND([1]Aparáty_vzorce!J22/1000,0) -> 7433 | V21: 12144 | X21: =[3]mzdy_aparát_ÚO!H29 -> 0 | Y21: =X21-V21 -> -12144
A22: Ministerstvo školstva, vedy, výskumu a športu SR | B22: =[1]RO_Spolu_vzorce!$C23 -> 1575 | C22: =[1]RO_Spolu_vzorce!D23 -> 1645 | D22: =ROUND([1]RO_Spolu_vzorce!$E23,0) -> 1299 | E22: =[2]Limity_2020_vrátane_AK!$C23 -> 1267 | F22: =C22-I22 -> 1337 | G22: =D22-J22 -> 1088 | H22: =[2]Limity_2020_vrátane_AK!$D23 -> 308 | I22: =[1]Admin_kap!$C14 -> 308 | J22: =ROUND([1]Admin_kap!$E14,0) -> 211 | K22: =[1]Aparáty_vzorce!C23 -> 551 | L22: =[1]Aparáty_vzorce!D23 -> 645 | M22: =ROUND([1]Aparáty_vzorce!$E23,0) -> 521 | N22: =[2]Limity_2020_vrátane_AK!$F23 -> 453 | O22: =L22-R22 -> 522 | P22: =M22-S22 -> 412 | Q22: =[2]Limity_2020_vrátane_AK!$G23 -> 98 | R22: =[1]Admin_kap!$C35 -> 123 | S22: =ROUND([1]Admin_kap!$E35,0) -> 109 | T22: =ROUND([1]Aparáty_vzorce!I23/1000,0) -> 10935 | U22: =ROUND([1]Aparáty_vzorce!J23/1000,0) -> 11589 | V22: 15068 | X22: =[3]mzdy_aparát_ÚO!H30 -> 0 | Y22: =X22-V22 -> -15068
A23: Ministerstvo zdravotníctva SR | B23: =[1]RO_Spolu_vzorce!$C24 -> 2670 | C23: =[1]RO_Spolu_vzorce!D24 -> 3001 | D23: =ROUND([1]RO_Spolu_vzorce!$E24,0) -> 2648 | E23: =[2]Limity_2020_vrátane_AK!$C24 -> 2620 | F23: =C23-I23 -> 2951 | G23: =D23-J23 -> 2605 | H23: =[2]Limity_2020_vrátane_AK!$D24 -> 50 | I23: =[1]Admin_kap!$C15 -> 50 | J23: =ROUND([1]Admin_kap!$E15,0) -> 43 | K23: =[1]Aparáty_vzorce!C24 -> 384 | L23: =[1]Aparáty_vzorce!D24 -> 462 | M23: =ROUND([1]Aparáty_vzorce!$E24,0) -> 391 | N23: =[2]Limity_2020_vrátane_AK!$F24 -> 334 | O23: =L23-R23 -> 412 | P23: =M23-S23 -> 348 | Q23: =[2]Limity_2020_vrátane_AK!$G24 -> 50 | R23: =[1]Admin_kap!$C36 -> 50 | S23: =ROUND([1]Admin_kap!$E36,0) -> 43 | T23: =ROUND([1]Aparáty_vzorce!I24/1000,0) -> 9837 | U23: =ROUND([1]Aparáty_vzorce!J24/1000,0) -> 11399 | V23: 11976 | X23: =[3]mzdy_aparát_ÚO!H31 -> 0 | Y23: =X23-V23 -> -11976
A24: Ministerstvo práce, sociálnych vecí a rodiny SR | B24: =[1]RO_Spolu_vzorce!$C25 -> 12534 | C24: =[1]RO_Spolu_vzorce!D25 -> 14699 | D24: =ROUND([1]RO_Spolu_vzorce!$E25,0) -> 14642 | E24: =[2]Limity_2020_vrátane_AK!$C25 -> 12285 | F24: =C24-I24 -> 14442 | G24: =D24-J24 -> 14403 | H24: =[2]Limity_2020_vrátane_AK!$D25 -> 249 | I24: =[1]Admin_kap!$C16 -> 257 | J24: =ROUND([1]Admin_kap!$E16,0) -> 239 | K24: =[1]Aparáty_vzorce!C25 -> 531 | L24: =[1]Aparáty_vzorce!D25 -> 740 | M24: =ROUND([1]Aparáty_vzorce!$E25,0) -> 665 | N24: =[2]Limity_2020_vrátane_AK!$F25 -> 368 | O24: =L24-R24 -> 528 | P24: =M24-S24 -> 488 | Q24: =[2]Limity_2020_vrátane_AK!$G25 -> 163 | R24: =[1]Admin_kap!$C37 -> 212 | S24: =ROUND([1]Admin_kap!$E37,0) -> 177 | T24: =ROUND([1]Aparáty_vzorce!I25/1000,0) -> 8339 | U24: =ROUND([1]Aparáty_vzorce!J25/1000,0) -> 10764 | V24: 16520 | X24: =[3]mzdy_aparát_ÚO!H32 -> 0 | Y24: =X24-V24 -> -16520
A25: Ministerstvo kultúry SR | B25: =[1]RO_Spolu_vzorce!$C26 -> 1141 | C25: =[1]RO_Spolu_vzorce!D26 -> 1188 | D25: =ROUND([1]RO_Spolu_vzorce!$E26,0) -> 1173 | E25: =[2]Limity_2020_vrátane_AK!$C26 -> 1111 | F25: =C25-I25 -> 1156 | G25: =D25-J25 -> 1141 | H25: =[2]Limity_2020_vrátane_AK!$D26 -> 30 | I25: =[1]Admin_kap!$C17 -> 32 | J25: =ROUND([1]Admin_kap!$E17,0) -> 32 | K25: =[1]Aparáty_vzorce!C26 -> 192 | L25: =[1]Aparáty_vzorce!D26 -> 215 | M25: =ROUND([1]Aparáty_vzorce!$E26,0) -> 213 | N25: =[2]Limity_2020_vrátane_AK!$F26 -> 162 | O25: =L25-R25 -> 183 | P25: =M25-S25 -> 181 | Q25: =[2]Limity_2020_vrátane_AK!$G26 -> 30 | R25: =[1]Admin_kap!$C38 -> 32 | S25: =ROUND([1]Admin_kap!$E38,0) -> 32 | T25: =ROUND([1]Aparáty_vzorce!I26/1000,0) -> 3800 | U25: =ROUND([1]Aparáty_vzorce!J26/1000,0) -> 4332 | V25: 5093 | X25: =[3]mzdy_aparát_ÚO!H33 -> 0 | Y25: =X25-V25 -> -5093
A26: Ministerstvo hospodárstva SR | B26: =[1]RO_Spolu_vzorce!$C27 -> 885 | C26: =[1]RO_Spolu_vzorce!D27 -> 912 | D26: =ROUND([1]RO_Spolu_vzorce!$E27,0) -> 791 | E26: =[2]Limity_2020_vrátane_AK!$C27 -> 711 | F26: =C26-I26 -> 736 | G26: =D26-J26 -> 669 | H26: =[2]Limity_2020_vrátane_AK!$D27 -> 174 | I26: =[1]Admin_kap!$C18 -> 176 | J26: =ROUND([1]Admin_kap!$E18,0) -> 122 | K26: =[1]Aparáty_vzorce!C27 -> 525 | L26: =[1]Aparáty_vzorce!D27 -> 552 | M26: =ROUND([1]Aparáty_vzorce!$E27,0) -> 477 | N26: =[2]Limity_2020_vrátane_AK!$F27 -> 351 | O26: =L26-R26 -> 376 | P26: =M26-S26 -> 355 | Q26: =[2]Limity_2020_vrátane_AK!$G27 -> 174 | R26: =[1]Admin_kap!$C39 -> 176 | S26: =ROUND([1]Admin_kap!$E39,0) -> 122 | T26: =ROUND([1]Aparáty_vzorce!I27/1000,0) -> 7792 | U26: =ROUND([1]Aparáty_vzorce!J27/1000,0) -> 7813 | V26: 11976 | X26: =[3]mzdy_aparát_ÚO!H34 -> 0 | Y26: =X26-V26 -> -11976
A27: Ministerstvo pôdohospodárstva a rozvoja vidieka SR | B27: =[1]RO_Spolu_vzorce!$C28 -> 2704 | C27: =[1]RO_Spolu_vzorce!D28 -> 2513 | D27: =ROUND([1]RO_Spolu_vzorce!$E28,0) -> 2489 | E27: =[2]Limity_2020_vrátane_AK!$C28 -> 2608 | F27: =C27-I27 -> 2417 | G27: =D27-J27 -> 2397 | H27: =[2]Limity_2020_vrátane_AK!$D28 -> 96 | I27: =[1]Admin_kap!$C19 -> 96 | J27: =ROUND([1]Admin_kap!$E19,0) -> 92 | K27: =[1]Aparáty_vzorce!C28 -> 663 | L27: =[1]Aparáty_vzorce!D28 -> 452 | M27: =ROUND([1]Aparáty_vzorce!$E28,0) -> 378 | N27: =[2]Limity_2020_vrátane_AK!$F28 -> 629 | O27: =L27-R27 -> 418 | P27: =M27-S27 -> 348 | Q27: =[2]Limity_2020_vrátane_AK!$G28 -> 34 | R27: =[1]Admin_kap!$C40 -> 34 | S27: =ROUND([1]Admin_kap!$E40,0) -> 30 | T27: =ROUND([1]Aparáty_vzorce!I28/1000,0) -> 10683 | U27: =ROUND([1]Aparáty_vzorce!J28/1000,0) -> 9792 | V27: 10083 | X27: =[3]mzdy_aparát_ÚO!H35 -> 0 | Y27: =X27-V27 -> -10083
A28: Ministerstvo dopravy, výstavby a regionálneho rozvoja SR | B28: =[1]RO_Spolu_vzorce!$C29 -> 1358 | C28: =[1]RO_Spolu_vzorce!D29 -> 1447 | D28: =ROUND([1]RO_Spolu_vzorce!$E29,0) -> 1335 | E28: =[2]Limity_2020_vrátane_AK!$C29 -> 1275 | F28: =C28-I28 -> 1364 | G28: =D28-J28 -> 1257 | H28: =[2]Limity_2020_vrátane_AK!$D29 -> 83 | I28: =[1]Admin_kap!$C20 -> 83 | J28: =ROUND([1]Admin_kap!$E20,0) -> 78 | K28: =[1]Aparáty_vzorce!C29 -> 659 | L28: =[1]Aparáty_vzorce!D29 -> 677 | M28: =ROUND([1]Aparáty_vzorce!$E29,0) -> 608 | N28: =[2]Limity_2020_vrátane_AK!$F29 -> 576 | O28: =L28-R28 -> 594 | P28: =M28-S28 -> 530 | Q28: =[2]Limity_2020_vrátane_AK!$G29 -> 83 | R28: =[1]Admin_kap!$C41 -> 83 | S28: =ROUND([1]Admin_kap!$E41,0) -> 78 | T28: =ROUND([1]Aparáty_vzorce!I29/1000,0) -> 11585 | U28: =ROUND([1]Aparáty_vzorce!J29/1000,0) -> 11851 | V28: 15322 | X28: =[3]mzdy_aparát_ÚO!H36 -> 0 | Y28: =X28-V28 -> -15322
A29: Úrad geodézie, kartografie a katastra SR | B29: =[1]RO_Spolu_vzorce!$C30 -> 231 | C29: =[1]RO_Spolu_vzorce!D30 -> 231 | D29: =ROUND([1]RO_Spolu_vzorce!$E30,0) -> 222 | E29: =[2]Limity_2020_vrátane_AK!$C30 -> 231 | F29: =C29-I29 -> 231 | G29: =D29-J29 -> 222 | K29: =[1]Aparáty_vzorce!C30 -> 67 | L29: =[1]Aparáty_vzorce!D30 -> 70 | M29: =ROUND([1]Aparáty_vzorce!$E30,0) -> 67 | N29: =[2]Limity_2020_vrátane_AK!$F30 -> 67 | O29: =L29-R29 -> 70 | P29: =M29-S29 -> 67 | T29: =ROUND([1]Aparáty_vzorce!I30/1000,0) -> 1814 | U29: =ROUND([1]Aparáty_vzorce!J30/1000,0) -> 1907 | V29: 1873 | X29: =[3]mzdy_aparát_ÚO!H37 -> 0 | Y29: =X29-V29 -> -1873
A30: Štatistický úrad SR | B30: =[1]RO_Spolu_vzorce!$C31 -> 793 | C30: =[1]RO_Spolu_vzorce!D31 -> 799 | D30: =ROUND([1]RO_Spolu_vzorce!$E31,0) -> 766 | E30: =[2]Limity_2020_vrátane_AK!$C31 -> 793 | F30: =C30-I30 -> 799 | G30: =D30-J30 -> 766 | K30: =[1]Aparáty_vzorce!C31 -> 793 | L30: =[1]Aparáty_vzorce!D31 -> 799 | M30: =ROUND([1]Aparáty_vzorce!$E31,0) -> 766 | N30: =[2]Limity_2020_vrátane_AK!$F31 -> 793 | O30: =L30-R30 -> 799 | P30: =M30-S30 -> 766 | T30: =ROUND([1]Aparáty_vzorce!I31/1000,0) -> 12887 | U30: =ROUND([1]Aparáty_vzorce!J31/1000,0) -> 13269 | V30: 13270 | X30: =[3]mzdy_aparát_ÚO!H38 -> 0 | Y30: =X30-V30 -> -13270
A31: Úrad pre verejné obstarávanie | B31: =[1]RO_Spolu_vzorce!$C32 -> 229 | C31: =[1]RO_Spolu_vzorce!D32 -> 228 | D31: =ROUND([1]RO_Spolu_vzorce!$E32,0) -> 210 | E31: =[2]Limity_2020_vrátane_AK!$C32 -> 219 | F31: =C31-I31 -> 218 | G31: =D31-J31 -> 200 | H31: =[2]Limity_2020_vrátane_AK!$D32 -> 10 | I31: =[1]Admin_kap!$C21 -> 10 | J31: =ROUND([1]Admin_kap!$E21,0) -> 10 | K31: =[1]Aparáty_vzorce!C32 -> 229 | L31: =[1]Aparáty_vzorce!D32 -> 228 | M31: =ROUND([1]Aparáty_vzorce!$E32,0) -> 210 | N31: =[2]Limity_2020_vrátane_AK!$F32 -> 219 | O31: =L31-R31 -> 218 | P31: =M31-S31 -> 200 | Q31: =[2]Limity_2020_vrátane_AK!$G32 -> 10 | R31: =[1]Admin_kap!$C42 -> 10 | S31: =ROUND([1]Admin_kap!$E42,0) -> 10 | T31: =ROUND([1]Aparáty_vzorce!I32/1000,0) -> 5464 | U31: =ROUND([1]Aparáty_vzorce!J32/1000,0) -> 5529 | V31: 6643 | X31: =[3]mzdy_aparát_ÚO!H39 -> 0 | Y31: =X31-V31 -> -6643
A32: Úrad pre reguláciu sieťových odvetví | B32: =[1]RO_Spolu_vzorce!$C33 -> 112 | C32: =[1]RO_Spolu_vzorce!D33 -> 112 | D32: =ROUND([1]RO_Spolu_vzorce!$E33,0) -> 106 | E32: =[2]Limity_2020_vrátane_AK!$C33 -> 112 | F32: =C32-I32 -> 112 | G32: =D32-J32 -> 106 | V32: 0 | X32: =[3]mzdy_aparát_ÚO!H40 -> 0 | Y32: =X32-V32 -> 0
A33: Úrad jadrového dozoru SR | B33: =[1]RO_Spolu_vzorce!$C34 -> 125 | C33: =[1]RO_Spolu_vzorce!D34 -> 124 | D33: =ROUND([1]RO_Spolu_vzorce!$E34,0) -> 118 | E33: =[2]Limity_2020_vrátane_AK!$C34 -> 125 | F33: =C33-I33 -> 124 | G33: =D33-J33 -> 118 | K33: =[1]Aparáty_vzorce!C34 -> 125 | L33: =[1]Aparáty_vzorce!D34 -> 124 | M33: =ROUND([1]Aparáty_vzorce!$E34,0) -> 118 | N33: =[2]Limity_2020_vrátane_AK!$F34 -> 125 | O33: =L33-R33 -> 124 | P33: =M33-S33 -> 118 | T33: =ROUND([1]Aparáty_vzorce!I34/1000,0) -> 3897 | U33: =ROUND([1]Aparáty_vzorce!J34/1000,0) -> 3871 | V33: 3777 | X33: =[3]mzdy_aparát_ÚO!H41 -> 0 | Y33: =X33-V33 -> -3777
A34: Úrad priemyselného vlastníctva SR | B34: =[1]RO_Spolu_vzorce!$C35 -> 123 | C34: =[1]RO_Spolu_vzorce!D35 -> 123 | D34: =ROUND([1]RO_Spolu_vzorce!$E35,0) -> 119 | E34: =[2]Limity_2020_vrátane_AK!$C35 -> 123 | F34: =C34-I34 -> 123 | G34: =D34-J34 -> 119 | K34: =[1]Aparáty_vzorce!C35 -> 123 | L34: =[1]Aparáty_vzorce!D35 -> 123 | M34: =ROUND([1]Aparáty_vzorce!$E35,0) -> 119 | N34: =[2]Limity_2020_vrátane_AK!$F35 -> 123 | O34: =L34-R34 -> 123 | P34: =M34-S34 -> 119 | T34: =ROUND([1]Aparáty_vzorce!I35/1000,0) -> 2034 | U34: =ROUND([1]Aparáty_vzorce!J35/1000,0) -> 2073 | V34: 2119 | X34: =[3]mzdy_aparát_ÚO!H42 -> 0 | Y34: =X34-V34 -> -2119
A35: Úrad pre normalizáciu, metrológiu a skúšobníctvo SR | B35: =[1]RO_Spolu_vzorce!$C36 -> 108 | C35: =[1]RO_Spolu_vzorce!D36 -> 114 | D35: =ROUND([1]RO_Spolu_vzorce!$E36,0) -> 114 | E35: =[2]Limity_2020_vrátane_AK!$C36 -> 108 | F35: =C35-I35 -> 114 | G35: =D35-J35 -> 114 | K35: =[1]Aparáty_vzorce!C36 -> 88 | L35: =[1]Aparáty_vzorce!D36 -> 95 | M35: =ROUND([1]Aparáty_vzorce!$E36,0) -> 95 | N35: =[2]Limity_2020_vrátane_AK!$F36 -> 88 | O35: =L35-R35 -> 95 | P35: =M35-S35 -> 95 | T35: =ROUND([1]Aparáty_vzorce!I36/1000,0) -> 2103 | U35: =ROUND([1]Aparáty_vzorce!J36/1000,0) -> 2133 | V35: 2440 | X35: =[3]mzdy_aparát_ÚO!H43 -> 0 | Y35: =X35-V35 -> -2440
A36: Protimonopolný úrad SR | B36: =[1]RO_Spolu_vzorce!$C37 -> 79 | C36: =[1]RO_Spolu_vzorce!D37 -> 79 | D36: =ROUND([1]RO_Spolu_vzorce!$E37,0) -> 74 | E36: =[2]Limity_2020_vrátane_AK!$C37 -> 70 | F36: =C36-I36 -> 70 | G36: =D36-J36 -> 66 | H36: =[2]Limity_2020_vrátane_AK!$D37 -> 9 | I36: =[1]Admin_kap!$C22 -> 9 | J36: =ROUND([1]Admin_kap!$E22,0) -> 8 | K36: =[1]Aparáty_vzorce!C37 -> 79 | L36: =[1]Aparáty_vzorce!D37 -> 79 | M36: =ROUND([1]Aparáty_vzorce!$E37,0) -> 74 | N36: =[2]Limity_2020_vrátane_AK!$F37 -> 70 | O36: =L36-R36 -> 70 | P36: =M36-S36 -> 66 | Q36: =[2]Limity_2020_vrátane_AK!$G37 -> 9 | R36: =[1]Admin_kap!$C$43 -> 9 | S36: =ROUND([1]Admin_kap!$E43,0) -> 8 | T36: =ROUND([1]Aparáty_vzorce!I37/1000,0) -> 1656 | U36: =ROUND([1]Aparáty_vzorce!J37/1000,0) -> 1679 | V36: 1928 | X36: =[3]mzdy_aparát_ÚO!H44 -> 0 | Y36: =X36-V36 -> -1928
A37: Národný bezpečnostný úrad | B37: =[1]RO_Spolu_vzorce!$C38 -> 238 | C37: =[1]RO_Spolu_vzorce!D38 -> 245 | D37: =ROUND([1]RO_Spolu_vzorce!$E38,0) -> 214 | E37: =[2]Limity_2020_vrátane_AK!$C38 -> 238 | F37: =C37-I37 -> 245 | G37: =D37-J37 -> 214 | K37: =[1]Aparáty_vzorce!C38 -> 238 | L37: =[1]Aparáty_vzorce!D38 -> 245 | M37: =ROUND([1]Aparáty_vzorce!$E38,0) -> 214 | N37: =[2]Limity_2020_vrátane_AK!$F38 -> 238 | O37: =L37-R37 -> 245 | P37: =M37-S37 -> 214 | T37: =ROUND([1]Aparáty_vzorce!I38/1000,0) -> 6493 | U37: =ROUND([1]Aparáty_vzorce!J38/1000,0) -> 6562 | V37: 6311 | X37: =[3]mzdy_aparát_ÚO!H45 -> 0 | Y37: =X37-V37 -> -6311
A38: Správa štátnych hmotných rezerv SR | B38: =[1]RO_Spolu_vzorce!$C39 -> 100 | C38: =[1]RO_Spolu_vzorce!D39 -> 100 | D38: =ROUND([1]RO_Spolu_vzorce!$E39,0) -> 91 | E38: =[2]Limity_2020_vrátane_AK!$C39 -> 100 | F38: =C38-I38 -> 100 | G38: =D38-J38 -> 91 | K38: =[1]Aparáty_vzorce!C39 -> 100 | L38: =[1]Aparáty_vzorce!D39 -> 100 | M38: =ROUND([1]Aparáty_vzorce!$E39,0) -> 91 | N38: =[2]Limity_2020_vrátane_AK!$F39 -> 100 | O38: =L38-R38 -> 100 | P38: =M38-S38 -> 91 | T38: =ROUND([1]Aparáty_vzorce!I39/1000,0) -> 1692 | U38: =ROUND([1]Aparáty_vzorce!J39/1000,0) -> 1851 | V38: 1925 | X38: =[3]mzdy_aparát_ÚO!H48 -> 0 | Y38: =X38-V38 -> -1925
A39: Všeobecná pokladničná správa | B39: =SUM(B40:B43) -> 130 | C39: =SUM(C40:C43) -> 141 | D39: =SUM(D40:D43) -> 126 | E39: =SUM(E40:E43) -> 130 | F39: =SUM(F40:F43) -> 141 | G39: =SUM(G40:G43) -> 126 | V39: 0 | Y39: =X39-V39 -> 0
A40: Kancelária verejného ochrancu práv | B40: =[1]RO_Spolu_vzorce!$C40 -> 52 | C40: =[1]RO_Spolu_vzorce!D40 -> 52 | D40: =ROUND([1]RO_Spolu_vzorce!$E40,0) -> 44 | E40: =[2]Limity_2020_vrátane_AK!$C41 -> 52 | F40: =C40-I40 -> 52 | G40: =D40-J40 -> 44 | V40: 0 | X40: =[3]mzdy_aparát_ÚO!H49 -> 0 | Y40: =X40-V40 -> 0
A41: Rada pre vysielanie a retransmisiu | B41: =[1]RO_Spolu_vzorce!$C41 -> 32 | C41: =[1]RO_Spolu_vzorce!D41 -> 32 | D41: =ROUND([1]RO_Spolu_vzorce!$E41,0) -> 30 | E41: =[2]Limity_2020_vrátane_AK!$C42 -> 32 | F41: =C41-I41 -> 32 | G41: =D41-J41 -> 30 | V41: 0 | X41: =[3]mzdy_aparát_ÚO!H50 -> 0 | Y41: =X41-V41 -> 0
A42: Úrad na ochranu osobných údajov | B42: =[1]RO_Spolu_vzorce!$C42 -> 46 | C42: =[1]RO_Spolu_vzorce!D42 -> 46 | D42: =ROUND([1]RO_Spolu_vzorce!$E42,0) -> 45 | E42: =[2]Limity_2020_vrátane_AK!$C43 -> 46 | F42: =C42-I42 -> 46 | G42: =D42-J42 -> 45 | V42: 0 | X42: =[3]mzdy_aparát_ÚO!H51 -> 0 | Y42: =X42-V42 -> 0
A43: Úrad na ochranu oznamovateľov protispoločenskej činnosti | B43: =[1]RO_Spolu_vzorce!$C43 -> 0 | C43: =[1]RO_Spolu_vzorce!D43 -> 11 | D43: =ROUND([1]RO_Spolu_vzorce!$E43,0) -> 7 | F43: =C43-I43 -> 11 | G43: =D43-J43 -> 7 | V43: 0 | X43: =[3]mzdy_aparát_ÚO!H52 -> 0
A44: Slovenská akadémia vied | B44: =[1]RO_Spolu_vzorce!$C44 -> 847 | C44: =[1]RO_Spolu_vzorce!D44 -> 847 | D44: =ROUND([1]RO_Spolu_vzorce!$E44,0) -> 847 | E44: =[2]Limity_2020_vrátane_AK!$C44 -> 847 | F44: =C44-I44 -> 847 | G44: =D44-J44 -> 847 | V44: 0 | X44: =[3]mzdy_aparát_ÚO!H53 -> 0 | Y44: =X44-V44 -> 0
A45: Kancelária Súdnej rady SR | B45: =[1]RO_Spolu_vzorce!$C45 -> 26 | C45: =[1]RO_Spolu_vzorce!D45 -> 47 | D45: =ROUND([1]RO_Spolu_vzorce!$E45,0) -> 35 | E45: =[2]Limity_2020_vrátane_AK!$C45 -> 26 | F45: =C45-I45 -> 47 | G45: =D45-J45 -> 35 | V45: 0 | X45: =[3]mzdy_aparát_ÚO!H54 -> 0 | Y45: =X45-V45 -> 0
A46: Kancelária Najvyššieho správneho súdu SR | B46: =[1]RO_Spolu_vzorce!$C46 -> 0 | C46: =[1]RO_Spolu_vzorce!D46 -> 40 | D46: =ROUND([1]RO_Spolu_vzorce!$E46,0) -> 31 | F46: =C46-I46 -> 40 | G46: =D46-J46 -> 31 | K46: =[1]Aparáty_vzorce!C46 -> 0 | L46: =[1]Aparáty_vzorce!D46 -> 40 | M46: =ROUND([1]Aparáty_vzorce!$E46,0) -> 31 | O46: =L46-R46 -> 40 | P46: =M46-S46 -> 31 | T46: =ROUND([1]Aparáty_vzorce!I46/1000,0) -> 0 | U46: =ROUND([1]Aparáty_vzorce!J46/1000,0) -> 1286 | V46: 1249 | X46: =[3]mzdy_aparát_ÚO!H55 -> 0
A47: SPOLU | B47: =SUM(B8:B39,B44:B46) -> 125716 | C47: =SUM(C8:C39,C44:C46) -> 131399 | D47: =SUM(D8:D39,D44:D46) -> 124261 | E47: =SUM(E8:E39,E44:E46) -> 124126 | F47: =SUM(F8:F39,F44:F46) -> 129777 | G47: =D47-J47 -> 122886 | H47: =SUM(H8:H39,H44:H46) -> 1590 | I47: =SUM(I8:I39,I44:I46) -> 1622 | J47: =SUM(J8:J39,J44:J46) -> 1375 | K47: =SUM(K8:K39,K44:K46) -> 12842 | L47: =SUM(L8:L39,L44:L46) -> 13884 | M47: =SUM(M8:M39,M44:M46) -> 12385 | N47: =SUM(N8:N39,N44:N46) -> 11688 | O47: =SUM(O8:O39,O44:O46) -> 12640 | P47: =M47-S47 -> 11321 | Q47: =SUM(Q8:Q39,Q44:Q46) -> 1154 | R47: =SUM(R8:R39,R44:R46) -> 1244 | S47: =SUM(S8:S39,S44:S46) -> 1064 | T47: =SUM(T8:T39,T44:T46) -> 287150 | U47: =SUM(U8:U39,U44:U46) -> 310533 | V47: =SUM(V8:V39,V44:V46) -> 356895 | X47: =SUM(X8:X39,X44:X46) -> 0 | Y47: =SUM(Y8:Y39,Y44:Y46) -> -355646
A49: */ v súlade s UV SR č. 181/2017 v znení UV SR č. 355/2020 a UV SR č. 489/2021, ktorým sa osobitne sledujú tie počty administratívnych kapacít, o ktoré boli limity počtu zamestnancov kapitolám štátneho rozpočtu zvýšené bez finančného zabezpečenia zo zdroja 111
A50: Poznámka: v kapitolách sú čísla zaokrúhľované matematicky

Sheet Tab. č. 24
A1: Prehľad o čerpaní miezd, platov, služobných príjmov a ostatných osobných vyrovnaní
A2: v kapitolách ŠR za rok 2021
A3: (v tis. eur)
A8: Kapitola štátneho rozpočtu | C8: 610 - MZDY,PLATY,SLUŽOBNÉ PRÍJMY A OSTATNÉ OSOBNÉ VYROVNANIA
C10: Schválený rozpočet | D10: Upravený rozpočet | E10: Skutočnosť | F10: % k upravenému rozpočtu
B11: č.kap. | E11: Skutoč.
A12: Kancelária Národnej rady SR | B12: 2101 | C12: 18627 | D12: 19150 | E12: 19146 | F12: 99.979112
A13: Kancelária prezidenta SR | B13: 2102 | C13: 2394 | D13: 2758 | E13: 2757 | F13: 99.963742
A14: Úrad vlády SR | B14: 2103 | C14: 11769 | D14: 15685 | E14: 14509 | F14: 92.502391
A15: Úrad podpredsedu vlády SR pre investície a informatizáciu | B15: 2104 | C15: 9311 | D15: 22123 | E15: 21856 | F15: 98.793111
A16: Kancelária Ústatného súdu SR | B16: 2105 | C16: 3537 | D16: 3779 | E16: 3778 | F16: 99.973538
A17: Najvyšší súd SR | B17: 2106 | C17: 10466 | D17: 9202 | E17: 9201 | F17: 99.989133
A18: Generálna prokuratúra SR | B18: 2107 | C18: 72791 | D18: 70349 | E18: 69336 | F18: 98.560036
A19: Najvyšší kontrolný úrad SR | B19: 2108 | C19: 6832 | D19: 7647 | E19: 7647 | F19: 100
A20: Ministerstvo zahraničných vecí a európskych záležitostí SR | B20: 2110 | C20: 55305 | D20: 57646 | E20: 57605 | F20: 99.928876
A21: Ministerstvo obrany SR | B21: 2111 | C21: 433590 | D21: 446285 | E21: 446030 | F21: 99.942862
A22: Ministerstvo vnútra SR | B22: 2112 | C22: 926431 | D22: 968860 | E22: 968842 | F22: 99.998142
A23: Ministerstvo spravodlivosti SR | B23: 2113 | C23: 262366 | D23: 278167 | E23: 278044 | F23: 99.955782
... A46: Kancelária Najvyššieho správneho súdu SR | B46: 2156 | C46: 0 | D46: 1286 | E46: 1249 | F46: 97.122862
A47: S P O L U | C47: 2499334 | D47: 2667022 | E47: 2624189 | F47: 98.393977

Sheet Tab. č. 25,26,27,28
G1: Tabuľka: 25
G2: Strana: 1
A4: Systemizácia príslušníkov finančnej správy za rok 2021
A6: Kapitola štátneho rozpočtu | B6: Počet miest spolu (osoby) | E6: Objem finančných prostriedkov na služobné príjmy (v tis. eur)
B7: Schválený rozpočet | C7: Upravený rozpočet | D7: Skutočnosť | E7: Schválený rozpočet | F7: Upravený rozpočet | G7: Skutočnosť
A8: Ministerstvo financií SR | B8: =SUM(B9:B10) -> 8586 | C8: =SUM(C9:C10) -> 8674 | D8: =SUM(D9:D10) -> 7998 | E8: =('[4]MZDA 2021 RO (suma) s RŠ'!$Q$30+'[4]MZDA 2021 RO (suma) s RŠ'!$R$30)/1000 -> 181512.41 | F8: =SUM(F9:F10) -> 185089 | G8: =SUM(G9:G10) -> 176787
A9: z toho: ozbrojení príslušníci finančnej správy | B9: ='[4]ZAM 2021 RO (suma) s RŠ'!$O$30 -> 3161 | C9: 3181 | D9: =[1]MF!$D$16 -> 2811 | E9: =ROUND('[4]MZDA 2021 RO (suma) s RŠ'!$Q$30/1000,0) -> 69820 | F9: 70525 | G9: =ROUND([1]MF!$D$31/1000,0) -> 67705
A10: neozbrojení príslušníci finančnej správy | B10: ='[4]ZAM 2021 RO (suma) s RŠ'!$P$30 -> 5425 | C10: 5493 | D10: =[1]MF!$D$17 -> 5187 | E10: =ROUND('[4]MZDA 2021 RO (suma) s RŠ'!$R$30/1000,0) -> 111692 | F10: 114564 | G10: =ROUND([1]MF!$D$32/1000,0) -> 109082
G12: Tabuľka: 26
G13: Strana: 1
A15: Systemizácia príslušníkov Hasičského a záchranného zboru a príslušníkov Horskej záchrannej služby v štátnej službe za rok 2021
A17: Kapitola štátneho rozpočtu | B17: Počet miest spolu (osoby) | E17: Objem finančných prostriedkov na služobné príjmy v štátnej službe (v tis. eur)
B18: Schválený rozpočet | C18: Upravený rozpočet | D18: Skutočnosť | E18: Schválený rozpočet | F18: Upravený rozpočet | G18: Skutočnosť
A19: Ministerstvo vnútra SR | B19: ='[4]ZAM 2021 RO (suma) s RŠ'!$N$26 -> 4609 | C19: 4609 | D19: =[1]MV!$D$18 -> 4330.8 | E19: =ROUND('[4]MZDA 2021 RO (suma) s RŠ'!$P$26/1000,0) -> 92758 | F19: 94738 | G19: =ROUND([1]MV!$D$33/1000,0) -> 96610
G23: Tabuľka: 27
G24: Strana: 1
A26: Systemizácia policajtov v štátnej službe za rok 2021
A28: Kapitola štátneho rozpočtu | B28: Počet miest spolu (osoby) | E28: Objem finančných prostriedkov na služobné príjmy v štátnej službe (v tis. eur)
B29: Schválený rozpočet | C29: Upravený rozpočet | D29: Skutočnosť | E29: Schválený rozpočet | F29: Upravený rozpočet | G29: Skutočnosť
A30: Ministerstvo vnútra SR | B30: ='[4]ZAM 2021 RO (suma) s RŠ'!$Q$26 -> 23200 | C30: 23193 | D30: =[1]MV!$D$14 -> 20488.1 | E30: =ROUND('[4]MZDA 2021 RO (suma) s RŠ'!$S$26/1000,0) -> 522562 | F30: 492104 | G30: =ROUND([1]MV!$D$29/1000,0)-31 -> 509854
A31: Ministerstvo spravodlivosti SR | B31: ='[4]ZAM 2021 RO (suma) s RŠ'!$Q$29 -> 5146 | C31: 5146 | D31: =[1]MS!$D$14 -> 4798.2 | E31: =ROUND('[4]MZDA 2021 RO (suma) s RŠ'!$S$29/1000,0) -> 110205 | F31: 111878 | G31: =ROUND([1]MS!$D$29/1000,0)-723 -> 110761
A32: Národný bezpečnostný úrad | B32: ='[4]ZAM 2021 RO (suma) s RŠ'!$Q$49 -> 216 | C32: 228 | D32: =[1]NBÚ!$D$14+2 -> 194.3 | E32: =ROUND('[4]MZDA 2021 RO (suma) s RŠ'!$S$49/1000,0) -> 5905 | F32: 5972 | G32: =ROUND([1]NBÚ!$D$29/1000,0) -> 5809
G36: Tabuľka: 28
G37: Strana: 1
A39: Systemizácia profesionálnych vojakov v štátnej službe na rok 2021
A41: Kapitola štátneho rozpočtu | B41: Počet miest profesionálnych vojakov (osoby) | E41: Objem finančných prostriedkov na platy profesionálnych vojakov (v tis. eur)
B42: Schválený rozpočet | C42: Upravený rozpočet | D42: Skutočnosť | E42: Schválený rozpočet | F42: Upravený rozpočet | G42: Skutočnosť
A43: Ministerstvo obrany SR | B43: ='[4]ZAM 2021 RO (suma) s RŠ'!$R$25 -> 14100 | C43: 14100 | D43: =[1]MO!$D$15 -> 14091.7 | E43: =ROUND('[4]MZDA 2021 RO (suma) s RŠ'!$V$25/1000,0) -> 347212 | F43: 347776 | G43: =ROUND([1]MO!$D$30/1000,0)-2 -> 347776

Sheet Tab. č. 29
C2: Príjmy štátnych príspevkových organizácií podľa kategórií a | O2: Príjmy štátnych príspevkových organizácií podľa kategórií a | X2: Príjmy štátnych príspevkových organizácií podľa kategórií a
C3: kapitol ŠR za rok 2021 | O3: kapitol ŠR za rok 2021 | X3: kapitol ŠR za rok 2021
C4: (v tis. eur) | O4: (v tis. eur) | X4: (v tis. eur)
A9: Kapitola štátneho rozpočtu | C9: 210 - PRÍJMY Z PODNIKANIA A Z VLASTNÍCTVA MAJETKU | F9: 220 - ADMINISTRATÍVNE POPLATKY A INÉ POPLATKY A PLATBY | I9: 230 - KAPITÁLOVÉ PRÍJMY | L9: 240 - ÚROKY Z TUZEMSKÝCH ÚVEROV, PÔŽIČIEK, NÁV. FIN. VÝPOMOCÍ, VKLADOV A ÁŽIO | O9: 250 - ÚROKY ZO ZAHRANIĆNÝCH ÚVEROV, PÔŽIČIEK, NÁV. FIN. VÝPOMOCÍ A VKLADOV | R9: 290 - INÉ NEDAŇOVÉ PRÍJMY | U9: 200 - NEDAŇOVÉ PRÍJMY | X9: 300 - GRANTY A TRANSFERY | AA9: PRÍJMY SPOLU
B11: č.kap. | C11: Rozpočet | D11: Skutočnosť | E11: % plnenia | F11: Rozpočet | G11: Skutočnosť | H11: % plnenia | I11: Rozpočet | J11: Skutočnosť | K11: % plnenia | L11: Rozpočet | M11: Skutočnosť | N11: % plnenia | O11: Rozpočet | P11: Skutočnosť | Q11: % plnenia | R11: Rozpočet | S11: Skutočnosť | T11: % plnenia | U11: Rozpočet | V11: Skutočnosť | W11: % plnenia | X11: Rozpočet | Y11: Skutočnosť | Z11: % plnenia | AA11: Rozpočet | AB11: Skutočnosť | AC11: % plnenia
A12: Ministerstvo investícií, regionálneho rozvoja a informatizácie | B12: 2204 | C12: 0 | D12: 0 | E12: 0 | F12: 0 | G12: 1373 | H12: 0 | I12: 0 | J12: 0 | K12: 0 | L12: 0 | M12: 0 | N12: 0 | O12: 0 | P12: 0 | Q12: 0 | R12: 0 | S12: 331 | T12: 0 | U12: 0 | V12: 1704 | W12: 0 | X12: 34757 | Y12: 43856 | Z12: 126.1789 | AA12: 34757 | AB12: 45560 | AC12: 131.08151
A13: Ministerstvo zahraničných vecí a európskych záležitostí SR | B13: 2210 | C13: 2 | D13: 2 | E13: 100 | F13: 1415 | G13: 474 | H13: 33.498233 | I13: 0 | J13: 0 | K13: 0 | L13: 0 | M13: 0 | N13: 0 | O13: 0 | P13: 0 | Q13: 0 | R13: 0 | S13: 0 | T13: 0 | U13: 1417 | V13: 476 | W13: 33.592096 | X13: 1952 | Y13: 2417 | Z13: 123.82172 | AA13: 3369 | AB13: 2893 | AC13: 85.871178
A14: Ministerstvo obrany SR | B14: 2211 | C14: 657 | D14: 1008 | E14: 153.42466 | F14: 66223 | G14: 63661 | H14: 96.131253 | I14: 550 | J14: 530 | K14: 96.363636 | L14: 1 | M14: 2 | N14: 200 | O14: 0 | P14: 0 | Q14: 0 | R14: 150 | S14: 372 | T14: 248 | U14: 67581 | V14: 65573 | W14: 97.028751 | X14: 300 | Y14: 15582 | Z14: 5194 | AA14: 67881 | AB14: 81155 | AC14: 119.55481
